BEGIN:VCALENDAR
VERSION:2.0
PRODID:-//ILSC Greystone Student Connect - ECPv6.9.1//NONSGML v1.0//EN
CALSCALE:GREGORIAN
METHOD:PUBLISH
X-WR-CALNAME:ILSC Greystone Student Connect
X-ORIGINAL-URL:https://student.ilsceducation.com
X-WR-CALDESC:Events for ILSC Greystone Student Connect
REFRESH-INTERVAL;VALUE=DURATION:PT1H
X-Robots-Tag:noindex
X-PUBLISHED-TTL:PT1H
BEGIN:VTIMEZONE
TZID:Australia/Melbourne
BEGIN:STANDARD
TZOFFSETFROM:+1100
TZOFFSETTO:+1000
TZNAME:AEST
DTSTART:20250405T160000
END:STANDARD
BEGIN:DAYLIGHT
TZOFFSETFROM:+1000
TZOFFSETTO:+1100
TZNAME:AEDT
DTSTART:20251004T160000
END:DAYLIGHT
TZID:Australia/Sydney
BEGIN:STANDARD
TZOFFSETFROM:+1100
TZOFFSETTO:+1000
TZNAME:AEST
DTSTART:20250405T160000
END:STANDARD
BEGIN:DAYLIGHT
TZOFFSETFROM:+1000
TZOFFSETTO:+1100
TZNAME:AEDT
DTSTART:20251004T160000
END:DAYLIGHT
TZID:Australia/Perth
BEGIN:STANDARD
TZOFFSETFROM:+0800
TZOFFSETTO:+0800
TZNAME:AWST
DTSTART:20250101T000000
END:STANDARD
TZID:Australia/Adelaide
BEGIN:STANDARD
TZOFFSETFROM:+1030
TZOFFSETTO:+0930
TZNAME:ACST
DTSTART:20250405T163000
END:STANDARD
BEGIN:DAYLIGHT
TZOFFSETFROM:+0930
TZOFFSETTO:+1030
TZNAME:ACDT
DTSTART:20251004T163000
END:DAYLIGHT
TZID:Australia/Brisbane
BEGIN:STANDARD
TZOFFSETFROM:+1000
TZOFFSETTO:+1000
TZNAME:AEST
DTSTART:20250101T000000
END:STANDARD
TZID:America/Vancouver
BEGIN:DAYLIGHT
TZOFFSETFROM:-0800
TZOFFSETTO:-0700
TZNAME:PDT
DTSTART:20250309T100000
END:DAYLIGHT
BEGIN:STANDARD
TZOFFSETFROM:-0700
TZOFFSETTO:-0800
TZNAME:PST
DTSTART:20251102T090000
END:STANDARD
END:VTIMEZONE
BEGIN:VEVENT
DTSTART;TZID=Australia/Melbourne:20250818T130000
DTEND;TZID=Australia/Melbourne:20250821T210000
DTSTAMP:20260419T195330
CREATED:20250815T212233Z
LAST-MODIFIED:20250815T212233Z
UID:10000785-1755522000-1755810000@student.ilsceducation.com
SUMMARY:MEL Academic Workshops 18th AUG - 21st Aug 2025
DESCRIPTION:Join Our Melbourne On-Campus Workshops!  \nHey Greystone College students! ✨Don’t miss out on our exciting range of FREE workshops running 18th – 21st August 2025 at our Melbourne campus! \n Learn\, connect\, and grow with topics like:✅ Workplace Diversity ✅ Project Management ️✅ Sales Techniques ✅ Networking Skills ✅ Digital Content Creation ️ …and so much more! \n Where? Melbourne Campus – check your workshop calendar for rooms. When? Multiple sessions at 2:00pm–2:45pm & 6:00pm–6:45pm. \nThis is your chance to: Gain new skills Meet fellow students Boost your career potential \n Mark your calendar & be there!We can’t wait to see you in class!
URL:https://student.ilsceducation.com/event/mel-academic-workshops-18th-aug-21st-aug-2025/
LOCATION:Melbourne Campus\, Level 7/120 Spencer St\, Melbourne\, VIC\, 3000\, Australia
CATEGORIES:Greystone College Australia Activities,Greystone College Melbourne Activities
END:VEVENT
BEGIN:VEVENT
DTSTART;TZID=Australia/Sydney:20250818T130000
DTEND;TZID=Australia/Sydney:20250821T210000
DTSTAMP:20260419T195330
CREATED:20250815T212405Z
LAST-MODIFIED:20250815T212405Z
UID:10000786-1755522000-1755810000@student.ilsceducation.com
SUMMARY:SYD Academic Workshops 18th AUG - 21st Aug 2025
DESCRIPTION:Sydney On-Campus Workshops – Week 2 18th – 21st August 2025 at Greystone College Sydney  \nGet ready to learn\, connect & have fun with our exciting line-up of FREE workshops!  \n This week’s highlights include:✅ Financial Literacy & Life Skills ✅ Elevator Pitch Challenge ✅ Business Mistakes That Made Millions ✅ Boss or Buddy? First-Time Leadership ✅ Time Management ✅ Everyday English Skills ️✅ Digital Tools for Business ✅ Study Skills for Success ✅ Understanding Your Rights at Work ⚖️ \n Times: 2:00pm–2:45pm & 6:00pm–6:45pm Where: Sydney Campus – see workshop calendar for rooms \n✨ Why join? Boost your skills Meet new people Have fun while learning! \n Mark your calendars and don’t miss out – see you there!
URL:https://student.ilsceducation.com/event/syd-academic-workshops-18th-aug-21st-aug-2025/
LOCATION:Sydney Campus\, Level 6/532-540 George St\, Sydney\, NSW\, 2000\, Australia
CATEGORIES:Greystone College Australia Activities,Greystone College Sydney Activities
END:VEVENT
BEGIN:VEVENT
DTSTART;TZID=Australia/Perth:20250818T130000
DTEND;TZID=Australia/Perth:20250821T210000
DTSTAMP:20260419T195330
CREATED:20250815T212526Z
LAST-MODIFIED:20250815T212526Z
UID:10000787-1755522000-1755810000@student.ilsceducation.com
SUMMARY:PER Academic Workshops 18th AUG - 21st Aug 2025
DESCRIPTION:Perth On-Campus Workshops – Week 2 18th – 21st August 2025 at Greystone College Perth ✨ \nJoin us for a week of fun\, learning & skill-building designed just for you\, our amazing international students!  \n This week’s line-up includes:✅ The Elevator Pitch Challenge  – Learn how to confidently sell your ideas!✅ Understanding Your Task 3  – Get clarity and boost your assessment skills.✅ Leadership Essentials  – Build strong leadership skills to manage teams effectively. \n Where? Room 6 – Perth Campus When? 2:00pm–2:45pm (check the schedule for exact days) \n✨ Why attend? Improve your confidence Learn practical skills for study & career Connect with fellow students \n Mark your calendar & join us – We can’t wait to see you there!
URL:https://student.ilsceducation.com/event/per-academic-workshops-18th-aug-21st-aug-2025/
LOCATION:Perth Campus\, 150 St Georges Terrace\, Perth\, WA\, 6000\, Australia
CATEGORIES:Greystone College Australia Activities,Greystone College Perth Activities
END:VEVENT
BEGIN:VEVENT
DTSTART;TZID=Australia/Adelaide:20250818T130000
DTEND;TZID=Australia/Adelaide:20250821T210000
DTSTAMP:20260419T195330
CREATED:20250815T212658Z
LAST-MODIFIED:20250815T212658Z
UID:10000788-1755522000-1755810000@student.ilsceducation.com
SUMMARY:ADL Academic Workshops 18th AUG - 21st Aug 2025
DESCRIPTION:Adelaide On-Campus Workshops – Week 2 18th – 21st August 2025 at Greystone College Adelaide ✨ \nGet ready for a week packed with practical skills\, networking opportunities\, and fun learning – all FREE for our amazing international students!  \n This week’s workshops include:✅ Understanding the Australian Workplace – Rights\, pay & conditions ⚖️✅ First Impressions Matter ✅ Customer Service in Multicultural Contexts ✅ Cultural Intelligence – Navigating Aussie workplace culture ✅ Ethical Leadership & Responsibility ✅ Holding Conversations with Strangers ️✅ Navigating Feedback – Giving & receiving constructive criticism ✅ Team Communication & Conflict Resolution ⚡ \n Where? Rooms 107 & 108 – Adelaide Campus When? 2:00pm–2:45pm & 6:00pm–6:45pm (check your calendar for specific rooms) \n✨ Why you’ll love it: Build career-ready skills Boost your confidence Meet new friends from around the world \n Mark your diary & join us – we can’t wait to see you there!
URL:https://student.ilsceducation.com/event/adl-academic-workshops-18th-aug-21st-aug-2025/
LOCATION:Adelaide Campus\, Level 7/115 Grenfell St\, Adelaide\, SA\, 5000\, Australia
CATEGORIES:Greystone College Adelaide Activities,Greystone College Australia Activities
END:VEVENT
BEGIN:VEVENT
DTSTART;TZID=Australia/Brisbane:20250818T130000
DTEND;TZID=Australia/Brisbane:20250821T210000
DTSTAMP:20260419T195330
CREATED:20250815T212831Z
LAST-MODIFIED:20250815T212831Z
UID:10000789-1755522000-1755810000@student.ilsceducation.com
SUMMARY:BNE Academic Workshops 18th AUG - 21st Aug 2025
DESCRIPTION:Brisbane On-Campus Workshops – Week 2 18th – 21st August 2025 at Greystone College Brisbane ✨ \nGet ready for a week full of practical skills\, career tips\, and confidence-building – all FREE for our amazing international students!  \n This week’s line-up includes:✅ Communicate Clearly & Respectfully ️✅ Manage Conflict & Resolve Issues Constructively ⚖️✅ CSR Drivers ✅ Crafting the Perfect Elevator Pitch ✅ Pause\, Think\, Solve: Critical Thinking in Action ✅ Service with a Smile: Positive Customer Language ✅ Project Integration – Why Do It & How ✅ Digital Marketing ✅ Who Will Buy It? Researching Your Market  \n Where? Rooms 201\, 202\, 203 & 205 – Brisbane Campus When? Multiple sessions daily – check your calendar for exact times \n✨ Why join? Build your career-ready skills Learn from experienced trainers Connect with fellow students from around the world \n Save the dates & be there – your future self will thank you!
URL:https://student.ilsceducation.com/event/bne-academic-workshops-18th-aug-21st-aug-2025/
LOCATION:Brisbane Campus\, Level 1/232 Adelaide Street\, Brisbane\, QLD\, 4000\, Australia
CATEGORIES:Greystone College Australia Activities,Greystone College Brisbane Activities
END:VEVENT
BEGIN:VEVENT
DTSTART;TZID=America/Vancouver:20250819T143000
DTEND;TZID=America/Vancouver:20250819T160000
DTSTAMP:20260419T195330
CREATED:20250611T181221Z
LAST-MODIFIED:20250915T145523Z
UID:10000791-1755613800-1755619200@student.ilsceducation.com
SUMMARY:Soccer at Christie Pits
DESCRIPTION:Meet You on the Field! \nJoin Tino for some fun and friendly soccer games after class at Christie Pits! All skill levels are welcome — just bring your energy and good vibes. ⚽️ See you there!
URL:https://student.ilsceducation.com/event/soccer-at-christie-pits/2025-08-19/
LOCATION:Toronto Campus\, 443 University Ave\, Toronto\, Ontario\, M5G 2H6
CATEGORIES:Greystone College Canada Activities,Greystone College Toronto Activities,ILSC Canada Activities,ILSC Toronto Activities
ATTACH;FMTTYPE=image/avif:https://student.ilsceducation.com/wp-content/uploads/comms_web_foot-ankle-injuries-student-athletes_1000x562.avif
END:VEVENT
BEGIN:VEVENT
DTSTART;TZID=America/Vancouver:20250819T143000
DTEND;TZID=America/Vancouver:20250819T160000
DTSTAMP:20260419T195330
CREATED:20250819T151202Z
LAST-MODIFIED:20250819T151202Z
UID:10000811-1755613800-1755619200@student.ilsceducation.com
SUMMARY:Temps d’étude
DESCRIPTION:Étudier n’a pas besoin d’être ennuyeux — viens réviser avec nous après le cours!On reverra les parties les plus difficiles ensemble et on se motivera les uns les autres. \n  \nStudying doesn’t have to be boring—come study with us after class!  \nWe’ll go over the tricky parts together and keep each other motivated. \n\n  \n 
URL:https://student.ilsceducation.com/event/temps-detude/
LOCATION:Montreal Campus\, 550 Sherbrooke St W\, Montreal\, Quebec\, H3A 1B9\, Canada
CATEGORIES:Greystone College Canada Activities,Greystone College Montreal Activities,ILSC Canada Activities,ILSC Montreal Activities
ATTACH;FMTTYPE=image/jpeg:https://student.ilsceducation.com/wp-content/uploads/HowtoStudywFriends-1.jpg
END:VEVENT
BEGIN:VEVENT
DTSTART;TZID=America/Vancouver:20250819T153000
DTEND;TZID=America/Vancouver:20250819T170000
DTSTAMP:20260419T195330
CREATED:20250811T221621Z
LAST-MODIFIED:20250811T221621Z
UID:10000769-1755617400-1755622800@student.ilsceducation.com
SUMMARY:Cycling Around Stanley Park
DESCRIPTION:We invite you to explore Stanley Park on two wheels! Join us for a refreshing cycling adventure along scenic trails\, surrounded by nature and stunning views. Whether you’re a beginner or experienced rider\, it’s a great way to get some exercise\, enjoy fresh air\, and connect with friends. \nPlease bring $30 for bike rental. \n  \n 
URL:https://student.ilsceducation.com/event/cycling-around-stanley-park-3/
LOCATION:Vancouver Campus\, 1205 Melville St\, Vancouver\, British Columbia\, V6E 2S8\, Canada
CATEGORIES:Greystone College Canada Activities,Greystone College Vancouver Activities,ILSC Canada Activities,ILSC Vancouver Activities
ATTACH;FMTTYPE=image/jpeg:https://student.ilsceducation.com/wp-content/uploads/stanley-park-van-900354-bicycle.jpg
END:VEVENT
END:VCALENDAR