BEGIN:VCALENDAR
VERSION:2.0
PRODID:-//ILSC Greystone Student Connect - ECPv6.9.1//NONSGML v1.0//EN
CALSCALE:GREGORIAN
METHOD:PUBLISH
X-WR-CALNAME:ILSC Greystone Student Connect
X-ORIGINAL-URL:https://student.ilsceducation.com
X-WR-CALDESC:Events for ILSC Greystone Student Connect
REFRESH-INTERVAL;VALUE=DURATION:PT1H
X-Robots-Tag:noindex
X-PUBLISHED-TTL:PT1H
BEGIN:VTIMEZONE
TZID:Australia/Melbourne
BEGIN:STANDARD
TZOFFSETFROM:+1100
TZOFFSETTO:+1000
TZNAME:AEST
DTSTART:20250405T160000
END:STANDARD
BEGIN:DAYLIGHT
TZOFFSETFROM:+1000
TZOFFSETTO:+1100
TZNAME:AEDT
DTSTART:20251004T160000
END:DAYLIGHT
TZID:Australia/Sydney
BEGIN:STANDARD
TZOFFSETFROM:+1100
TZOFFSETTO:+1000
TZNAME:AEST
DTSTART:20250405T160000
END:STANDARD
BEGIN:DAYLIGHT
TZOFFSETFROM:+1000
TZOFFSETTO:+1100
TZNAME:AEDT
DTSTART:20251004T160000
END:DAYLIGHT
TZID:Australia/Perth
BEGIN:STANDARD
TZOFFSETFROM:+0800
TZOFFSETTO:+0800
TZNAME:AWST
DTSTART:20250101T000000
END:STANDARD
TZID:Australia/Adelaide
BEGIN:STANDARD
TZOFFSETFROM:+1030
TZOFFSETTO:+0930
TZNAME:ACST
DTSTART:20250405T163000
END:STANDARD
BEGIN:DAYLIGHT
TZOFFSETFROM:+0930
TZOFFSETTO:+1030
TZNAME:ACDT
DTSTART:20251004T163000
END:DAYLIGHT
TZID:Australia/Brisbane
BEGIN:STANDARD
TZOFFSETFROM:+1000
TZOFFSETTO:+1000
TZNAME:AEST
DTSTART:20250101T000000
END:STANDARD
TZID:America/Vancouver
BEGIN:DAYLIGHT
TZOFFSETFROM:-0800
TZOFFSETTO:-0700
TZNAME:PDT
DTSTART:20250309T100000
END:DAYLIGHT
BEGIN:STANDARD
TZOFFSETFROM:-0700
TZOFFSETTO:-0800
TZNAME:PST
DTSTART:20251102T090000
END:STANDARD
END:VTIMEZONE
BEGIN:VEVENT
DTSTART;TZID=Australia/Melbourne:20250825T130000
DTEND;TZID=Australia/Melbourne:20250828T210000
DTSTAMP:20260419T195319
CREATED:20250822T095234Z
LAST-MODIFIED:20250822T095234Z
UID:10000836-1756126800-1756414800@student.ilsceducation.com
SUMMARY:MEL Academic Workshops 25th AUG - 28th Aug 2025
DESCRIPTION:Greystone College Melbourne – Workshop Week!  \nDear Students\, \nWe’re excited to invite you to this week’s Workshops (25th – 28th August 2025) ✨. These sessions are a fantastic opportunity to grow your skills\, boost your confidence\, and connect with others . \n Time: 2:00pm – 2:45pm & 6:00pm – 6:45pm Where: Melbourne Campus – Rooms as listed below \n\n Monday: Multicultural Networking & Business Success (Room 1607)✅ Quality Assurance: Improve & maintain standards (Room 1603) Management Time – Who’s Got the Monkey? (Room 1604) HR Essentials: Key functions of HR (Room 1605) \n⭐ Tuesday: Personal Branding & Marketing Yourself (Room 1607) Motivational Interviewing (Room 1603) Intrapreneurship to Entrepreneurship (Room 1604) Graphic Design Principles (Room 1605) \n Wednesday: Workplace Well-being: Promote Mental Health (Room 1606) Mobile App Basics (Room 1607)️ Digital Content Creation (Room 1603) E-commerce Fundamentals (Room 1604) \n Thursday: Search Engine Optimisation (SEO): Improve visibility (Room 1605) Digital Marketing Strategies (Room 1606) Artificial Intelligence Overview (Room 1603) Data Privacy Regulations (Room 1607) \n\n Don’t miss out on these amazing sessions designed to help you succeed academically\, professionally\, and personally. \n Mark your calendars and come join us – we can’t wait to see you there! ✨
URL:https://student.ilsceducation.com/event/mel-academic-workshops-25th-aug-28th-aug-2025/
LOCATION:Melbourne Campus\, Level 7/120 Spencer St\, Melbourne\, VIC\, 3000\, Australia
CATEGORIES:Greystone College Australia Activities,Greystone College Melbourne Activities
END:VEVENT
BEGIN:VEVENT
DTSTART;TZID=Australia/Sydney:20250825T130000
DTEND;TZID=Australia/Sydney:20250828T210000
DTSTAMP:20260419T195319
CREATED:20250822T095355Z
LAST-MODIFIED:20250822T095355Z
UID:10000835-1756126800-1756414800@student.ilsceducation.com
SUMMARY:SYD Academic Workshops 25th AUG - 28th Aug 2025
DESCRIPTION:Workshops This Week at Greystone College Sydney!  \nHey Students \,We’ve got an exciting line-up of FREE workshops this week (25th – 28th August) to help you build your skills\, meet new people\, and grow your confidence ✨ \n When: Week 3\, Session 9 Where: Sydney Campus – check the room numbers below! \n\n⏰ 2:00pm – 2:45pm✅ Monday – Problem-Solving (Room 605)✅ Tuesday – Workplace & Communication Skills (Room 605)✅ Wednesday – Storytelling for Managers: Explain\, Persuade\, Inspire (Room 610) & Workplace & Communication Skills (Room 605)✅ Thursday – Collaboration & Teamwork (Room 610) & Customer Excellence (Room 605) \n⏰ 6:00pm – 6:45pm Monday – Networking & Professional Relationship Building (Room 617) & Wellness for Life (Room 610) Tuesday – Wellness for Life (Room 610) Wednesday – Australian Politics (Room 607) & Entrepreneurship & Business Start-Up (Room 617) Thursday – How to Find a Mentor (Room 607) & Social Media Marketing Strategy (Room 617) \n\n Don’t miss this chance to learn\, connect\, and have fun while boosting your future career!  \n Follow us for updates: Facebook: @greystonecollegesydney Instagram: @greystonecollegesydney▶️ YouTube: ilscTV \nSee you there!
URL:https://student.ilsceducation.com/event/syd-academic-workshops-25th-aug-28th-aug-2025/
LOCATION:Sydney Campus\, Level 6/532-540 George St\, Sydney\, NSW\, 2000\, Australia
CATEGORIES:Greystone College Australia Activities,Greystone College Sydney Activities
END:VEVENT
BEGIN:VEVENT
DTSTART;TZID=Australia/Perth:20250825T130000
DTEND;TZID=Australia/Perth:20250828T210000
DTSTAMP:20260419T195319
CREATED:20250822T095516Z
LAST-MODIFIED:20250822T095516Z
UID:10000834-1756126800-1756414800@student.ilsceducation.com
SUMMARY:PER Academic Workshops 25th AUG - 28th Aug 2025
DESCRIPTION:✨ Greystone College Perth – Workshop Week! ✨ \nHey students!  Are you ready to boost your skills and connect with new opportunities?  Join us for our exciting Workshops this week (Session 9 – Week 3\, 25th AUG – 28th AUG 2025) at the Perth Campus!  \n Workshop Calendar: \n Monday (2:00pm – 2:45pm) Communicating across Cultures  Room 6 \n Tuesday (2:00pm – 2:45pm) Job Interview Practice Sessions  Room 6 \n Wednesday (6:00pm – 6:45pm) Business Meditation II – Finding Opportunity ‍♂️✨ Room 6 \n Thursday (6:00pm – 6:45pm) Business Meditation II – Finding Opportunity  Room 6 \n These workshops are a fantastic chance to improve your communication\, practice real-world job interviews\, and explore how to find opportunities in business with focus and clarity. \nDon’t miss out! Come along\, learn\, share\, and grow with us  \n#GreystoneCollege #Workshops #PerthCampus #InternationalStudents
URL:https://student.ilsceducation.com/event/per-academic-workshops-25th-aug-28th-aug-2025/
LOCATION:Perth Campus\, 150 St Georges Terrace\, Perth\, WA\, 6000\, Australia
CATEGORIES:Greystone College Australia Activities,Greystone College Perth Activities
END:VEVENT
BEGIN:VEVENT
DTSTART;TZID=Australia/Adelaide:20250825T130000
DTEND;TZID=Australia/Adelaide:20250828T210000
DTSTAMP:20260419T195319
CREATED:20250822T095634Z
LAST-MODIFIED:20250822T095634Z
UID:10000833-1756126800-1756414800@student.ilsceducation.com
SUMMARY:ADL Academic Workshops 25th AUG - 28th Aug 2025
DESCRIPTION:Greystone College Adelaide – Workshop Week!  \nHey students! ✨We’ve got some amazing workshops lined up just for YOU this week (25th – 28th AUG\, Session 9 Week 3)!  Whether you want to boost your public speaking skills\, dive into marketing fundamentals\, or improve your networking and communication – there’s something for everyone!  \n What’s On:️ Monday – Public Speaking & Presentation Skills (Room 108) Monday Evening – Level up your Network! (Room 107)⏱️ Tuesday – Master Your Minutes (Room 107) Tuesday Evening – Cross-Cultural Communication in Australian Workplaces (Room 108) Wednesday – Intro to Marketing Principles (Room 108) Wednesday Evening – Inside Outside: Personal Wellbeing (Room 107) Thursday – Digital Marketing Fundamentals (Room 108) \n Location: Adelaide Campus – Rooms 107 & 108 Times: 2:00pm – 2:45pm OR 6:00pm – 6:45pm \nDon’t miss out!  These sessions are a great way to build your skills\, meet new friends\, and make your study journey even more rewarding.  \n See you there!
URL:https://student.ilsceducation.com/event/adl-academic-workshops-25th-aug-28th-aug-2025/
LOCATION:Adelaide Campus\, Level 7/115 Grenfell St\, Adelaide\, SA\, 5000\, Australia
CATEGORIES:Greystone College Adelaide Activities,Greystone College Australia Activities
END:VEVENT
BEGIN:VEVENT
DTSTART;TZID=Australia/Brisbane:20250825T130000
DTEND;TZID=Australia/Brisbane:20250828T210000
DTSTAMP:20260419T195319
CREATED:20250822T095754Z
LAST-MODIFIED:20250822T095754Z
UID:10000832-1756126800-1756414800@student.ilsceducation.com
SUMMARY:BNE Academic Workshops 25th AUG - 28th Aug 2025
DESCRIPTION:Workshop Calendar – Week 3 (25th–28th August 2025)  Greystone College Brisbane Campus \nHey students!  Ready to boost your skills and connect with others this week? ✨We’ve got some exciting FREE workshops lined up just for you!  \nHere’s what’s happening: \n Monday1:30pm – How to manage a diverse team  (Room 201)2:00pm – CSR metrics – how to measure ethics  (Room 205)6:00pm – Setting SMART Goals  (Room 203) \n Tuesday1:30pm – How to build trust & respect in a diverse team  (Room 201)2:00pm – CSR metrics – how to measure ethics  (Room 205)6:00pm – Work Smarter: Planning for Progress  (Room 202)6:00pm – Setting SMART Goals  (Room 203) \n Wednesday1:30pm – How to manage meetings effectively  (Room 201)2:00pm – Project Integration – Why do it and How  (Room 205)6:00pm – Show leadership in the workplace  (Room 203) \n Thursday2:00pm – Project Integration – Why do it and How  (Room 205)6:00pm – Show leadership in the workplace  (Room 203) \n✨ Don’t miss this chance to grow your skills\, meet new people\, and add value to your learning journey!  \n See you there!
URL:https://student.ilsceducation.com/event/bne-academic-workshops-25th-aug-28th-aug-2025/
LOCATION:Brisbane Campus\, Level 1/232 Adelaide Street\, Brisbane\, QLD\, 4000\, Australia
CATEGORIES:Greystone College Australia Activities,Greystone College Brisbane Activities
END:VEVENT
BEGIN:VEVENT
DTSTART;TZID=America/Vancouver:20250826T115000
DTEND;TZID=America/Vancouver:20250826T123000
DTSTAMP:20260419T195319
CREATED:20250822T212938Z
LAST-MODIFIED:20250822T214045Z
UID:10000837-1756209000-1756211400@student.ilsceducation.com
SUMMARY:Puzzle and Lunch
DESCRIPTION:Join us for puzzles and lunch at the ELS office!
URL:https://student.ilsceducation.com/event/puzzle-and-lunch/
LOCATION:ELS LA County\, 1886 3rd St\, La Verne\, CA\, 91750\, United States
CATEGORIES:ELS LA County Activities
ATTACH;FMTTYPE=image/jpeg:https://student.ilsceducation.com/wp-content/uploads/Puzzle.jpg
ORGANIZER;CN="ELS LA County Activity Coordinator":MAILTO:activities.losangelescounty@ilsceducation.com
END:VEVENT
BEGIN:VEVENT
DTSTART;TZID=America/Vancouver:20250826T140000
DTEND;TZID=America/Vancouver:20250826T160000
DTSTAMP:20260419T195319
CREATED:20250611T181221Z
LAST-MODIFIED:20250915T145523Z
UID:10000797-1756216800-1756224000@student.ilsceducation.com
SUMMARY:Soccer at Christie Pits
DESCRIPTION:Meet You on the Field! \nJoin Tino for some fun and friendly soccer games after class at Christie Pits! All skill levels are welcome — just bring your energy and good vibes. ⚽️ See you there!
URL:https://student.ilsceducation.com/event/soccer-at-christie-pits/2025-08-26/
LOCATION:Toronto Campus\, 443 University Ave\, Toronto\, Ontario\, M5G 2H6
CATEGORIES:Greystone College Canada Activities,Greystone College Toronto Activities,ILSC Canada Activities,ILSC Toronto Activities
ATTACH;FMTTYPE=image/avif:https://student.ilsceducation.com/wp-content/uploads/comms_web_foot-ankle-injuries-student-athletes_1000x562.avif
END:VEVENT
BEGIN:VEVENT
DTSTART;TZID=America/Vancouver:20250826T143000
DTEND;TZID=America/Vancouver:20250826T153000
DTSTAMP:20260419T195319
CREATED:20250820T140021Z
LAST-MODIFIED:20250922T153711Z
UID:10000816-1756218600-1756222200@student.ilsceducation.com
SUMMARY:Journée Timbits à l’ILSC
DESCRIPTION:Journée Timbits à l’école!Viens savourer une petite douceur avec nous! \nPrends une pause sympa et viens déguster des Timbits gratuits à partager entre amis! Premier arrivé\, premier servi – ne rate pas ça! \nTimbits Day at School!Come grab a sweet treat with us! \nJoin us for a fun break and enjoy free Timbits to share with friends!First come\, first served – don’t miss out!
URL:https://student.ilsceducation.com/event/journee-timbits-a-lilsc/2025-08-26/
LOCATION:Montreal Campus\, 550 Sherbrooke St W\, Montreal\, Quebec\, H3A 1B9\, Canada
CATEGORIES:Greystone College Canada Activities,Greystone College Montreal Activities,ILSC Canada Activities,ILSC Montreal Activities
ATTACH;FMTTYPE=image/webp:https://student.ilsceducation.com/wp-content/uploads/TB.webp
END:VEVENT
BEGIN:VEVENT
DTSTART;TZID=America/Vancouver:20250826T150000
DTEND;TZID=America/Vancouver:20250826T163000
DTSTAMP:20260419T195319
CREATED:20250825T151756Z
LAST-MODIFIED:20250826T220248Z
UID:10000840-1756220400-1756225800@student.ilsceducation.com
SUMMARY:Yoga Club
DESCRIPTION:‍♀️ Stretch\, Breathe\, Relax – Yoga Session ‍♂️ \nTake a break and find your balance with a peaceful Yoga Session open to all experience levels. \nWhat to bring: Yoga mat (if you have one)\, water bottle\, and comfy clothes \nWhether you’re a beginner or a seasoned yogi\, this session is the perfect way to stretch your body\, clear your mind\, and recharge. \nCome move\, breathe\, and reconnect – we’ll see you on the mat!
URL:https://student.ilsceducation.com/event/yoga-club-2/
LOCATION:555 Richards Campus\, 555 richards\, Vancouver\, BC\, Canada
CATEGORIES:Greystone College Canada Activities,Greystone College Vancouver Activities,ILSC Canada Activities,ILSC Vancouver Activities
ATTACH;FMTTYPE=image/png:https://student.ilsceducation.com/wp-content/uploads/930b149c-f8fb-4dde-9cec-ec215deb765c.png
END:VEVENT
BEGIN:VEVENT
DTSTART;TZID=America/Vancouver:20250826T153000
DTEND;TZID=America/Vancouver:20250826T170000
DTSTAMP:20260419T195319
CREATED:20250811T222009Z
LAST-MODIFIED:20250811T222009Z
UID:10000772-1756222200-1756227600@student.ilsceducation.com
SUMMARY:Painting Afternoon
DESCRIPTION:Relax\, sip\, and let your creativity flow! Join us for a fun Paint session where you’ll have the chance to express yourself through art in a friendly and casual setting. No experience needed – this is all about enjoying the process and having a good time. \nWe’ll provide all the painting materials  it’s a great way to unwind and connect with others! \nAt 1205 Melville Campus 3:30pm
URL:https://student.ilsceducation.com/event/painting-afternoon-2/
LOCATION:Vancouver Campus\, 1205 Melville St\, Vancouver\, British Columbia\, V6E 2S8\, Canada
CATEGORIES:Greystone College Canada Activities,Greystone College Vancouver Activities,ILSC Canada Activities,ILSC Vancouver Activities
ATTACH;FMTTYPE=image/jpeg:https://student.ilsceducation.com/wp-content/uploads/about-painting-and-wine-classes.jpg
END:VEVENT
END:VCALENDAR