BEGIN:VCALENDAR
VERSION:2.0
PRODID:-//ILSC Greystone Student Connect - ECPv6.9.1//NONSGML v1.0//EN
CALSCALE:GREGORIAN
METHOD:PUBLISH
X-WR-CALNAME:ILSC Greystone Student Connect
X-ORIGINAL-URL:https://student.ilsceducation.com
X-WR-CALDESC:Events for ILSC Greystone Student Connect
REFRESH-INTERVAL;VALUE=DURATION:PT1H
X-Robots-Tag:noindex
X-PUBLISHED-TTL:PT1H
BEGIN:VTIMEZONE
TZID:America/Vancouver
BEGIN:DAYLIGHT
TZOFFSETFROM:-0800
TZOFFSETTO:-0700
TZNAME:PDT
DTSTART:20250309T100000
END:DAYLIGHT
BEGIN:STANDARD
TZOFFSETFROM:-0700
TZOFFSETTO:-0800
TZNAME:PST
DTSTART:20251102T090000
END:STANDARD
END:VTIMEZONE
BEGIN:VEVENT
DTSTART;TZID=America/Vancouver:20251119T143000
DTEND;TZID=America/Vancouver:20251210T170000
DTSTAMP:20260424T162713
CREATED:20250918T194136Z
LAST-MODIFIED:20251105T213939Z
UID:10001450-1763562600-1765386000@student.ilsceducation.com
SUMMARY:UNO Tournament
DESCRIPTION:UNO \nGrab your friends and join Afshin for an UNO Tournament. Get your competitive gears running. You’ll be able to play\, make friends\, and sharpen your card games’ skills. \nTake a breather from arduous days of studying.
URL:https://student.ilsceducation.com/event/uno-tournament-3/2025-11-19/
LOCATION:Toronto Campus\, 443 University Ave\, Toronto\, Ontario\, M5G 2H6
CATEGORIES:Greystone College Canada Activities,Greystone College Toronto Activities,ILSC Canada Activities,ILSC Toronto Activities
ATTACH;FMTTYPE=image/jpeg:https://student.ilsceducation.com/wp-content/uploads/uno.jpeg
END:VEVENT
BEGIN:VEVENT
DTSTART;TZID=America/Vancouver:20251126T143000
DTEND;TZID=America/Vancouver:20251217T170000
DTSTAMP:20260424T162713
CREATED:20250918T194136Z
LAST-MODIFIED:20251105T213939Z
UID:10001451-1764167400-1765990800@student.ilsceducation.com
SUMMARY:UNO Tournament
DESCRIPTION:UNO \nGrab your friends and join Afshin for an UNO Tournament. Get your competitive gears running. You’ll be able to play\, make friends\, and sharpen your card games’ skills. \nTake a breather from arduous days of studying.
URL:https://student.ilsceducation.com/event/uno-tournament-3/2025-11-26/
LOCATION:Toronto Campus\, 443 University Ave\, Toronto\, Ontario\, M5G 2H6
CATEGORIES:Greystone College Canada Activities,Greystone College Toronto Activities,ILSC Canada Activities,ILSC Toronto Activities
ATTACH;FMTTYPE=image/jpeg:https://student.ilsceducation.com/wp-content/uploads/uno.jpeg
END:VEVENT
BEGIN:VEVENT
DTSTART;VALUE=DATE:20251201
DTEND;VALUE=DATE:20251213
DTSTAMP:20260424T162713
CREATED:20251201T225832Z
LAST-MODIFIED:20251201T225832Z
UID:10001810-1764547200-1765583999@student.ilsceducation.com
SUMMARY:ELS Gingerbread House Day!
DESCRIPTION:Join one of our favorite Christmas traditions! Come to the office during breaks to make an ELS Gingerbread House!
URL:https://student.ilsceducation.com/event/els-gingerbread-house-day/
CATEGORIES:ELS San Francisco Activities
ATTACH;FMTTYPE=image/jpeg:https://student.ilsceducation.com/wp-content/uploads/vancouver-events-hyatt-gingerbread-house-2023.jpg
ORGANIZER;CN="ELS San Francisco Activity Coordinator":MAILTO:activities.sanrafael@ilsceducation.com
END:VEVENT
BEGIN:VEVENT
DTSTART;VALUE=DATE:20251205
DTEND;VALUE=DATE:20251206
DTSTAMP:20260424T162713
CREATED:20251031T203218Z
LAST-MODIFIED:20251201T223748Z
UID:10001421-1764892800-1764979199@student.ilsceducation.com
SUMMARY:Ugly Sweaters and ELS Class Pictures Day! :)
DESCRIPTION:Wear your ugly sweaters or weird outfit and smile! Get ready for the Ho-Ho-Holiday ELS Class Pictures Day! Feeling picture perfect today! 
URL:https://student.ilsceducation.com/event/els-class-pictures-day/
CATEGORIES:ELS San Francisco Activities
ATTACH;FMTTYPE=image/png:https://student.ilsceducation.com/wp-content/uploads/Picture123.png
ORGANIZER;CN="ELS San Francisco Activity Coordinator":MAILTO:activities.sanrafael@ilsceducation.com
END:VEVENT
BEGIN:VEVENT
DTSTART;VALUE=DATE:20251205
DTEND;VALUE=DATE:20251206
DTSTAMP:20260424T162713
CREATED:20251128T194051Z
LAST-MODIFIED:20251128T224015Z
UID:10001526-1764892800-1764979199@student.ilsceducation.com
SUMMARY:Candle day
DESCRIPTION:Join us for an afternoon celebration of Día de las Velitas\, one of Colombia’s most cherished holiday traditions. Even during the daytime\, we’ll create a warm and festive atmosphere as we light candles\, share wishes\, and welcome the start of the Christmas season. It’s a cozy and meaningful activity where everyone can come together to enjoy this beautiful cultural tradition.
URL:https://student.ilsceducation.com/event/candle-day/
CATEGORIES:Greystone College Canada Activities,Greystone College Vancouver Activities,ILSC Canada Activities,ILSC Vancouver Activities
ATTACH;FMTTYPE=image/jpeg:https://student.ilsceducation.com/wp-content/uploads/candle-day.jpg
END:VEVENT
BEGIN:VEVENT
DTSTART;TZID=America/Vancouver:20251205T130000
DTEND;TZID=America/Vancouver:20251205T140000
DTSTAMP:20260424T162713
CREATED:20250916T152502Z
LAST-MODIFIED:20251229T201733Z
UID:10001544-1764939600-1764943200@student.ilsceducation.com
SUMMARY:Job Club
DESCRIPTION:Step-by-step sessions for creating a targeted job application. These sessions would be more focused on helping students to choose careers\, evaluate job postings\, creating resume\, cover letter and interview preparation. Make sure to join all sessions to cover entire job search process.  \nPlace : Available at both options of in-person and online\nIn-person – Room 13 at 1205 Melville St \n  \n 
URL:https://student.ilsceducation.com/event/job-club-8/2025-12-05/
LOCATION:Vancouver Campus\, 1205 Melville St\, Vancouver\, British Columbia\, V6E 2S8\, Canada
CATEGORIES:Greystone College Canada Activities,Greystone College Vancouver Activities,ILSC Canada Activities,ILSC Vancouver Activities
ATTACH;FMTTYPE=image/jpeg:https://student.ilsceducation.com/wp-content/uploads/AdobeStock_430498249-1-min-708x400-1.jpeg
END:VEVENT
BEGIN:VEVENT
DTSTART;TZID=America/Vancouver:20251205T143000
DTEND;TZID=America/Vancouver:20251205T153000
DTSTAMP:20260424T162713
CREATED:20251120T215649Z
LAST-MODIFIED:20251120T215649Z
UID:10001506-1764945000-1764948600@student.ilsceducation.com
SUMMARY:Eaton Centre Tree!
DESCRIPTION:✨ Join Us at the Eaton Centre Tree & Window Display! ✨ \nCome enjoy the stunning holiday tree and festive window displays at the Eaton Centre!A quick\, cozy outing to soak in the lights\, take photos\, and enjoy the holiday spirit with friends. \nAll students welcome—see you there! ❄️✨
URL:https://student.ilsceducation.com/event/eaton-centre-tree/
LOCATION:Toronto Campus\, 443 University Ave\, Toronto\, Ontario\, M5G 2H6
CATEGORIES:Greystone College Canada Activities,Greystone College Toronto Activities,ILSC Canada Activities,ILSC Toronto Activities
ATTACH;FMTTYPE=image/jpeg:https://student.ilsceducation.com/wp-content/uploads/eatoncentre-1.jpg
END:VEVENT
END:VCALENDAR