BEGIN:VCALENDAR
VERSION:2.0
PRODID:-//ILSC Greystone Student Connect - ECPv6.9.1//NONSGML v1.0//EN
CALSCALE:GREGORIAN
METHOD:PUBLISH
X-ORIGINAL-URL:https://student.ilsceducation.com
X-WR-CALDESC:Events for ILSC Greystone Student Connect
REFRESH-INTERVAL;VALUE=DURATION:PT1H
X-Robots-Tag:noindex
X-PUBLISHED-TTL:PT1H
BEGIN:VTIMEZONE
TZID:Australia/Brisbane
BEGIN:STANDARD
TZOFFSETFROM:+1000
TZOFFSETTO:+1000
TZNAME:AEST
DTSTART:20260101T000000
END:STANDARD
TZID:America/Vancouver
BEGIN:DAYLIGHT
TZOFFSETFROM:-0800
TZOFFSETTO:-0700
TZNAME:PDT
DTSTART:20260308T100000
END:DAYLIGHT
BEGIN:STANDARD
TZOFFSETFROM:-0700
TZOFFSETTO:-0800
TZNAME:PST
DTSTART:20261101T090000
END:STANDARD
END:VTIMEZONE
BEGIN:VEVENT
DTSTART;VALUE=DATE:20260219
DTEND;VALUE=DATE:20260220
DTSTAMP:20260419T212139
CREATED:20250910T180336Z
LAST-MODIFIED:20260219T061504Z
UID:10000880-1771459200-1771545599@student.ilsceducation.com
SUMMARY:HELLO Job Club Series - Master your Resume and Cover Letter - Language Review
DESCRIPTION:Join our Job Club Series\nWant your résumé to stand out from the pile and showcase your skills with confidence?\nJoin this session to refine the language\, tone\, and clarity of your résumé and cover letter. We’ll review common grammar\, vocabulary\, and expressions to help you elevate your writing and make it sound professional and natural for Canadian and Australian employers.\nEvent details\nWho: All HELLO Students\nWhen: Thursday\, 19 February 2026\nHow: Choose the schedule that best suits you and click on the link to join:\nSCHEDULE 1 – 11:45 am – 12:45 pm (Toronto UTC-5) \n\nLink to join Schedule 1\n\nSCHEDULE 2 – 8:45 am – 9:45 am (Brisbane UTC+10) \n\nLink to join Schedule 2\n\nUse the Time zone converter to find your local time.\n____________________________________________________________\nAny Questions? Contact us at Academic.Hello@ilsceducation.com\nSee you there!\nILSC HELLO
URL:https://student.ilsceducation.com/event/master-your-resume-and-cover-letter-language-review/
LOCATION:QLD
ATTACH;FMTTYPE=image/png:https://student.ilsceducation.com/wp-content/uploads/Screenshot-2025-09-10-at-2.02.35-PM.png
END:VEVENT
BEGIN:VEVENT
DTSTART;TZID=America/Vancouver:20260219T143000
DTEND;TZID=America/Vancouver:20260219T153000
DTSTAMP:20260419T212139
CREATED:20250515T170430Z
LAST-MODIFIED:20260121T185715Z
UID:10001930-1771511400-1771515000@student.ilsceducation.com
SUMMARY:St.Lawrence Market
DESCRIPTION:Come along with Fred to the St. Lawrence Market! \nEnjoy a nice walk in this quaint Farmer’s Market located along Front Street East and Jarvis Street in the St. Lawrence neighbourhood of downtown Toronto. The St. Lawrence Market is one of the last strongholds of independent food merchants who provide personalized service and quality merchandise that reflects the diversity of Toronto. \nDon’t miss this chance to visit it.
URL:https://student.ilsceducation.com/event/st-lawrence-market/2026-02-19/
LOCATION:Toronto Campus\, 443 University Ave\, Toronto\, Ontario\, M5G 2H6
CATEGORIES:Greystone College Canada Activities,Greystone College Toronto Activities,ILSC Canada Activities,ILSC Toronto Activities
ATTACH;FMTTYPE=image/jpeg:https://student.ilsceducation.com/wp-content/uploads/outside-shot-of-st-lawrence.jpg
END:VEVENT
END:VCALENDAR