BEGIN:VCALENDAR
VERSION:2.0
PRODID:-//ILSC Greystone Student Connect - ECPv6.9.1//NONSGML v1.0//EN
CALSCALE:GREGORIAN
METHOD:PUBLISH
X-WR-CALNAME:ILSC Greystone Student Connect
X-ORIGINAL-URL:https://student.ilsceducation.com
X-WR-CALDESC:Events for ILSC Greystone Student Connect
REFRESH-INTERVAL;VALUE=DURATION:PT1H
X-Robots-Tag:noindex
X-PUBLISHED-TTL:PT1H
BEGIN:VTIMEZONE
TZID:Australia/Adelaide
BEGIN:STANDARD
TZOFFSETFROM:+1030
TZOFFSETTO:+0930
TZNAME:ACST
DTSTART:20260404T163000
END:STANDARD
BEGIN:DAYLIGHT
TZOFFSETFROM:+0930
TZOFFSETTO:+1030
TZNAME:ACDT
DTSTART:20261003T163000
END:DAYLIGHT
TZID:Australia/Brisbane
BEGIN:STANDARD
TZOFFSETFROM:+1000
TZOFFSETTO:+1000
TZNAME:AEST
DTSTART:20260101T000000
END:STANDARD
TZID:Australia/Melbourne
BEGIN:STANDARD
TZOFFSETFROM:+1100
TZOFFSETTO:+1000
TZNAME:AEST
DTSTART:20260404T160000
END:STANDARD
BEGIN:DAYLIGHT
TZOFFSETFROM:+1000
TZOFFSETTO:+1100
TZNAME:AEDT
DTSTART:20261003T160000
END:DAYLIGHT
TZID:Australia/Perth
BEGIN:STANDARD
TZOFFSETFROM:+0800
TZOFFSETTO:+0800
TZNAME:AWST
DTSTART:20260101T000000
END:STANDARD
TZID:Australia/Sydney
BEGIN:STANDARD
TZOFFSETFROM:+1100
TZOFFSETTO:+1000
TZNAME:AEST
DTSTART:20260404T160000
END:STANDARD
BEGIN:DAYLIGHT
TZOFFSETFROM:+1000
TZOFFSETTO:+1100
TZNAME:AEDT
DTSTART:20261003T160000
END:DAYLIGHT
END:VTIMEZONE
BEGIN:VEVENT
DTSTART;TZID=Australia/Adelaide:20260422T140000
DTEND;TZID=Australia/Adelaide:20260422T150000
DTSTAMP:20260419T195317
CREATED:20260217T013706Z
LAST-MODIFIED:20260417T232206Z
UID:10001977-1776866400-1776870000@student.ilsceducation.com
SUMMARY:Navigating Moodle OneDrive and TEAMS Workshop
DESCRIPTION:Navigating Moodle\, OneDrive & TEAMS Workshop On Campus – AdelaideWednesday\, 22nd April 2026⏰ 2:00pmRoom 109 \nAre you ready to feel more confident using your Greystone College academic platforms? ✨ \nJoin us for this friendly\, hands-on workshop designed to help you successfully navigate Moodle\, OneDrive and Microsoft Teams with ease. \nDuring this interactive session\, you will learn how to: \nAccess your course materials on MoodleSubmit your assessments correctly and on time☁️ Use OneDrive to save and manage your workCommunicate effectively using Microsoft TeamsTrack your academic progress with confidence \nWhether you’re new to the platform or simply want to strengthen your skills\, this workshop will give you practical guidance and step-by-step support in a relaxed and welcoming environment \nOur goal is to ensure you feel comfortable\, capable\, and set up for success throughout your studies at Greystone College
URL:https://student.ilsceducation.com/event/navigating-moodle-onedrive-and-teams-workshop/
LOCATION:Adelaide Campus\, Level 7/115 Grenfell St\, Adelaide\, SA\, 5000\, Australia
CATEGORIES:Greystone College Adelaide Activities
ATTACH;FMTTYPE=image/jpeg:https://student.ilsceducation.com/wp-content/uploads/ADL-1.jpg
END:VEVENT
BEGIN:VEVENT
DTSTART;TZID=Australia/Brisbane:20260422T140000
DTEND;TZID=Australia/Brisbane:20260422T150000
DTSTAMP:20260419T195317
CREATED:20260217T015313Z
LAST-MODIFIED:20260417T232101Z
UID:10001984-1776866400-1776870000@student.ilsceducation.com
SUMMARY:Navigating Moodle OneDrive and TEAMS Workshop
DESCRIPTION:Navigating Moodle\, OneDrive & TEAMS Workshop On Campus – BrisbaneWednesday\, 22nd April 2026⏰ 2:00pmRoom 202 \nAre you ready to feel more confident using your Greystone College academic platforms? ✨ \nJoin us for this friendly\, hands-on workshop designed to help you successfully navigate Moodle\, OneDrive and Microsoft Teams with ease. \nDuring this interactive session\, you will learn how to: \nAccess your course materials on MoodleSubmit your assessments correctly and on time☁️ Use OneDrive to save and manage your workCommunicate effectively using Microsoft TeamsTrack your academic progress with confidence \nWhether you’re new to the platform or simply want to strengthen your skills\, this workshop will give you practical guidance and step-by-step support in a relaxed and welcoming environment \nOur goal is to ensure you feel comfortable\, capable\, and set up for success throughout your studies at Greystone College
URL:https://student.ilsceducation.com/event/navigating-moodle-onedrive-and-teams-workshop-2/
LOCATION:Brisbane Campus\, Level 1/232 Adelaide Street\, Brisbane\, QLD\, 4000\, Australia
CATEGORIES:Greystone College Brisbane Activities
ATTACH;FMTTYPE=image/jpeg:https://student.ilsceducation.com/wp-content/uploads/BNE-1.jpg
END:VEVENT
BEGIN:VEVENT
DTSTART;TZID=Australia/Melbourne:20260422T140000
DTEND;TZID=Australia/Melbourne:20260422T150000
DTSTAMP:20260419T195317
CREATED:20260217T021050Z
LAST-MODIFIED:20260417T231938Z
UID:10001990-1776866400-1776870000@student.ilsceducation.com
SUMMARY:Navigating Moodle OneDrive and TEAMS Workshop
DESCRIPTION:Navigating Moodle\, OneDrive & TEAMS Workshop On Campus – MelbourneWednesday\, 22nd April 2026⏰ 2:00pmRoom 1602 \nAre you ready to feel more confident using your Greystone College academic platforms? ✨ \nJoin us for this friendly\, hands-on workshop designed to help you successfully navigate Moodle\, OneDrive and Microsoft Teams with ease. \nDuring this interactive session\, you will learn how to: \nAccess your course materials on MoodleSubmit your assessments correctly and on time☁️ Use OneDrive to save and manage your workCommunicate effectively using Microsoft TeamsTrack your academic progress with confidence \nWhether you’re new to the platform or simply want to strengthen your skills\, this workshop will give you practical guidance and step-by-step support in a relaxed and welcoming environment \nOur goal is to ensure you feel comfortable\, capable\, and set up for success throughout your studies at Greystone College
URL:https://student.ilsceducation.com/event/navigating-moodle-onedrive-and-teams-workshop-3/
LOCATION:Melbourne Campus\, Level 7/120 Spencer St\, Melbourne\, VIC\, 3000\, Australia
CATEGORIES:Greystone College Melbourne Activities
ATTACH;FMTTYPE=image/jpeg:https://student.ilsceducation.com/wp-content/uploads/MEL-1.jpg
END:VEVENT
BEGIN:VEVENT
DTSTART;TZID=Australia/Perth:20260422T140000
DTEND;TZID=Australia/Perth:20260422T150000
DTSTAMP:20260419T195317
CREATED:20260217T022854Z
LAST-MODIFIED:20260417T231856Z
UID:10001996-1776866400-1776870000@student.ilsceducation.com
SUMMARY:Navigating Moodle OneDrive and TEAMS Workshop
DESCRIPTION:Navigating Moodle\, OneDrive & TEAMS Workshop On Campus – PerthWednesday\, 22nd April 2026⏰ 2:00pmRoom 12 \nAre you ready to feel more confident using your Greystone College academic platforms? ✨ \nJoin us for this friendly\, hands-on workshop designed to help you successfully navigate Moodle\, OneDrive and Microsoft Teams with ease. \nDuring this interactive session\, you will learn how to: \nAccess your course materials on MoodleSubmit your assessments correctly and on time☁️ Use OneDrive to save and manage your workCommunicate effectively using Microsoft TeamsTrack your academic progress with confidence \nWhether you’re new to the platform or simply want to strengthen your skills\, this workshop will give you practical guidance and step-by-step support in a relaxed and welcoming environment \nOur goal is to ensure you feel comfortable\, capable\, and set up for success throughout your studies at Greystone College
URL:https://student.ilsceducation.com/event/navigating-moodle-onedrive-and-teams-workshop-4/
LOCATION:Perth Campus\, 150 St Georges Terrace\, Perth\, WA\, 6000\, Australia
CATEGORIES:Greystone College Perth Activities
ATTACH;FMTTYPE=image/jpeg:https://student.ilsceducation.com/wp-content/uploads/PER-1.jpg
END:VEVENT
BEGIN:VEVENT
DTSTART;TZID=Australia/Sydney:20260422T140000
DTEND;TZID=Australia/Sydney:20260422T150000
DTSTAMP:20260419T195317
CREATED:20260217T031249Z
LAST-MODIFIED:20260418T031623Z
UID:10002002-1776866400-1776870000@student.ilsceducation.com
SUMMARY:Navigating Moodle OneDrive and TEAMS Workshop
DESCRIPTION:Navigating Moodle\, OneDrive & TEAMS Workshop On Campus – SydneyWednesday\, 22nd April 2026⏰ 2:00pmRoom 604 \nAre you ready to feel more confident using your Greystone College academic platforms? ✨ \nJoin us for this friendly\, hands-on workshop designed to help you successfully navigate Moodle\, OneDrive and Microsoft Teams with ease. \nDuring this interactive session\, you will learn how to: \nAccess your course materials on MoodleSubmit your assessments correctly and on time☁️ Use OneDrive to save and manage your workCommunicate effectively using Microsoft TeamsTrack your academic progress with confidence \nWhether you’re new to the platform or simply want to strengthen your skills\, this workshop will give you practical guidance and step-by-step support in a relaxed and welcoming environment \nOur goal is to ensure you feel comfortable\, capable\, and set up for success throughout your studies at Greystone College
URL:https://student.ilsceducation.com/event/navigating-moodle-onedrive-and-teams-workshop-5/
LOCATION:Sydney Campus\, Level 6/532-540 George St\, Sydney\, NSW\, 2000\, Australia
CATEGORIES:Greystone College Sydney Activities
ATTACH;FMTTYPE=image/jpeg:https://student.ilsceducation.com/wp-content/uploads/SYD-4.jpg
END:VEVENT
END:VCALENDAR