BEGIN:VCALENDAR
VERSION:2.0
PRODID:-//ILSC Greystone Student Connect - ECPv6.9.1//NONSGML v1.0//EN
CALSCALE:GREGORIAN
METHOD:PUBLISH
X-WR-CALNAME:ILSC Greystone Student Connect
X-ORIGINAL-URL:https://student.ilsceducation.com
X-WR-CALDESC:Events for ILSC Greystone Student Connect
REFRESH-INTERVAL;VALUE=DURATION:PT1H
X-Robots-Tag:noindex
X-PUBLISHED-TTL:PT1H
BEGIN:VTIMEZONE
TZID:America/Vancouver
BEGIN:DAYLIGHT
TZOFFSETFROM:-0800
TZOFFSETTO:-0700
TZNAME:PDT
DTSTART:20260308T100000
END:DAYLIGHT
BEGIN:STANDARD
TZOFFSETFROM:-0700
TZOFFSETTO:-0800
TZNAME:PST
DTSTART:20261101T090000
END:STANDARD
TZID:America/Toronto
BEGIN:DAYLIGHT
TZOFFSETFROM:-0500
TZOFFSETTO:-0400
TZNAME:EDT
DTSTART:20260308T070000
END:DAYLIGHT
BEGIN:STANDARD
TZOFFSETFROM:-0400
TZOFFSETTO:-0500
TZNAME:EST
DTSTART:20261101T060000
END:STANDARD
END:VTIMEZONE
BEGIN:VEVENT
DTSTART;TZID=America/Vancouver:20260323T083000
DTEND;TZID=America/Vancouver:20260323T113000
DTSTAMP:20260422T163235
CREATED:20260120T162217Z
LAST-MODIFIED:20260317T171548Z
UID:10001907-1774254600-1774265400@student.ilsceducation.com
SUMMARY:Écriture créative (8h30-11h30) I2+ en salle 14 avec Feriel
DESCRIPTION:Écriture créative (I2+). Attention horaire : 8h30-11h30 \nEn salle 14 \n17 places disponibles \n 
URL:https://student.ilsceducation.com/event/ecriture-creative-8h30-11h30-i2-en-salle-14-avec-feriel/
LOCATION:550 Sherbrooke
CATEGORIES:Academic Workshops Canada,Montreal Day 1 Workshop
ATTACH;FMTTYPE=image/png:https://student.ilsceducation.com/wp-content/uploads/Ecriture-Crea.png
END:VEVENT
BEGIN:VEVENT
DTSTART;TZID=America/Toronto:20260323T083000
DTEND;TZID=America/Toronto:20260323T130000
DTSTAMP:20260422T163235
CREATED:20250903T130504Z
LAST-MODIFIED:20260317T192614Z
UID:10000850-1774254600-1774270800@student.ilsceducation.com
SUMMARY:Reading & Vocabulary Beginner 3-4 with Shahr in Room 16
DESCRIPTION:Reading & Vocabulary Workshop \nFor Beginner 3 and 4 \nwith Shahr in Room 16
URL:https://student.ilsceducation.com/event/reading-vocabulary-beginner-3-4-with-shahr-in-room-16/
CATEGORIES:Academic Workshops Canada,Montreal Day 1 Workshop
ATTACH;FMTTYPE=image/jpeg:https://student.ilsceducation.com/wp-content/uploads/reading-improves-your-vocabulary-craftinc.org_.jpg
END:VEVENT
BEGIN:VEVENT
DTSTART;TZID=America/Vancouver:20260323T083000
DTEND;TZID=America/Vancouver:20260323T130000
DTSTAMP:20260422T163235
CREATED:20250929T170229Z
LAST-MODIFIED:20260317T192320Z
UID:10001299-1774254600-1774270800@student.ilsceducation.com
SUMMARY:Révision des points de langues nécessaires aux niveaux D1-D3 - salle 6 avec Mahdieh
DESCRIPTION:Révision des points de langues nécessaires aux niveaux Débutants 1\,2 et 3 \nEn salle 6 – 16 places disponibles \n8h30-13h00
URL:https://student.ilsceducation.com/event/revision-des-points-de-langues-necessaires-aux-niveaux-d1-d3-salle-6-avec-mahdieh/
LOCATION:550 Sherbrooke
CATEGORIES:Academic Workshops Canada,Montreal Day 1 Workshop
ATTACH;FMTTYPE=image/png:https://student.ilsceducation.com/wp-content/uploads/revisiomn.png
END:VEVENT
BEGIN:VEVENT
DTSTART;TZID=America/Toronto:20260323T083000
DTEND;TZID=America/Toronto:20260323T130000
DTSTAMP:20260422T163235
CREATED:20250929T171303Z
LAST-MODIFIED:20260317T181630Z
UID:10001301-1774254600-1774270800@student.ilsceducation.com
SUMMARY:Review the necessary skills for the levels I3+ with Deva - in Room 8
DESCRIPTION:Review the necessary skills for the levels Intermediate 3 and up \nwith Deva in Room 8 (16 spots available)
URL:https://student.ilsceducation.com/event/review-the-necessary-skills-for-the-levels-i3-with-deva-in-room-8/
LOCATION:550 Sherbrooke
CATEGORIES:Academic Workshops Canada,Montreal Day 1 Workshop
ATTACH;FMTTYPE=image/png:https://student.ilsceducation.com/wp-content/uploads/review.png
END:VEVENT
BEGIN:VEVENT
DTSTART;TZID=America/Toronto:20260323T083000
DTEND;TZID=America/Toronto:20260323T130000
DTSTAMP:20260422T163235
CREATED:20250929T173135Z
LAST-MODIFIED:20260317T181302Z
UID:10001304-1774254600-1774270800@student.ilsceducation.com
SUMMARY:Review the necessary skills for the levels B1-B3 - with Laila- in Room 9
DESCRIPTION:Review the necessary skills for the levels Beginner 1-Beginner 3 \nwith Laila in Room 09 \n16 spots available
URL:https://student.ilsceducation.com/event/review-the-necessary-skills-for-the-levels-b1-b3-with-laila-in-room-9/
LOCATION:550 Sherbrooke
CATEGORIES:Academic Workshops Canada,Montreal Day 1 Workshop
ATTACH;FMTTYPE=image/png:https://student.ilsceducation.com/wp-content/uploads/reviewe-2.png
END:VEVENT
BEGIN:VEVENT
DTSTART;TZID=America/Toronto:20260323T083000
DTEND;TZID=America/Toronto:20260323T130000
DTSTAMP:20260422T163235
CREATED:20251125T151158Z
LAST-MODIFIED:20260317T185639Z
UID:10001514-1774254600-1774270800@student.ilsceducation.com
SUMMARY:Bad Words/Swearing I2+ with Michael in Room 17
DESCRIPTION:Let’s learn bad words I2+ \nwith Michael in Room 17
URL:https://student.ilsceducation.com/event/bad-words-swearing-i2-with-michael-in-room-17/
LOCATION:550 Sherbrooke
CATEGORIES:Academic Workshops Canada,Montreal Day 1 Workshop
ATTACH;FMTTYPE=image/png:https://student.ilsceducation.com/wp-content/uploads/Bad-WOrds.png
END:VEVENT
BEGIN:VEVENT
DTSTART;TZID=America/Toronto:20260323T083000
DTEND;TZID=America/Toronto:20260323T130000
DTSTAMP:20260422T163235
CREATED:20260218T142508Z
LAST-MODIFIED:20260317T182957Z
UID:10002006-1774254600-1774270800@student.ilsceducation.com
SUMMARY:Coffee Work Skills + everything about Maple Syrup! in room 4 with Peng
DESCRIPTION:Discover how maple syrup is made and enjoy tasting maple taffy together. Let’s add a bit of Coffee Work Skills on top of that \nIntermediate I2-I4 \nIn room 4 with Peng
URL:https://student.ilsceducation.com/event/coffee-work-skills-everything-about-maple-syrup-in-room-4-with-peng/
LOCATION:550 Sherbrooke
CATEGORIES:Academic Workshops Canada,Montreal Day 1 Workshop
ATTACH;FMTTYPE=image/jpeg:https://student.ilsceducation.com/wp-content/uploads/Maple-workshop.jpg
END:VEVENT
END:VCALENDAR