BEGIN:VCALENDAR
VERSION:2.0
PRODID:-//ILSC Greystone Student Connect - ECPv6.9.1//NONSGML v1.0//EN
CALSCALE:GREGORIAN
METHOD:PUBLISH
X-WR-CALNAME:ILSC Greystone Student Connect
X-ORIGINAL-URL:https://student.ilsceducation.com
X-WR-CALDESC:Events for ILSC Greystone Student Connect
REFRESH-INTERVAL;VALUE=DURATION:PT1H
X-Robots-Tag:noindex
X-PUBLISHED-TTL:PT1H
BEGIN:VTIMEZONE
TZID:America/Vancouver
BEGIN:DAYLIGHT
TZOFFSETFROM:-0800
TZOFFSETTO:-0700
TZNAME:PDT
DTSTART:20260308T100000
END:DAYLIGHT
BEGIN:STANDARD
TZOFFSETFROM:-0700
TZOFFSETTO:-0800
TZNAME:PST
DTSTART:20261101T090000
END:STANDARD
END:VTIMEZONE
BEGIN:VEVENT
DTSTART;TZID=America/Vancouver:20260304T123000
DTEND;TZID=America/Vancouver:20260304T133000
DTSTAMP:20260419T225711
CREATED:20250515T173253Z
LAST-MODIFIED:20260218T163937Z
UID:10000407-1772627400-1772631000@student.ilsceducation.com
SUMMARY:Student Activity Meeting
DESCRIPTION:Join us in Whitecar 207 to share ideas for events and activities for session 4! Sign up by March 2nd and receive a free lunch! \nYou MUST share ideas and be an active participant in order to get free lunch! \nSend e-mail to mgoodwin@els.edu if interested!
URL:https://student.ilsceducation.com/event/student-activity-meeting/
LOCATION:ELS Philadelphia\, 600 S. 43rd St\, Whitecar Hall\, Philadelphia\, PA\, 19104\, United States
CATEGORIES:ELS Philadelphia Activities
ATTACH;FMTTYPE=image/png:https://student.ilsceducation.com/wp-content/uploads/Engaging-Classroom-Activities-header-CU.png
ORGANIZER;CN="ELS Philadelphia Activity Coordinator":MAILTO:activities.philadelphia@ilsceducation.com
END:VEVENT
BEGIN:VEVENT
DTSTART;TZID=America/Vancouver:20260305T123000
DTEND;TZID=America/Vancouver:20260305T133000
DTSTAMP:20260419T225711
CREATED:20260115T181636Z
LAST-MODIFIED:20260218T164959Z
UID:10001899-1772713800-1772717400@student.ilsceducation.com
SUMMARY:Time Management Workshop
DESCRIPTION:Feeling overwhelmed\, stressed\, or constantly racing against the clock? Take control of your schedule and regain your work-life balance in our interactive Time Management Workshop. This session is designed to move you from reactive to proactive\, providing practical tools to identify your top priorities\, minimize daily distractions\, and banish procrastination.\nWhitecar 207 at lunch time
URL:https://student.ilsceducation.com/event/winter-wellness-workshop/
LOCATION:ELS Philadelphia\, 600 S. 43rd St\, Whitecar Hall\, Philadelphia\, PA\, 19104\, United States
CATEGORIES:ELS Philadelphia Activities
ATTACH;FMTTYPE=image/png:https://student.ilsceducation.com/wp-content/uploads/timetable-change.png
ORGANIZER;CN="ELS Philadelphia Activity Coordinator":MAILTO:activities.philadelphia@ilsceducation.com
END:VEVENT
BEGIN:VEVENT
DTSTART;TZID=America/Vancouver:20260309T123000
DTEND;TZID=America/Vancouver:20260309T133000
DTSTAMP:20260419T225711
CREATED:20251027T181407Z
LAST-MODIFIED:20260218T174942Z
UID:10001410-1773059400-1773063000@student.ilsceducation.com
SUMMARY:Irish Potato Candy
DESCRIPTION:Irish potato candy is a beloved\, no-bake tradition that yields bite-sized treats designed to look exactly like miniature russet potatoes. Despite the name\, these confections contain no actual potato and originated in Philadelphia\, not Ireland. They are a seasonal staple typically enjoyed leading up to St. Patrick’s Day. \n  \nStop by the ELS office at lunch time and we’ll make some together!
URL:https://student.ilsceducation.com/event/english-pronunciation-workshop-with-eric/
LOCATION:ELS Philadelphia\, 600 S. 43rd St\, Whitecar Hall\, Philadelphia\, PA\, 19104\, United States
CATEGORIES:ELS Philadelphia Activities
ATTACH;FMTTYPE=image/webp:https://student.ilsceducation.com/wp-content/uploads/images.webp
ORGANIZER;CN="ELS Philadelphia Activity Coordinator":MAILTO:activities.philadelphia@ilsceducation.com
END:VEVENT
BEGIN:VEVENT
DTSTART;TZID=America/Vancouver:20260311T160000
DTEND;TZID=America/Vancouver:20260311T173000
DTSTAMP:20260419T225711
CREATED:20250930T160001Z
LAST-MODIFIED:20260218T180435Z
UID:10001320-1773244800-1773250200@student.ilsceducation.com
SUMMARY:SJU Baseball Trip
DESCRIPTION:Join Eric at the Hawk Hill campus and watch the SJU Baseball hopefully defeat the West Chester University baseball team! \nThis is a free trip and you’ll take the shuttle right after classes.
URL:https://student.ilsceducation.com/event/the-purge-with-rachel/
LOCATION:ELS Philadelphia\, 600 S. 43rd St\, Whitecar Hall\, Philadelphia\, PA\, 19104\, United States
CATEGORIES:ELS Philadelphia Activities
ATTACH;FMTTYPE=image/jpeg:https://student.ilsceducation.com/wp-content/uploads/vancouver-canadians-baseball-celebration.jpg
ORGANIZER;CN="ELS Philadelphia Activity Coordinator":MAILTO:activities.philadelphia@ilsceducation.com
END:VEVENT
BEGIN:VEVENT
DTSTART;TZID=America/Vancouver:20260313T123000
DTEND;TZID=America/Vancouver:20260313T133000
DTSTAMP:20260419T225711
CREATED:20250930T152128Z
LAST-MODIFIED:20260218T181011Z
UID:10001318-1773405000-1773408600@student.ilsceducation.com
SUMMARY:Shamrock Shakes
DESCRIPTION:Making your own Shamrock Shake is a fast\, five-minute way to skip the drive-thru lines and enjoy this minty seasonal classic any time of year. While the McDonald’s original is a beloved St. Patrick’s Day icon\, homemade versions often boast a creamier texture and allow you to control the intensity of the mint and the shade of festive green. Let’s make some together! \n  \nWhitecar 207 after classes
URL:https://student.ilsceducation.com/event/charliethanksgiving/
LOCATION:ELS Philadelphia\, 600 S. 43rd St\, Whitecar Hall\, Philadelphia\, PA\, 19104\, United States
CATEGORIES:ELS Philadelphia Activities
ATTACH;FMTTYPE=image/avif:https://student.ilsceducation.com/wp-content/uploads/DC_202411_3780_MediumShamrockShake_1564x1564.avif
ORGANIZER;CN="ELS Philadelphia Activity Coordinator":MAILTO:activities.philadelphia@ilsceducation.com
END:VEVENT
BEGIN:VEVENT
DTSTART;TZID=America/Vancouver:20260314T123000
DTEND;TZID=America/Vancouver:20260314T153000
DTSTAMP:20260419T225711
CREATED:20250930T155350Z
LAST-MODIFIED:20260218T180206Z
UID:10001319-1773491400-1773502200@student.ilsceducation.com
SUMMARY:Time Mission
DESCRIPTION:Time Mission offers an immersive\, high-energy alternative to traditional museum outings by transforming education into a “social gaming adventure”. Located in Center City\, this experience challenges students to work in teams of 2–5 to “save the future” by completing missions across more than 25 themed portals spanning the past\, present\, and future. \nThis trip is $40 and will cover your transportation and experience.
URL:https://student.ilsceducation.com/event/76ers-vs-timberwolves/
LOCATION:ELS Philadelphia\, 600 S. 43rd St\, Whitecar Hall\, Philadelphia\, PA\, 19104\, United States
CATEGORIES:ELS Philadelphia Activities
ATTACH;FMTTYPE=image/webp:https://student.ilsceducation.com/wp-content/uploads/2025-10-21.webp
ORGANIZER;CN="ELS Philadelphia Activity Coordinator":MAILTO:activities.philadelphia@ilsceducation.com
END:VEVENT
BEGIN:VEVENT
DTSTART;TZID=America/Vancouver:20260316T124000
DTEND;TZID=America/Vancouver:20260316T133000
DTSTAMP:20260419T225711
CREATED:20250808T143311Z
LAST-MODIFIED:20260218T181340Z
UID:10000745-1773664800-1773667800@student.ilsceducation.com
SUMMARY:March Madness and Meatball Subs
DESCRIPTION:March happens to be a big time for college basketball and also hosts National Meatball day on the 9th. Since both go together in March\, we’ll enjoy meatball subs AND create brackets for the tournaments. Not familiar with basketball? that’s ok! Pick teams based off of things you like or ask our resident basketball expert Eric! \nWhitecar 207 at lunch time \n  \n 
URL:https://student.ilsceducation.com/event/decoratestocking/
LOCATION:ELS Philadelphia\, 600 S. 43rd St\, Whitecar Hall\, Philadelphia\, PA\, 19104\, United States
CATEGORIES:ELS Philadelphia Activities
ATTACH;FMTTYPE=image/png:https://student.ilsceducation.com/wp-content/uploads/Basketball-1.png
ORGANIZER;CN="ELS Philadelphia Activity Coordinator":MAILTO:activities.philadelphia@ilsceducation.com
END:VEVENT
END:VCALENDAR