BEGIN:VCALENDAR
VERSION:2.0
PRODID:-//ILSC Greystone Student Connect - ECPv6.9.1//NONSGML v1.0//EN
CALSCALE:GREGORIAN
METHOD:PUBLISH
X-ORIGINAL-URL:https://student.ilsceducation.com
X-WR-CALDESC:Events for ILSC Greystone Student Connect
REFRESH-INTERVAL;VALUE=DURATION:PT1H
X-Robots-Tag:noindex
X-PUBLISHED-TTL:PT1H
BEGIN:VTIMEZONE
TZID:America/Vancouver
BEGIN:DAYLIGHT
TZOFFSETFROM:-0800
TZOFFSETTO:-0700
TZNAME:PDT
DTSTART:20250309T100000
END:DAYLIGHT
BEGIN:STANDARD
TZOFFSETFROM:-0700
TZOFFSETTO:-0800
TZNAME:PST
DTSTART:20251102T090000
END:STANDARD
END:VTIMEZONE
BEGIN:VEVENT
DTSTART;VALUE=DATE:20250604
DTEND;VALUE=DATE:20250605
DTSTAMP:20260423T013541
CREATED:20250604T173048Z
LAST-MODIFIED:20250604T173048Z
UID:10000468-1748995200-1749081599@student.ilsceducation.com
SUMMARY:Let's celebrate National Cheese Day! ELS Cheese tasting!
DESCRIPTION:Say cheese! June 4th is National Cheese Day! Enjoy your favorite cheese or take a risk and try a type of cheese you’ve never heard of before! Come to the office for a cheese tasting during your breaks!
URL:https://student.ilsceducation.com/event/lets-celebrate-national-cheese-day-els-cheese-tasting/
CATEGORIES:ELS San Francisco Activities
ATTACH;FMTTYPE=image/jpeg:https://student.ilsceducation.com/wp-content/uploads/Picture10.jpg
ORGANIZER;CN="ELS San Francisco Activity Coordinator":MAILTO:activities.sanrafael@ilsceducation.com
END:VEVENT
BEGIN:VEVENT
DTSTART;TZID=America/Vancouver:20250613T130000
DTEND;TZID=America/Vancouver:20250613T150000
DTSTAMP:20260423T013541
CREATED:20250530T191101Z
LAST-MODIFIED:20250530T191101Z
UID:10000464-1749819600-1749826800@student.ilsceducation.com
SUMMARY:Movie and Popcorn! :)
DESCRIPTION:Join our Movie Club! Bring your lunch\, eat popcorn and have a great time watching a movie with friends! 1:00pm\, Marin classroom
URL:https://student.ilsceducation.com/event/movie-and-popcorn/
CATEGORIES:ELS San Francisco Activities
ATTACH;FMTTYPE=image/jpeg:https://student.ilsceducation.com/wp-content/uploads/Picture6.jpg
ORGANIZER;CN="ELS San Francisco Activity Coordinator":MAILTO:activities.sanrafael@ilsceducation.com
END:VEVENT
END:VCALENDAR