BEGIN:VCALENDAR
VERSION:2.0
PRODID:-//ILSC Greystone Student Connect - ECPv6.9.1//NONSGML v1.0//EN
CALSCALE:GREGORIAN
METHOD:PUBLISH
X-WR-CALNAME:ILSC Greystone Student Connect
X-ORIGINAL-URL:https://student.ilsceducation.com
X-WR-CALDESC:Events for ILSC Greystone Student Connect
REFRESH-INTERVAL;VALUE=DURATION:PT1H
X-Robots-Tag:noindex
X-PUBLISHED-TTL:PT1H
BEGIN:VTIMEZONE
TZID:America/Vancouver
BEGIN:DAYLIGHT
TZOFFSETFROM:-0800
TZOFFSETTO:-0700
TZNAME:PDT
DTSTART:20250309T100000
END:DAYLIGHT
BEGIN:STANDARD
TZOFFSETFROM:-0700
TZOFFSETTO:-0800
TZNAME:PST
DTSTART:20251102T090000
END:STANDARD
END:VTIMEZONE
BEGIN:VEVENT
DTSTART;VALUE=DATE:20250917
DTEND;VALUE=DATE:20250918
DTSTAMP:20260423T131345
CREATED:20250620T193953Z
LAST-MODIFIED:20250905T185220Z
UID:10000610-1758067200-1758153599@student.ilsceducation.com
SUMMARY:Volunteer opportunities for ELS students!
DESCRIPTION:Volunteering can be a great way to improve your English language skills! Come to the office and ask us about local volunteer opportunities! 
URL:https://student.ilsceducation.com/event/volunteer-opportunities-for-els-students/
CATEGORIES:ELS San Francisco Activities
ATTACH;FMTTYPE=image/jpeg:https://student.ilsceducation.com/wp-content/uploads/Picture1-1.jpg
ORGANIZER;CN="ELS San Francisco Activity Coordinator":MAILTO:activities.sanrafael@ilsceducation.com
END:VEVENT
END:VCALENDAR