BEGIN:VCALENDAR
VERSION:2.0
PRODID:-//ILSC Greystone Student Connect - ECPv6.9.1//NONSGML v1.0//EN
CALSCALE:GREGORIAN
METHOD:PUBLISH
X-ORIGINAL-URL:https://student.ilsceducation.com
X-WR-CALDESC:Events for ILSC Greystone Student Connect
REFRESH-INTERVAL;VALUE=DURATION:PT1H
X-Robots-Tag:noindex
X-PUBLISHED-TTL:PT1H
BEGIN:VTIMEZONE
TZID:America/Vancouver
BEGIN:DAYLIGHT
TZOFFSETFROM:-0800
TZOFFSETTO:-0700
TZNAME:PDT
DTSTART:20250309T100000
END:DAYLIGHT
BEGIN:STANDARD
TZOFFSETFROM:-0700
TZOFFSETTO:-0800
TZNAME:PST
DTSTART:20251102T090000
END:STANDARD
END:VTIMEZONE
BEGIN:VEVENT
DTSTART;VALUE=DATE:20251201
DTEND;VALUE=DATE:20251213
DTSTAMP:20260419T071648
CREATED:20251201T225832Z
LAST-MODIFIED:20251201T225832Z
UID:10001810-1764547200-1765583999@student.ilsceducation.com
SUMMARY:ELS Gingerbread House Day!
DESCRIPTION:Join one of our favorite Christmas traditions! Come to the office during breaks to make an ELS Gingerbread House!
URL:https://student.ilsceducation.com/event/els-gingerbread-house-day/
CATEGORIES:ELS San Francisco Activities
ATTACH;FMTTYPE=image/jpeg:https://student.ilsceducation.com/wp-content/uploads/vancouver-events-hyatt-gingerbread-house-2023.jpg
ORGANIZER;CN="ELS San Francisco Activity Coordinator":MAILTO:activities.sanrafael@ilsceducation.com
END:VEVENT
END:VCALENDAR