BEGIN:VCALENDAR
VERSION:2.0
PRODID:-//ILSC Greystone Student Connect - ECPv6.9.1//NONSGML v1.0//EN
CALSCALE:GREGORIAN
METHOD:PUBLISH
X-WR-CALNAME:ILSC Greystone Student Connect
X-ORIGINAL-URL:https://student.ilsceducation.com
X-WR-CALDESC:Events for ILSC Greystone Student Connect
REFRESH-INTERVAL;VALUE=DURATION:PT1H
X-Robots-Tag:noindex
X-PUBLISHED-TTL:PT1H
BEGIN:VTIMEZONE
TZID:America/Vancouver
BEGIN:DAYLIGHT
TZOFFSETFROM:-0800
TZOFFSETTO:-0700
TZNAME:PDT
DTSTART:20260308T100000
END:DAYLIGHT
BEGIN:STANDARD
TZOFFSETFROM:-0700
TZOFFSETTO:-0800
TZNAME:PST
DTSTART:20261101T090000
END:STANDARD
END:VTIMEZONE
BEGIN:VEVENT
DTSTART;VALUE=DATE:20260331
DTEND;VALUE=DATE:20260401
DTSTAMP:20260423T144814
CREATED:20250530T190224Z
LAST-MODIFIED:20260324T200600Z
UID:10000463-1774915200-1775001599@student.ilsceducation.com
SUMMARY:Wear something ELS Orange today!
DESCRIPTION:Don’t forget to wear ELS orange today! Show your support to ELS language centers!
URL:https://student.ilsceducation.com/event/wear-something-els-orange-today-2/
CATEGORIES:ELS San Francisco Activities
ATTACH;FMTTYPE=image/jpeg:https://student.ilsceducation.com/wp-content/uploads/Picture8.jpg
ORGANIZER;CN="ELS San Francisco Activity Coordinator":MAILTO:activities.sanrafael@ilsceducation.com
END:VEVENT
BEGIN:VEVENT
DTSTART;TZID=America/Vancouver:20260409T160000
DTEND;TZID=America/Vancouver:20260409T165000
DTSTAMP:20260423T144814
CREATED:20250530T194450Z
LAST-MODIFIED:20260323T184502Z
UID:10000465-1775750400-1775753400@student.ilsceducation.com
SUMMARY:ELS English Workshop!
DESCRIPTION:Don’t miss the ELS English Workshop! Come to practice your speaking\, listening\, reading\, and writing through exciting games and fun activities!
URL:https://student.ilsceducation.com/event/els-english-workshop/
CATEGORIES:ELS San Francisco Activities
ATTACH;FMTTYPE=image/jpeg:https://student.ilsceducation.com/wp-content/uploads/Picture7.jpg
ORGANIZER;CN="ELS San Francisco Activity Coordinator":MAILTO:activities.sanrafael@ilsceducation.com
END:VEVENT
BEGIN:VEVENT
DTSTART;TZID=America/Vancouver:20260423T125000
DTEND;TZID=America/Vancouver:20260423T134000
DTSTAMP:20260423T144814
CREATED:20260423T195007Z
LAST-MODIFIED:20260416T204014Z
UID:10000450-1776948600-1776951600@student.ilsceducation.com
SUMMARY:Pizza lunch!
DESCRIPTION:Meet new students and enjoy Pizza Lunch! Don’t miss it! Come to the office at 12:50!
URL:https://student.ilsceducation.com/event/pizza-lunch/
CATEGORIES:ELS San Francisco Activities
ATTACH;FMTTYPE=image/png:https://student.ilsceducation.com/wp-content/uploads/Pizza.png
ORGANIZER;CN="ELS San Francisco Activity Coordinator":MAILTO:activities.sanrafael@ilsceducation.com
END:VEVENT
BEGIN:VEVENT
DTSTART;VALUE=DATE:20260430
DTEND;VALUE=DATE:20260501
DTSTAMP:20260423T144814
CREATED:20260220T212713Z
LAST-MODIFIED:20260416T195947Z
UID:10002012-1777507200-1777593599@student.ilsceducation.com
SUMMARY:ELS Class Picture Day!
DESCRIPTION:Smile! 🙂 \nIt’s time for ELS Class Pictures!!!
URL:https://student.ilsceducation.com/event/els-class-picture-day/
CATEGORIES:ELS San Francisco Activities
ATTACH;FMTTYPE=image/png:https://student.ilsceducation.com/wp-content/uploads/Picture2n.png
ORGANIZER;CN="ELS San Francisco Activity Coordinator":MAILTO:activities.sanrafael@ilsceducation.com
END:VEVENT
BEGIN:VEVENT
DTSTART;TZID=America/Vancouver:20260507T104500
DTEND;TZID=America/Vancouver:20260507T110500
DTSTAMP:20260423T144814
CREATED:20250528T182103Z
LAST-MODIFIED:20260416T203658Z
UID:10000451-1778150700-1778151900@student.ilsceducation.com
SUMMARY:ELS Donut Day!
DESCRIPTION:Donuts are the perfect round of happiness! Enjoy free coffee and your favorite donut! Come to the office at 10:45 pm!
URL:https://student.ilsceducation.com/event/els-donut-day/
CATEGORIES:ELS San Francisco Activities
ATTACH;FMTTYPE=image/jpeg:https://student.ilsceducation.com/wp-content/uploads/Donuts-scaled.jpg
ORGANIZER;CN="ELS San Francisco Activity Coordinator":MAILTO:activities.sanrafael@ilsceducation.com
END:VEVENT
BEGIN:VEVENT
DTSTART;TZID=America/Vancouver:20260512T125000
DTEND;TZID=America/Vancouver:20260512T134000
DTSTAMP:20260423T144814
CREATED:20250528T201650Z
LAST-MODIFIED:20260416T195851Z
UID:10000452-1778590200-1778593200@student.ilsceducation.com
SUMMARY:Happy Birthday Celebration!
DESCRIPTION:Let’s Celebrate Session 3 Birthdays! Come to the office at lunch break to try something tasty and sweet and enjoy the cheerful company! See you there! 
URL:https://student.ilsceducation.com/event/happy-birthday-celebration/
CATEGORIES:ELS San Francisco Activities
ATTACH;FMTTYPE=image/png:https://student.ilsceducation.com/wp-content/uploads/Picture12-1.png
ORGANIZER;CN="ELS San Francisco Activity Coordinator":MAILTO:activities.sanrafael@ilsceducation.com
END:VEVENT
END:VCALENDAR