BEGIN:VCALENDAR
VERSION:2.0
PRODID:-//ILSC Greystone Student Connect - ECPv6.9.1//NONSGML v1.0//EN
CALSCALE:GREGORIAN
METHOD:PUBLISH
X-ORIGINAL-URL:https://student.ilsceducation.com
X-WR-CALDESC:Events for ILSC Greystone Student Connect
REFRESH-INTERVAL;VALUE=DURATION:PT1H
X-Robots-Tag:noindex
X-PUBLISHED-TTL:PT1H
BEGIN:VTIMEZONE
TZID:Australia/Melbourne
BEGIN:STANDARD
TZOFFSETFROM:+1100
TZOFFSETTO:+1000
TZNAME:AEST
DTSTART:20260404T160000
END:STANDARD
BEGIN:DAYLIGHT
TZOFFSETFROM:+1000
TZOFFSETTO:+1100
TZNAME:AEDT
DTSTART:20261003T160000
END:DAYLIGHT
END:VTIMEZONE
BEGIN:VEVENT
DTSTART;TZID=Australia/Melbourne:20260408T140000
DTEND;TZID=Australia/Melbourne:20260408T150000
DTSTAMP:20260423T154329
CREATED:20260217T021251Z
LAST-MODIFIED:20260217T080420Z
UID:10001991-1775656800-1775660400@student.ilsceducation.com
SUMMARY:Preparing for an interview - prompts\, mock interviews\, body language Workshop
DESCRIPTION:Preparing for an Interview – Prompts\, Mock Interviews & Body Language \nReady to walk into your next interview with confidence? ✨ \nJoin us for this practical\, hands-on workshop designed to help you feel calm\, prepared\, and ready to impress! Whether you’re applying for part-time work\, internships\, or your future career role\, this session will give you the tools to stand out. \nMelbourne CampusWednesday 8th April 2026⏰ 2:00pmRoom 1602 \nIn this interactive workshop\, you will:✅ Learn how to structure strong\, clear interview responses✅ Practice with mock interview questions in a supportive environment✅ Understand how body language and non-verbal communication can make a powerful impact✅ Build real confidence through guided practice \nThis is not just theory — you’ll actively participate\, reflect\, and improve in real time. \nPlease bring your laptop or tablet so you can fully engage in the activities. \nWe look forward to seeing you there and supporting you on your career journey!
URL:https://student.ilsceducation.com/event/preparing-for-an-interview-prompts-mock-interviews-body-language-workshop-3/
LOCATION:Melbourne Campus\, Level 7/120 Spencer St\, Melbourne\, VIC\, 3000\, Australia
CATEGORIES:Greystone College Melbourne Activities
ATTACH;FMTTYPE=image/jpeg:https://student.ilsceducation.com/wp-content/uploads/Preparing-for-an-interview-MEL.jpg
END:VEVENT
END:VCALENDAR