BEGIN:VCALENDAR
VERSION:2.0
PRODID:-//ILSC Greystone Student Connect - ECPv6.9.1//NONSGML v1.0//EN
CALSCALE:GREGORIAN
METHOD:PUBLISH
X-ORIGINAL-URL:https://student.ilsceducation.com
X-WR-CALDESC:Events for ILSC Greystone Student Connect
REFRESH-INTERVAL;VALUE=DURATION:PT1H
X-Robots-Tag:noindex
X-PUBLISHED-TTL:PT1H
BEGIN:VTIMEZONE
TZID:Australia/Perth
BEGIN:STANDARD
TZOFFSETFROM:+0800
TZOFFSETTO:+0800
TZNAME:AWST
DTSTART:20250101T000000
END:STANDARD
END:VTIMEZONE
BEGIN:VEVENT
DTSTART;TZID=Australia/Perth:20250901T130000
DTEND;TZID=Australia/Perth:20250904T210000
DTSTAMP:20260425T033126
CREATED:20250830T030624Z
LAST-MODIFIED:20250830T030624Z
UID:10000843-1756731600-1757019600@student.ilsceducation.com
SUMMARY:PER Academic Workshops 01st SEPT - 04th SEPT 2025
DESCRIPTION:Greystone College Perth – Student Activities Workshops  \n Session 9 – Week 4 (1st – 4th September 2025) Room 6\, Perth Campus \nWe’ve got some exciting workshops lined up just for YOU! ✨ These are a perfect chance to build new skills\, boost your creativity\, and connect with other students  \n Here’s what’s happening this week: \n Monday\, Sept 1 | 2:00–2:45pm Design Thinking for Innovation – Learn how to think outside the box and spark creative solutions! \n Tuesday\, Sept 2 | 2:00–2:45pm Making Infographics with AI – Discover how AI can help you create eye-catching infographics with ease! \n Wednesday\, Sept 3 | 6:00–6:45pm⚖️ Work-Life Balance: Strategies to Maintain a Healthy Balance Between Work & Personal Life – Practical tips to keep you motivated and stress-free. \n Thursday\, Sept 4 | 6:00–6:45pm⚖️ Work-Life Balance: Strategies to Maintain a Healthy Balance Between Work & Personal Life – In case you missed it\, here’s another chance! \n✨ All international students are welcome – come join in\, learn\, and have fun! Don’t miss this opportunity to build skills that will support both your studies and future career. \n Stay connected with us:Instagram: @greystonecollegeperthFacebook: @greystonecollegeperthYouTube: ilscTV
URL:https://student.ilsceducation.com/event/per-academic-workshops-01st-sept-04th-sept-2025/
LOCATION:Perth Campus\, 150 St Georges Terrace\, Perth\, WA\, 6000\, Australia
CATEGORIES:Greystone College Australia Activities,Greystone College Perth Activities
END:VEVENT
BEGIN:VEVENT
DTSTART;TZID=Australia/Perth:20250908T130000
DTEND;TZID=Australia/Perth:20250911T210000
DTSTAMP:20260425T033126
CREATED:20250905T070256Z
LAST-MODIFIED:20250905T070256Z
UID:10000863-1757336400-1757624400@student.ilsceducation.com
SUMMARY:PER Academic Workshops 08th SEPT - 11th SEPT 2025
DESCRIPTION:✨ Greystone College Perth – Workshop Week! ✨ \nHey students! We’ve got some exciting workshops lined up for Session 10 – Week 1 (8th–11th Sept 2025) that you won’t want to miss!  \n This Week’s Highlights: Monday – Navigating Moodle First Day Workshop ️ (Room 6\, 6:00pm)Get comfortable with Moodle and set yourself up for success from Day 1! \n Tuesday – Introduction to Copilot & AI in Career Development  (Room 6\, 2:00pm)Discover how AI can shape your career and boost your professional skills. \n Wednesday & Thursday – Business Meditation III – Gathering Strength ‍♂️✨ (Room 6\, 6:00pm)Build focus\, reduce stress\, and strengthen your business mindset. \n These workshops are free\, fun\, and designed just for you!Don’t miss this chance to learn\, grow\, and connect with others.  \n Where: Greystone College Perth\, Room 6 Stay tuned on Instagram: @greystonecollegeperth \nSee you there!
URL:https://student.ilsceducation.com/event/per-academic-workshops-08th-sept-11th-sept-2025/
LOCATION:Perth Campus\, 150 St Georges Terrace\, Perth\, WA\, 6000\, Australia
CATEGORIES:Greystone College Australia Activities,Greystone College Perth Activities
END:VEVENT
BEGIN:VEVENT
DTSTART;TZID=Australia/Perth:20250915T130000
DTEND;TZID=Australia/Perth:20250918T210000
DTSTAMP:20260425T033126
CREATED:20250912T053516Z
LAST-MODIFIED:20250915T010913Z
UID:10000889-1757941200-1758229200@student.ilsceducation.com
SUMMARY:PER Academic Workshops 15th SEPT - 18th SEPT 2025
DESCRIPTION:Perth Campus Workshops – Session 10\, Week 2\n15th – 18th September 2025Greystone College\, Perth  \nJoin us this week for an exciting line-up of workshops designed to boost your skills\, confidence\, and success both inside and outside the classroom! ✨ \n\nMonday\, 15th September\n2:00pm – 2:45pmUnderstanding Greystone AssessmentsLearn how to approach your assessments with confidence! This session will guide you through Greystone’s assessment processes\, expectations\, and practical tips to help you succeed. Perfect for new students or anyone wanting clarity and confidence before submitting their work. ✅ \n\nTuesday\, 16th September\n2:00pm – 2:45pmUnderstanding the Australian Job MarketThinking about work opportunities in Australia? This workshop explores how the Australian job market works\, what employers look for\, and how to tailor your resume and approach to stand out. A must-attend for students preparing for part-time or future career opportunities. \n\nWednesday\, 17th September\n2:00pm – 2:45pmGame Theory EconomicsDive into the fascinating world of decision-making and strategy! Game theory helps explain everything from business negotiations to everyday choices. Come along to sharpen your critical thinking skills and explore the economics behind human behaviour. \n\nThursday\, 18th September\n2:00pm – 2:45pmGame Theory Economics (Encore Session)Back by popular demand! If you missed Wednesday’s session (or simply want to learn more)\, here’s another chance to explore the exciting concepts of Game Theory and how it applies to real-world economics. \n\n✨ These workshops are completely free for all Greystone students – a great way to grow your knowledge\, meet new people\, and gain practical skills to support your academic and career journey!
URL:https://student.ilsceducation.com/event/per-academic-workshops-15th-sept-18th-sept-2025/
LOCATION:Perth Campus\, 150 St Georges Terrace\, Perth\, WA\, 6000\, Australia
CATEGORIES:Greystone College Australia Activities,Greystone College Perth Activities
END:VEVENT
BEGIN:VEVENT
DTSTART;TZID=Australia/Perth:20250922T130000
DTEND;TZID=Australia/Perth:20250925T210000
DTSTAMP:20260425T033126
CREATED:20250919T020515Z
LAST-MODIFIED:20250919T020515Z
UID:10001229-1758546000-1758834000@student.ilsceducation.com
SUMMARY:PER Academic Workshops 22nd SEPT - 25th SEPT 2025
DESCRIPTION:Join Us for Perth Activity Workshops! \n Greystone College Perth – Activity Workshops️ Session 10\, Week 3: 22nd – 25th September 2025 Perth Campus \nDear Students\, \nWe are excited to invite you to another week of engaging and practical Activity Workshops at Greystone College Perth! ✨ These workshops are designed to help you sharpen your skills\, build confidence\, and support your professional and personal growth while connecting with fellow students.  \nHere’s the workshop line-up for this week  \n\n Afternoon Sessions (2:00pm – 2:45pm)\nMonday Paraphrasing Skills – Room 6Enhance your academic writing and avoid plagiarism with practical paraphrasing techniques. \nTuesday Workplace Culture & Communication in Australia – Room 11Learn about Australian workplace expectations and improve your communication for success. \nWednesday Workplace Well-being: Promote Mental Health at Work – Room 6Discover strategies to manage stress\, support balance\, and foster a healthy workplace. \nThursday Workplace Well-being: Promote Mental Health at Work – Room 6Continue your well-being journey with another chance to focus on workplace mental health. \n\n Evening Sessions (6:00pm – 6:45pm)\nWednesday Workplace Well-being: Promote Mental Health at Work – Room 6A dedicated evening session for those who can’t attend earlier – prioritise your well-being! \nThursday Workplace Well-being: Promote Mental Health at Work – Room 6Build resilience and explore practical approaches to maintaining mental health at work. \n\n Why attend?✔️ Build essential academic & workplace skills ✔️ Strengthen your communication & cultural understanding ✔️ Prioritise your mental health & well-being ✔️ Connect with your peers and grow your support network  \n✨ No need to register – just come along! Everyone is welcome\, so bring your curiosity and enthusiasm. \nWe look forward to seeing you there and supporting your journey towards success!  \nWarm regards\,Greystone College Perth Team \n Follow us for updates & highlights: Facebook & Instagram: @greystonecollegeperth YouTube: ilscTV
URL:https://student.ilsceducation.com/event/per-academic-workshops-22nd-sept-25th-sept-2025/
LOCATION:Perth Campus\, 150 St Georges Terrace\, Perth\, WA\, 6000\, Australia
CATEGORIES:Greystone College Australia Activities,Greystone College Perth Activities
END:VEVENT
BEGIN:VEVENT
DTSTART;TZID=Australia/Perth:20250929T130000
DTEND;TZID=Australia/Perth:20251002T210000
DTSTAMP:20260425T033126
CREATED:20250926T053927Z
LAST-MODIFIED:20250926T053927Z
UID:10001291-1759150800-1759438800@student.ilsceducation.com
SUMMARY:PER Academic Workshops 29th SEPT - 02nd OCT 2025
DESCRIPTION:Greystone College Perth – Workshop Calendar (Session 10\, Week 4: Sept 29 – Oct 2\, 2025) \n✨ Join us for a week of engaging workshops designed to boost your skills\, sharpen your focus\, and prepare you for real-world career success. These sessions are practical\, inspiring\, and the perfect way to connect with others on campus!  \n\n️ Monday\, Sept 29 Room 6 2:00pm – 2:45pm Creating a Catch-Up Study PlanLearn how to organise your time\, set achievable goals\, and stay on track with your studies. Perfect for anyone looking to manage deadlines with confidence. ✍️ \n\n️ Tuesday\, Sept 30 Room 11 2:00pm – 2:45pm ATS Explained – How to Get Past the BotsEver wondered how to make your resume shine in today’s job market?  Learn how Applicant Tracking Systems (ATS) work and discover strategies to ensure your applications get noticed by recruiters.  \n\n️ Wednesday\, Oct 1 Room 6 6:00pm – 6:45pm Mindfulness Practices: Learn Techniques to Improve Focus and Reduce StressDiscover simple mindfulness tools to help you perform better in class\, at work\, and in life. ✨ Stay calm\, sharp\, and motivated. \n\n️ Thursday\, Oct 2 Room 6 6:00pm – 6:45pm Mindfulness Practices: Learn Techniques to Improve Focus and Reduce StressMissed Wednesday’s session? Here’s another chance to explore mindfulness strategies for stress management and improved focus.  \n\n Don’t miss out on these FREE workshops – designed to empower you with practical skills that employers value and that will support your personal growth. \n See you there\, Perth campus community!  \nFollow us for updates & highlights:Facebook & Instagram: @greystonecollegeperthYouTube: ilscTV
URL:https://student.ilsceducation.com/event/per-academic-workshops-29th-sept-02nd-oct-2025/
LOCATION:Perth Campus\, 150 St Georges Terrace\, Perth\, WA\, 6000\, Australia
CATEGORIES:Greystone College Australia Activities,Greystone College Perth Activities
END:VEVENT
END:VCALENDAR