BEGIN:VCALENDAR
VERSION:2.0
PRODID:-//ILSC Greystone Student Connect - ECPv6.9.1//NONSGML v1.0//EN
CALSCALE:GREGORIAN
METHOD:PUBLISH
X-WR-CALNAME:ILSC Greystone Student Connect
X-ORIGINAL-URL:https://student.ilsceducation.com
X-WR-CALDESC:Events for ILSC Greystone Student Connect
REFRESH-INTERVAL;VALUE=DURATION:PT1H
X-Robots-Tag:noindex
X-PUBLISHED-TTL:PT1H
BEGIN:VTIMEZONE
TZID:Australia/Perth
BEGIN:STANDARD
TZOFFSETFROM:+0800
TZOFFSETTO:+0800
TZNAME:AWST
DTSTART:20250101T000000
END:STANDARD
END:VTIMEZONE
BEGIN:VEVENT
DTSTART;TZID=Australia/Perth:20250915T130000
DTEND;TZID=Australia/Perth:20250918T210000
DTSTAMP:20260425T191541
CREATED:20250912T053516Z
LAST-MODIFIED:20250915T010913Z
UID:10000889-1757941200-1758229200@student.ilsceducation.com
SUMMARY:PER Academic Workshops 15th SEPT - 18th SEPT 2025
DESCRIPTION:Perth Campus Workshops – Session 10\, Week 2\n15th – 18th September 2025Greystone College\, Perth  \nJoin us this week for an exciting line-up of workshops designed to boost your skills\, confidence\, and success both inside and outside the classroom! ✨ \n\nMonday\, 15th September\n2:00pm – 2:45pmUnderstanding Greystone AssessmentsLearn how to approach your assessments with confidence! This session will guide you through Greystone’s assessment processes\, expectations\, and practical tips to help you succeed. Perfect for new students or anyone wanting clarity and confidence before submitting their work. ✅ \n\nTuesday\, 16th September\n2:00pm – 2:45pmUnderstanding the Australian Job MarketThinking about work opportunities in Australia? This workshop explores how the Australian job market works\, what employers look for\, and how to tailor your resume and approach to stand out. A must-attend for students preparing for part-time or future career opportunities. \n\nWednesday\, 17th September\n2:00pm – 2:45pmGame Theory EconomicsDive into the fascinating world of decision-making and strategy! Game theory helps explain everything from business negotiations to everyday choices. Come along to sharpen your critical thinking skills and explore the economics behind human behaviour. \n\nThursday\, 18th September\n2:00pm – 2:45pmGame Theory Economics (Encore Session)Back by popular demand! If you missed Wednesday’s session (or simply want to learn more)\, here’s another chance to explore the exciting concepts of Game Theory and how it applies to real-world economics. \n\n✨ These workshops are completely free for all Greystone students – a great way to grow your knowledge\, meet new people\, and gain practical skills to support your academic and career journey!
URL:https://student.ilsceducation.com/event/per-academic-workshops-15th-sept-18th-sept-2025/
LOCATION:Perth Campus\, 150 St Georges Terrace\, Perth\, WA\, 6000\, Australia
CATEGORIES:Greystone College Australia Activities,Greystone College Perth Activities
END:VEVENT
END:VCALENDAR