BEGIN:VCALENDAR
VERSION:2.0
PRODID:-//ILSC Greystone Student Connect - ECPv6.9.1//NONSGML v1.0//EN
CALSCALE:GREGORIAN
METHOD:PUBLISH
X-WR-CALNAME:ILSC Greystone Student Connect
X-ORIGINAL-URL:https://student.ilsceducation.com
X-WR-CALDESC:Events for ILSC Greystone Student Connect
REFRESH-INTERVAL;VALUE=DURATION:PT1H
X-Robots-Tag:noindex
X-PUBLISHED-TTL:PT1H
BEGIN:VTIMEZONE
TZID:Australia/Perth
BEGIN:STANDARD
TZOFFSETFROM:+0800
TZOFFSETTO:+0800
TZNAME:AWST
DTSTART:20250101T000000
END:STANDARD
END:VTIMEZONE
BEGIN:VEVENT
DTSTART;TZID=Australia/Perth:20250922T130000
DTEND;TZID=Australia/Perth:20250925T210000
DTSTAMP:20260425T045219
CREATED:20250919T020515Z
LAST-MODIFIED:20250919T020515Z
UID:10001229-1758546000-1758834000@student.ilsceducation.com
SUMMARY:PER Academic Workshops 22nd SEPT - 25th SEPT 2025
DESCRIPTION:Join Us for Perth Activity Workshops! \n Greystone College Perth – Activity Workshops️ Session 10\, Week 3: 22nd – 25th September 2025 Perth Campus \nDear Students\, \nWe are excited to invite you to another week of engaging and practical Activity Workshops at Greystone College Perth! ✨ These workshops are designed to help you sharpen your skills\, build confidence\, and support your professional and personal growth while connecting with fellow students.  \nHere’s the workshop line-up for this week  \n\n Afternoon Sessions (2:00pm – 2:45pm)\nMonday Paraphrasing Skills – Room 6Enhance your academic writing and avoid plagiarism with practical paraphrasing techniques. \nTuesday Workplace Culture & Communication in Australia – Room 11Learn about Australian workplace expectations and improve your communication for success. \nWednesday Workplace Well-being: Promote Mental Health at Work – Room 6Discover strategies to manage stress\, support balance\, and foster a healthy workplace. \nThursday Workplace Well-being: Promote Mental Health at Work – Room 6Continue your well-being journey with another chance to focus on workplace mental health. \n\n Evening Sessions (6:00pm – 6:45pm)\nWednesday Workplace Well-being: Promote Mental Health at Work – Room 6A dedicated evening session for those who can’t attend earlier – prioritise your well-being! \nThursday Workplace Well-being: Promote Mental Health at Work – Room 6Build resilience and explore practical approaches to maintaining mental health at work. \n\n Why attend?✔️ Build essential academic & workplace skills ✔️ Strengthen your communication & cultural understanding ✔️ Prioritise your mental health & well-being ✔️ Connect with your peers and grow your support network  \n✨ No need to register – just come along! Everyone is welcome\, so bring your curiosity and enthusiasm. \nWe look forward to seeing you there and supporting your journey towards success!  \nWarm regards\,Greystone College Perth Team \n Follow us for updates & highlights: Facebook & Instagram: @greystonecollegeperth YouTube: ilscTV
URL:https://student.ilsceducation.com/event/per-academic-workshops-22nd-sept-25th-sept-2025/
LOCATION:Perth Campus\, 150 St Georges Terrace\, Perth\, WA\, 6000\, Australia
CATEGORIES:Greystone College Australia Activities,Greystone College Perth Activities
END:VEVENT
END:VCALENDAR