BEGIN:VCALENDAR
VERSION:2.0
PRODID:-//ILSC Greystone Student Connect - ECPv6.9.1//NONSGML v1.0//EN
CALSCALE:GREGORIAN
METHOD:PUBLISH
X-ORIGINAL-URL:https://student.ilsceducation.com
X-WR-CALDESC:Events for ILSC Greystone Student Connect
REFRESH-INTERVAL;VALUE=DURATION:PT1H
X-Robots-Tag:noindex
X-PUBLISHED-TTL:PT1H
BEGIN:VTIMEZONE
TZID:Australia/Perth
BEGIN:STANDARD
TZOFFSETFROM:+0800
TZOFFSETTO:+0800
TZNAME:AWST
DTSTART:20250101T000000
END:STANDARD
END:VTIMEZONE
BEGIN:VEVENT
DTSTART;TZID=Australia/Perth:20251006T130000
DTEND;TZID=Australia/Perth:20251009T210000
DTSTAMP:20260422T180157
CREATED:20251003T064058Z
LAST-MODIFIED:20251003T064058Z
UID:10001341-1759755600-1760043600@student.ilsceducation.com
SUMMARY:PER Academic Workshops 06th OCT - 09th OCT 2025
DESCRIPTION:Greystone College Perth – On Campus Workshops!  \nDear Students\, \nWe’re starting Session 11 (6th – 9th October 2025) with a week of innovative and inspiring workshops designed to support your career journey and personal growth!  \n On Campus – Perth Times: 2:00pm–2:45pm & 6:00pm–6:45pm \n✨ This Week’s Workshop Line-Up: \n\n\nTuesday: Introduction to Copilot & AI in Career Development  (Room 11) \n\n\nWednesday: Business Meditation IV – Timing Actions ‍♂️ (Room 6) \n\n\nThursday: Business Meditation IV – Timing Actions ‍♀️ (Room 6) \n\n\n Why join?✅ Discover how AI tools like Copilot can supercharge your career development ✅ Learn how to manage focus\, productivity\, and timing through business meditation ⏱️✅ Connect with peers\, grow your skills\, and gain valuable insights in a supportive environment  \n These workshops are a great chance to mix learning with personal growth—don’t miss out on this unique opportunity to explore both technology and mindfulness in business! \nSee you there\,Greystone College Perth Team  \nFollow us for updates & highlights:Facebook & Instagram: @greystonecollegeperthYouTube: ilscTV
URL:https://student.ilsceducation.com/event/per-academic-workshops-06th-oct-09th-oct-2025/
LOCATION:Perth Campus\, 150 St Georges Terrace\, Perth\, WA\, 6000\, Australia
CATEGORIES:Greystone College Australia Activities,Greystone College Perth Activities
END:VEVENT
END:VCALENDAR