BEGIN:VCALENDAR
VERSION:2.0
PRODID:-//ILSC Greystone Student Connect - ECPv6.9.1//NONSGML v1.0//EN
CALSCALE:GREGORIAN
METHOD:PUBLISH
X-WR-CALNAME:ILSC Greystone Student Connect
X-ORIGINAL-URL:https://student.ilsceducation.com
X-WR-CALDESC:Events for ILSC Greystone Student Connect
REFRESH-INTERVAL;VALUE=DURATION:PT1H
X-Robots-Tag:noindex
X-PUBLISHED-TTL:PT1H
BEGIN:VTIMEZONE
TZID:Australia/Perth
BEGIN:STANDARD
TZOFFSETFROM:+0800
TZOFFSETTO:+0800
TZNAME:AWST
DTSTART:20250101T000000
END:STANDARD
TZID:Australia/Brisbane
BEGIN:STANDARD
TZOFFSETFROM:+1000
TZOFFSETTO:+1000
TZNAME:AEST
DTSTART:20250101T000000
END:STANDARD
END:VTIMEZONE
BEGIN:VEVENT
DTSTART;TZID=Australia/Perth:20251013T130000
DTEND;TZID=Australia/Perth:20251016T210000
DTSTAMP:20260424T060651
CREATED:20251010T045602Z
LAST-MODIFIED:20251010T045602Z
UID:10001366-1760360400-1760648400@student.ilsceducation.com
SUMMARY:PER Academic Workshops 13th OCT -16th OCT 2025
DESCRIPTION:Greystone College Perth – Activity Workshops Invitation!\n Session 11 – Week 2 | 13th – 16th October 2025 Greystone College Perth \nHello Perth Students! Get ready to level up your learning experience with our Activity Workshops — designed especially for our amazing international students! ✨ \nThese engaging\, hands-on sessions will help you strengthen your professional skills\, gain practical insight into the Australian job market\, and explore how to balance business focus with mindfulness and strategy. ‍♀️ \nWhether you’re new to Greystone or preparing for your next career move\, these workshops will give you valuable skills for both your studies and your professional journey in Australia.  \n\n Workshop Schedule\n Tuesday\, 14 October 2:00 pm – 2:45 pm | Understanding the Australian Job Market Room 11 \n\nLearn how the Australian job market works — what employers value\, how to prepare a standout resume\, and how to succeed in local interviews.  \n\n\n Monday\, 13 October 6:00 pm – 6:45 pm | Understanding Greystone Assessments Room 6 \n\nGain a clear understanding of how assessments work at Greystone College. Learn tips for completing tasks successfully and achieving your best results.  \n\n\n Wednesday\, 15 October 6:00 pm – 6:45 pm | Business Meditation V – Strategic Planning Room 6 \n\nCombine mindfulness and professional thinking in this unique session. Learn how reflection and calm focus can enhance decision-making and business strategy.  \n\n\n Thursday\, 16 October 6:00 pm – 6:45 pm | Business Meditation V – Strategic Planning (continued) Room 6 \n\nDeepen your understanding of strategic thinking with guided techniques to stay balanced\, focused\, and purpose-driven in your career goals. ‍♂️ \n\n\n Why Join?\n Strengthen your academic and career readiness Understand Australian workplace culture and expectations Learn mindfulness strategies to support your business mindset Network with other international students and share ideas Build confidence\, communication\, and employability skills \n\n Stay Connected!Instagram: @greystonecollegeperthFacebook: @greystonecollegeperthYouTube: iLSCTV \n\n Grow. Learn. Lead.Join us this week for inspiring and practical workshops that prepare you for success — inside and outside the classroom.We can’t wait to see you at Greystone College Perth! ✨
URL:https://student.ilsceducation.com/event/per-academic-workshops-13th-oct-16th-oct-2025/
LOCATION:Perth Campus\, 150 St Georges Terrace\, Perth\, WA\, 6000\, Australia
CATEGORIES:Greystone College Australia Activities,Greystone College Perth Activities
END:VEVENT
BEGIN:VEVENT
DTSTART;TZID=Australia/Brisbane:20251014T183000
DTEND;TZID=Australia/Brisbane:20251014T191500
DTSTAMP:20260424T060651
CREATED:20250930T020006Z
LAST-MODIFIED:20250930T020006Z
UID:10001310-1760466600-1760469300@student.ilsceducation.com
SUMMARY:Leading Projects with Confidence and Clarity 
DESCRIPTION:Speaker: Roopsirat Sekhon \nWe are delighted to welcome Roopsirat K. Sekhon\, an accomplished VET sector leader with over 16 years of experience in the Australian education sector\, as our next Industry Guest Speaker! ✨ \nCurrently the Campus Manager at Australian Study Link Institute (ASLI)\, Roopsirat has successfully led cross-functional projects in compliance\, quality assurance\, student services\, and operational management. She is known as a compliance-driven leader with a passion for governance and quality\, ensuring alignment with key frameworks including the ESOS Act 2000\, National Code 2018\, and Standards for RTOs 2025. \nAlongside her leadership roles\, Roopsirat has hands-on experience as a trainer and assessor delivering BSB qualifications\, giving her a unique perspective that connects strategic leadership with classroom delivery. Recently completing her Diploma of Quality Auditing at Swinburne University and advanced auditor training\, she brings deep expertise in governance\, auditing\, and risk management. \nHer session will inspire students to:\n✅ Gain confidence in leading projects effectively\n✅ Understand the role of compliance in project success\n✅ Learn from real industry experiences in the VET sector \nThis is an exciting opportunity to hear directly from an industry professional who combines leadership\, compliance expertise\, and a passion for lifelong learning. \n Date: Tuesday 14th October 2025\n Time: 6.30pm (BNE) 7.30pm (SYD-MELB) 7.00pm (ADL) 4.30pm (PER)\nLocation: Webinar – MS Teams \n Don’t miss this chance to gain insights into leading projects with clarity\, confidence\, and industry best practice! \nRegister HERE
URL:https://student.ilsceducation.com/event/leading-projects-with-confidence-and-clarity/
CATEGORIES:Academic Workshops Australia,Greystone College Adelaide Activities,Greystone College Australia Activities,Greystone College Brisbane Activities,Greystone College Melbourne Activities,Greystone College Perth Activities,Greystone College Sydney Activities
ATTACH;FMTTYPE=image/jpeg:https://student.ilsceducation.com/wp-content/uploads/Roop.jpg
END:VEVENT
BEGIN:VEVENT
DTSTART;TZID=Australia/Brisbane:20251014T183000
DTEND;TZID=Australia/Brisbane:20251014T191500
DTSTAMP:20260424T060651
CREATED:20250930T020402Z
LAST-MODIFIED:20250930T020402Z
UID:10001311-1760466600-1760469300@student.ilsceducation.com
SUMMARY:Reinventing Yourself Abroad: The Power of Image and Communication
DESCRIPTION:Speaker: Sara Manuela Guerrero Rosales \n✨ Join us for an inspiring session with Sara Guerrero\, a Marketing and Communication professional with international experience across retail\, digital marketing\, and personal branding. \nWith a strong background in corporate communication and fashion\, Sara is passionate about helping people harness the power of image and communication to express their identity and unlock opportunities worldwide. She is the founder of MALA\, a creative project that blends fashion\, styling\, and empowerment\, and is currently completing her Diploma of Marketing and Communication here in Brisbane\, Australia. \n In this session\, Sara will share her personal and professional journey of reinventing yourself abroad—offering insights on how to adapt\, grow\, and thrive in a global environment. Expect practical tips on personal branding\, self-expression\, and building confidence in new settings. \n Date: Tuesday 14th October 2025\nLocation: Webinar: MS Teams\nTime: 6.30pm (BNE) 7.30pm (SYD-MELB) 7.00pm (ADL) 4.30pm (PER) \nDon’t miss this opportunity to learn\, connect\, and be inspired by Sara’s story and expertise.  \nRegister HERE
URL:https://student.ilsceducation.com/event/reinventing-yourself-abroad-the-power-of-image-and-communication/
CATEGORIES:Academic Workshops Australia,Greystone College Adelaide Activities,Greystone College Australia Activities,Greystone College Brisbane Activities,Greystone College Melbourne Activities,Greystone College Perth Activities,Greystone College Sydney Activities
ATTACH;FMTTYPE=image/jpeg:https://student.ilsceducation.com/wp-content/uploads/Sara-Manuela-Guerrero-Rosales.jpg
END:VEVENT
END:VCALENDAR