BEGIN:VCALENDAR
VERSION:2.0
PRODID:-//ILSC Greystone Student Connect - ECPv6.9.1//NONSGML v1.0//EN
CALSCALE:GREGORIAN
METHOD:PUBLISH
X-ORIGINAL-URL:https://student.ilsceducation.com
X-WR-CALDESC:Events for ILSC Greystone Student Connect
REFRESH-INTERVAL;VALUE=DURATION:PT1H
X-Robots-Tag:noindex
X-PUBLISHED-TTL:PT1H
BEGIN:VTIMEZONE
TZID:Australia/Perth
BEGIN:STANDARD
TZOFFSETFROM:+0800
TZOFFSETTO:+0800
TZNAME:AWST
DTSTART:20250101T000000
END:STANDARD
TZID:Australia/Brisbane
BEGIN:STANDARD
TZOFFSETFROM:+1000
TZOFFSETTO:+1000
TZNAME:AEST
DTSTART:20250101T000000
END:STANDARD
END:VTIMEZONE
BEGIN:VEVENT
DTSTART;TZID=Australia/Perth:20251013T130000
DTEND;TZID=Australia/Perth:20251016T210000
DTSTAMP:20260423T082706
CREATED:20251010T045602Z
LAST-MODIFIED:20251010T045602Z
UID:10001366-1760360400-1760648400@student.ilsceducation.com
SUMMARY:PER Academic Workshops 13th OCT -16th OCT 2025
DESCRIPTION:Greystone College Perth – Activity Workshops Invitation!\n Session 11 – Week 2 | 13th – 16th October 2025 Greystone College Perth \nHello Perth Students! Get ready to level up your learning experience with our Activity Workshops — designed especially for our amazing international students! ✨ \nThese engaging\, hands-on sessions will help you strengthen your professional skills\, gain practical insight into the Australian job market\, and explore how to balance business focus with mindfulness and strategy. ‍♀️ \nWhether you’re new to Greystone or preparing for your next career move\, these workshops will give you valuable skills for both your studies and your professional journey in Australia.  \n\n Workshop Schedule\n Tuesday\, 14 October 2:00 pm – 2:45 pm | Understanding the Australian Job Market Room 11 \n\nLearn how the Australian job market works — what employers value\, how to prepare a standout resume\, and how to succeed in local interviews.  \n\n\n Monday\, 13 October 6:00 pm – 6:45 pm | Understanding Greystone Assessments Room 6 \n\nGain a clear understanding of how assessments work at Greystone College. Learn tips for completing tasks successfully and achieving your best results.  \n\n\n Wednesday\, 15 October 6:00 pm – 6:45 pm | Business Meditation V – Strategic Planning Room 6 \n\nCombine mindfulness and professional thinking in this unique session. Learn how reflection and calm focus can enhance decision-making and business strategy.  \n\n\n Thursday\, 16 October 6:00 pm – 6:45 pm | Business Meditation V – Strategic Planning (continued) Room 6 \n\nDeepen your understanding of strategic thinking with guided techniques to stay balanced\, focused\, and purpose-driven in your career goals. ‍♂️ \n\n\n Why Join?\n Strengthen your academic and career readiness Understand Australian workplace culture and expectations Learn mindfulness strategies to support your business mindset Network with other international students and share ideas Build confidence\, communication\, and employability skills \n\n Stay Connected!Instagram: @greystonecollegeperthFacebook: @greystonecollegeperthYouTube: iLSCTV \n\n Grow. Learn. Lead.Join us this week for inspiring and practical workshops that prepare you for success — inside and outside the classroom.We can’t wait to see you at Greystone College Perth! ✨
URL:https://student.ilsceducation.com/event/per-academic-workshops-13th-oct-16th-oct-2025/
LOCATION:Perth Campus\, 150 St Georges Terrace\, Perth\, WA\, 6000\, Australia
CATEGORIES:Greystone College Australia Activities,Greystone College Perth Activities
END:VEVENT
BEGIN:VEVENT
DTSTART;TZID=Australia/Brisbane:20251016T183000
DTEND;TZID=Australia/Brisbane:20251016T191500
DTSTAMP:20260423T082706
CREATED:20250930T020651Z
LAST-MODIFIED:20250930T020651Z
UID:10001312-1760639400-1760642100@student.ilsceducation.com
SUMMARY:SONDER Wellbeing App – Connecting Through Wellness
DESCRIPTION:Speaker: Nataly Maciel Rocha \nGreystone College is excited to invite you to an inspiring session with Nataly Maciel Rocha\, a passionate marketing professional with strong roots in entrepreneurship and people-centered innovation. \nOriginally from Brazil\, Nataly has built her career across South America and Australia\, bringing diverse expertise in brand management\, student support\, and event coordination. Her journey reflects how marketing can be more than just promotion\, it can be a powerful tool for connection and wellbeing. \n✨ In this session\, Nataly will share how her career path\, from Marketing Manager at Conecta Networks to her current role at Egali Brisbane\, has shaped her vision for student engagement and innovation. \nShe will also introduce the SONDER Wellbeing App\, an initiative designed to enhance the student experience in Australia by promoting digital connection\, wellness\, and community integration. \n Whether you’re studying business\, marketing\, or simply seeking inspiration in tech-driven wellbeing solutions\, this event is an opportunity not to be missed! \n Date: Thursday 16th October 2025\nLocation: Webinar: MS Teams\nTime: 6.30pm (BNE) 7.30pm (SYD-MELB) 7.00pm (ADL) 4.30pm (PER) \nRegister HERE
URL:https://student.ilsceducation.com/event/sonder-wellbeing-app-connecting-through-wellness/
CATEGORIES:Academic Workshops Australia,Greystone College Adelaide Activities,Greystone College Australia Activities,Greystone College Brisbane Activities,Greystone College Melbourne Activities,Greystone College Perth Activities,Greystone College Sydney Activities
ATTACH;FMTTYPE=image/png:https://student.ilsceducation.com/wp-content/uploads/Nataly-Maciel-Rocha.png
END:VEVENT
END:VCALENDAR