BEGIN:VCALENDAR
VERSION:2.0
PRODID:-//ILSC Greystone Student Connect - ECPv6.9.1//NONSGML v1.0//EN
CALSCALE:GREGORIAN
METHOD:PUBLISH
X-WR-CALNAME:ILSC Greystone Student Connect
X-ORIGINAL-URL:https://student.ilsceducation.com
X-WR-CALDESC:Events for ILSC Greystone Student Connect
REFRESH-INTERVAL;VALUE=DURATION:PT1H
X-Robots-Tag:noindex
X-PUBLISHED-TTL:PT1H
BEGIN:VTIMEZONE
TZID:America/Vancouver
BEGIN:DAYLIGHT
TZOFFSETFROM:-0800
TZOFFSETTO:-0700
TZNAME:PDT
DTSTART:20250309T100000
END:DAYLIGHT
BEGIN:STANDARD
TZOFFSETFROM:-0700
TZOFFSETTO:-0800
TZNAME:PST
DTSTART:20251102T090000
END:STANDARD
END:VTIMEZONE
BEGIN:VEVENT
DTSTART;TZID=America/Vancouver:20250626T143000
DTEND;TZID=America/Vancouver:20250626T170000
DTSTAMP:20260423T012734
CREATED:20250611T172504Z
LAST-MODIFIED:20250912T162448Z
UID:10000573-1750948200-1750957200@student.ilsceducation.com
SUMMARY:UNO Tournament
DESCRIPTION:UNO \nGrab your friends and join Afshin for an UNO Tournament. Get your competitive gears running. You’ll be able to play\, make friends\, and sharpen your card games’ skills. \nTake a breather from arduous days of studying.
URL:https://student.ilsceducation.com/event/uno-tournament-2/2025-06-26/
LOCATION:Toronto Campus\, 443 University Ave\, Toronto\, Ontario\, M5G 2H6
CATEGORIES:Greystone College Canada Activities,Greystone College Toronto Activities,ILSC Canada Activities,ILSC Toronto Activities
ATTACH;FMTTYPE=image/jpeg:https://student.ilsceducation.com/wp-content/uploads/uno.jpeg
END:VEVENT
BEGIN:VEVENT
DTSTART;TZID=America/Vancouver:20250626T153000
DTEND;TZID=America/Vancouver:20250626T170000
DTSTAMP:20260423T012734
CREATED:20250611T183508Z
LAST-MODIFIED:20250611T183508Z
UID:10000576-1750951800-1750957200@student.ilsceducation.com
SUMMARY:Drawing Class
DESCRIPTION:Join us for the Drawing Class\, where creativity comes to life! Whether you’re just starting out or looking to sharpen your skills\, this class is a welcoming space to explore your artistic side. Together\, we’ll learn new techniques\, experiment with different styles\, and most importantly\, have fun expressing ourselves through art. Come draw\, create\, and connect with others who share your passion — we can’t wait to see what you’ll bring to the canvas!
URL:https://student.ilsceducation.com/event/drawing-class/
LOCATION:Vancouver Campus\, 1205 Melville St\, Vancouver\, British Columbia\, V6E 2S8\, Canada
CATEGORIES:Greystone College Canada Activities,Greystone College Vancouver Activities,ILSC Canada Activities,ILSC Vancouver Activities
ATTACH;FMTTYPE=image/jpeg:https://student.ilsceducation.com/wp-content/uploads/art-course-guide-9.jpg
END:VEVENT
END:VCALENDAR