BEGIN:VCALENDAR
VERSION:2.0
PRODID:-//ILSC Greystone Student Connect - ECPv6.9.1//NONSGML v1.0//EN
CALSCALE:GREGORIAN
METHOD:PUBLISH
X-ORIGINAL-URL:https://student.ilsceducation.com
X-WR-CALDESC:Events for ILSC Greystone Student Connect
REFRESH-INTERVAL;VALUE=DURATION:PT1H
X-Robots-Tag:noindex
X-PUBLISHED-TTL:PT1H
BEGIN:VTIMEZONE
TZID:America/Vancouver
BEGIN:DAYLIGHT
TZOFFSETFROM:-0800
TZOFFSETTO:-0700
TZNAME:PDT
DTSTART:20250309T100000
END:DAYLIGHT
BEGIN:STANDARD
TZOFFSETFROM:-0700
TZOFFSETTO:-0800
TZNAME:PST
DTSTART:20251102T090000
END:STANDARD
END:VTIMEZONE
BEGIN:VEVENT
DTSTART;VALUE=DATE:20250701
DTEND;VALUE=DATE:20250702
DTSTAMP:20260421T182503
CREATED:20250611T184020Z
LAST-MODIFIED:20250611T184055Z
UID:10000578-1751328000-1751414399@student.ilsceducation.com
SUMMARY:Canada Day - No Classes
DESCRIPTION:In celebration of Canada Day\, there will be no classes . \nWe hope everyone enjoys the holiday\, spends time with loved ones\, and celebrates safely. Classes will resume as usual the following day. Happy Canada Day to all!
URL:https://student.ilsceducation.com/event/canada-day-no-classes/
CATEGORIES:Greystone College Canada Activities,Greystone College Vancouver Activities,ILSC Canada Activities,ILSC Vancouver Activities
ATTACH;FMTTYPE=image/webp:https://student.ilsceducation.com/wp-content/uploads/cpt12948829.webp
END:VEVENT
BEGIN:VEVENT
DTSTART;VALUE=DATE:20250701
DTEND;VALUE=DATE:20250702
DTSTAMP:20260421T182503
CREATED:20250611T193857Z
LAST-MODIFIED:20250611T193857Z
UID:10000581-1751328000-1751414399@student.ilsceducation.com
SUMMARY:Canada Day - No Classes
DESCRIPTION:In celebration of Canada Day\, there will be no classes . \nWe hope everyone enjoys the holiday\, spends time with loved ones\, and celebrates safely. Classes will resume as usual the following day. Happy Canada Day to all!
URL:https://student.ilsceducation.com/event/canada-day-no-classes-2/
CATEGORIES:Greystone College Canada Activities,Greystone College Toronto Activities,ILSC Canada Activities,ILSC Toronto Activities
ATTACH;FMTTYPE=image/webp:https://student.ilsceducation.com/wp-content/uploads/cpt12948829.webp
END:VEVENT
END:VCALENDAR