BEGIN:VCALENDAR
VERSION:2.0
PRODID:-//ILSC Greystone Student Connect - ECPv6.9.1//NONSGML v1.0//EN
CALSCALE:GREGORIAN
METHOD:PUBLISH
X-ORIGINAL-URL:https://student.ilsceducation.com
X-WR-CALDESC:Events for ILSC Greystone Student Connect
REFRESH-INTERVAL;VALUE=DURATION:PT1H
X-Robots-Tag:noindex
X-PUBLISHED-TTL:PT1H
BEGIN:VTIMEZONE
TZID:America/Vancouver
BEGIN:DAYLIGHT
TZOFFSETFROM:-0800
TZOFFSETTO:-0700
TZNAME:PDT
DTSTART:20250309T100000
END:DAYLIGHT
BEGIN:STANDARD
TZOFFSETFROM:-0700
TZOFFSETTO:-0800
TZNAME:PST
DTSTART:20251102T090000
END:STANDARD
END:VTIMEZONE
BEGIN:VEVENT
DTSTART;TZID=America/Vancouver:20250723T143000
DTEND;TZID=America/Vancouver:20250723T160000
DTSTAMP:20260421T150423
CREATED:20250515T171031Z
LAST-MODIFIED:20251114T143442Z
UID:10000654-1753281000-1753286400@student.ilsceducation.com
SUMMARY:Arts & Crafts
DESCRIPTION:Arts & Crafts with friends! ❀˖°\nOur beloved Colleen is hosting a new session of Arts & Crafts! Be sure to attend. You’ll be able to meet new friends\, and unleash your creative spirit. Have the time of your life\, and don’t forget to have fun.
URL:https://student.ilsceducation.com/event/arts-crafts/2025-07-23/
LOCATION:Toronto Campus\, 443 University Ave\, Toronto\, Ontario\, M5G 2H6
CATEGORIES:Greystone College Canada Activities,Greystone College Toronto Activities,ILSC Canada Activities,ILSC Toronto Activities
ATTACH;FMTTYPE=image/jpeg:https://student.ilsceducation.com/wp-content/uploads/arts-and-crafts-together.jpg
END:VEVENT
BEGIN:VEVENT
DTSTART;TZID=America/Vancouver:20250723T143000
DTEND;TZID=America/Vancouver:20250723T160000
DTSTAMP:20260421T150423
CREATED:20250725T202227Z
LAST-MODIFIED:20250725T202227Z
UID:10000705-1753281000-1753286400@student.ilsceducation.com
SUMMARY:Jouer au football!
DESCRIPTION:⚽ Viens jouer au soccer avec Jhony de TNT! \nParticipe à une séance amusante et sportive animée par Jhony de TNT – énergie assurée! \nTous les niveaux sont les bienvenus. N’oublie pas ta bouteille d’eau et tes souliers de sport! \n⚽ Come Play Soccer with Jhony from TNT! \nJoin us for a fun and active session led by Jhony from TNT – high energy guaranteed! \nAll skill levels welcome. Don’t forget your water bottle and running shoes!
URL:https://student.ilsceducation.com/event/jouer-au-football/
LOCATION:Montreal Campus\, 550 Sherbrooke St W\, Montreal\, Quebec\, H3A 1B9\, Canada
CATEGORIES:Greystone College Canada Activities,Greystone College Montreal Activities,ILSC Canada Activities,ILSC Montreal Activities
ATTACH;FMTTYPE=image/avif:https://student.ilsceducation.com/wp-content/uploads/comms_web_foot-ankle-injuries-student-athletes_1000x562.avif
END:VEVENT
END:VCALENDAR