BEGIN:VCALENDAR
VERSION:2.0
PRODID:-//ILSC Greystone Student Connect - ECPv6.9.1//NONSGML v1.0//EN
CALSCALE:GREGORIAN
METHOD:PUBLISH
X-WR-CALNAME:ILSC Greystone Student Connect
X-ORIGINAL-URL:https://student.ilsceducation.com
X-WR-CALDESC:Events for ILSC Greystone Student Connect
REFRESH-INTERVAL;VALUE=DURATION:PT1H
X-Robots-Tag:noindex
X-PUBLISHED-TTL:PT1H
BEGIN:VTIMEZONE
TZID:America/Vancouver
BEGIN:DAYLIGHT
TZOFFSETFROM:-0800
TZOFFSETTO:-0700
TZNAME:PDT
DTSTART:20260308T100000
END:DAYLIGHT
BEGIN:STANDARD
TZOFFSETFROM:-0700
TZOFFSETTO:-0800
TZNAME:PST
DTSTART:20261101T090000
END:STANDARD
END:VTIMEZONE
BEGIN:VEVENT
DTSTART;TZID=America/Vancouver:20260106T143000
DTEND;TZID=America/Vancouver:20260106T153000
DTSTAMP:20260420T002755
CREATED:20251217T203936Z
LAST-MODIFIED:20251217T203936Z
UID:10001853-1767709800-1767713400@student.ilsceducation.com
SUMMARY:Winter Olympics Trivia
DESCRIPTION:Hey everyone! \nJoin us for a fun trivia challenge inspired by the Winter Olympic Games. \nTest your knowledge and enjoy a great time with friends!
URL:https://student.ilsceducation.com/event/winter-olympics-trivia/
LOCATION:Toronto Campus\, 443 University Ave\, Toronto\, Ontario\, M5G 2H6
CATEGORIES:Greystone College Canada Activities,Greystone College Toronto Activities,ILSC Canada Activities,ILSC Toronto Activities
ATTACH;FMTTYPE=image/jpeg:https://student.ilsceducation.com/wp-content/uploads/WinterOlympicsFacts-6.jpg
END:VEVENT
BEGIN:VEVENT
DTSTART;TZID=America/Vancouver:20260106T153000
DTEND;TZID=America/Vancouver:20260106T170000
DTSTAMP:20260420T002755
CREATED:20251229T202852Z
LAST-MODIFIED:20251229T203257Z
UID:10001879-1767713400-1767718800@student.ilsceducation.com
SUMMARY:2026- Vision board
DESCRIPTION:Join us for a fun and creative DIY Vision Board 2026 session! \nThis is your chance to reflect on your goals\, dream big\, and visualize what you want to achieve in the year ahead. Using images\, words\, and your own creativity\, you’ll create a personalized vision board that represents your aspirations for 2026. \nNo artistic skills needed—just bring your ideas and an open mind. All materials will be provided. Come get inspired\, connect with other students\, and leave with a clear and motivating vision for your future ✨
URL:https://student.ilsceducation.com/event/2026-vision-board/
LOCATION:Vancouver Campus\, 1205 Melville St\, Vancouver\, British Columbia\, V6E 2S8\, Canada
CATEGORIES:Greystone College Canada Activities,Greystone College Vancouver Activities,ILSC Canada Activities,ILSC Vancouver Activities
END:VEVENT
END:VCALENDAR