BEGIN:VCALENDAR
VERSION:2.0
PRODID:-//ILSC Greystone Student Connect - ECPv6.9.1//NONSGML v1.0//EN
CALSCALE:GREGORIAN
METHOD:PUBLISH
X-ORIGINAL-URL:https://student.ilsceducation.com
X-WR-CALDESC:Events for ILSC Greystone Student Connect
REFRESH-INTERVAL;VALUE=DURATION:PT1H
X-Robots-Tag:noindex
X-PUBLISHED-TTL:PT1H
BEGIN:VTIMEZONE
TZID:America/Vancouver
BEGIN:DAYLIGHT
TZOFFSETFROM:-0800
TZOFFSETTO:-0700
TZNAME:PDT
DTSTART:20260308T100000
END:DAYLIGHT
BEGIN:STANDARD
TZOFFSETFROM:-0700
TZOFFSETTO:-0800
TZNAME:PST
DTSTART:20261101T090000
END:STANDARD
END:VTIMEZONE
BEGIN:VEVENT
DTSTART;TZID=America/Vancouver:20260108T143000
DTEND;TZID=America/Vancouver:20260108T153000
DTSTAMP:20260419T213347
CREATED:20251210T151439Z
LAST-MODIFIED:20251217T204354Z
UID:10001857-1767882600-1767886200@student.ilsceducation.com
SUMMARY:Friends Speed Dating Activity
DESCRIPTION:Looking to meet new classmates\, make friends\, and have some fun?\nJoin us for a fast-paced\, high-energy Friends Speed Dating social activity! \nLed by Teacher Lief\, this dynamic activity will help you:✨ Break the ice✨ Practice conversation skills✨ Connect with people you might not normally meet✨ Have a LOT of fun! \nCome ready to chat\, mingle\, and make friends! \nSee you there!
URL:https://student.ilsceducation.com/event/friends-speed-dating-activity-with-teacher-dave/2026-01-08/
LOCATION:Toronto Campus\, 443 University Ave\, Toronto\, Ontario\, M5G 2H6
CATEGORIES:Greystone College Canada Activities,Greystone College Toronto Activities,ILSC Canada Activities,ILSC Toronto Activities
ATTACH;FMTTYPE=image/jpeg:https://student.ilsceducation.com/wp-content/uploads/Friends-chatting-over-coffee-1024x576-1.jpg
END:VEVENT
END:VCALENDAR