BEGIN:VCALENDAR
VERSION:2.0
PRODID:-//ILSC Greystone Student Connect - ECPv6.9.1//NONSGML v1.0//EN
CALSCALE:GREGORIAN
METHOD:PUBLISH
X-WR-CALNAME:ILSC Greystone Student Connect
X-ORIGINAL-URL:https://student.ilsceducation.com
X-WR-CALDESC:Events for ILSC Greystone Student Connect
REFRESH-INTERVAL;VALUE=DURATION:PT1H
X-Robots-Tag:noindex
X-PUBLISHED-TTL:PT1H
BEGIN:VTIMEZONE
TZID:America/Vancouver
BEGIN:DAYLIGHT
TZOFFSETFROM:-0800
TZOFFSETTO:-0700
TZNAME:PDT
DTSTART:20260308T100000
END:DAYLIGHT
BEGIN:STANDARD
TZOFFSETFROM:-0700
TZOFFSETTO:-0800
TZNAME:PST
DTSTART:20261101T090000
END:STANDARD
END:VTIMEZONE
BEGIN:VEVENT
DTSTART;TZID=America/Vancouver:20260114T143000
DTEND;TZID=America/Vancouver:20260114T153000
DTSTAMP:20260422T030406
CREATED:20251217T214824Z
LAST-MODIFIED:20251219T164649Z
UID:10001873-1768401000-1768404600@student.ilsceducation.com
SUMMARY:Board Game Cafe
DESCRIPTION:You’re Invited: Board Game Cafe\nJoin us for an afternoon of fun\, friends\, and board games! \nEnjoy your favorite games\, meet new people\, and relax with a cup of coffee or tea.
URL:https://student.ilsceducation.com/event/board-game-cafe/2026-01-14/
LOCATION:Toronto Campus\, 443 University Ave\, Toronto\, Ontario\, M5G 2H6
CATEGORIES:Greystone College Canada Activities,Greystone College Toronto Activities,ILSC Canada Activities,ILSC Toronto Activities
ATTACH;FMTTYPE=image/jpeg:https://student.ilsceducation.com/wp-content/uploads/Board-games-2.jpg
END:VEVENT
END:VCALENDAR