BEGIN:VCALENDAR
VERSION:2.0
PRODID:-//ILSC Greystone Student Connect - ECPv6.9.1//NONSGML v1.0//EN
CALSCALE:GREGORIAN
METHOD:PUBLISH
X-WR-CALNAME:ILSC Greystone Student Connect
X-ORIGINAL-URL:https://student.ilsceducation.com
X-WR-CALDESC:Events for ILSC Greystone Student Connect
REFRESH-INTERVAL;VALUE=DURATION:PT1H
X-Robots-Tag:noindex
X-PUBLISHED-TTL:PT1H
BEGIN:VTIMEZONE
TZID:America/Vancouver
BEGIN:DAYLIGHT
TZOFFSETFROM:-0800
TZOFFSETTO:-0700
TZNAME:PDT
DTSTART:20260308T100000
END:DAYLIGHT
BEGIN:STANDARD
TZOFFSETFROM:-0700
TZOFFSETTO:-0800
TZNAME:PST
DTSTART:20261101T090000
END:STANDARD
END:VTIMEZONE
BEGIN:VEVENT
DTSTART;TZID=America/Vancouver:20260119T143000
DTEND;TZID=America/Vancouver:20260119T153000
DTSTAMP:20260422T214338
CREATED:20251217T214331Z
LAST-MODIFIED:20251217T214331Z
UID:10001869-1768833000-1768836600@student.ilsceducation.com
SUMMARY:Networking and Job Interviews
DESCRIPTION:Dear students!\nJoin us for an interactive session to enhance your networking skills and prepare for job interviews. \nConnect with professionals\, get practical tips\, and boost your confidence for your next opportunity!
URL:https://student.ilsceducation.com/event/networking-and-job-interviews/
LOCATION:Toronto Campus\, 443 University Ave\, Toronto\, Ontario\, M5G 2H6
CATEGORIES:Greystone College Canada Activities,Greystone College Toronto Activities,ILSC Canada Activities,ILSC Toronto Activities
ATTACH;FMTTYPE=image/webp:https://student.ilsceducation.com/wp-content/uploads/How-to-Create-a-Good-Professional-Network.webp
END:VEVENT
BEGIN:VEVENT
DTSTART;TZID=America/Vancouver:20260119T153000
DTEND;TZID=America/Vancouver:20260119T170000
DTSTAMP:20260422T214338
CREATED:20251229T204937Z
LAST-MODIFIED:20251229T204937Z
UID:10001885-1768836600-1768842000@student.ilsceducation.com
SUMMARY:Chocolate and Painting Afternoon
DESCRIPTION:Relax\, sip\, and let your creativity flow! Join us for a fun Paint session where you’ll have the chance to express yourself through art in a friendly and casual setting. No experience needed – this is all about enjoying the process and having a good time. \nWe’ll provide all the painting materials  it’s a great way to unwind and connect with others! \nAt 1205 Melville Campus 3:30pm
URL:https://student.ilsceducation.com/event/chocolate-and-painting-afternoon-2/
LOCATION:Vancouver Campus\, 1205 Melville St\, Vancouver\, British Columbia\, V6E 2S8\, Canada
CATEGORIES:Greystone College Canada Activities,Greystone College Vancouver Activities,ILSC Canada Activities,ILSC Vancouver Activities
ATTACH;FMTTYPE=image/jpeg:https://student.ilsceducation.com/wp-content/uploads/about-painting-and-wine-classes.jpg
END:VEVENT
END:VCALENDAR