BEGIN:VCALENDAR
VERSION:2.0
PRODID:-//ILSC Greystone Student Connect - ECPv6.9.1//NONSGML v1.0//EN
CALSCALE:GREGORIAN
METHOD:PUBLISH
X-ORIGINAL-URL:https://student.ilsceducation.com
X-WR-CALDESC:Events for ILSC Greystone Student Connect
REFRESH-INTERVAL;VALUE=DURATION:PT1H
X-Robots-Tag:noindex
X-PUBLISHED-TTL:PT1H
BEGIN:VTIMEZONE
TZID:America/Vancouver
BEGIN:DAYLIGHT
TZOFFSETFROM:-0800
TZOFFSETTO:-0700
TZNAME:PDT
DTSTART:20260308T100000
END:DAYLIGHT
BEGIN:STANDARD
TZOFFSETFROM:-0700
TZOFFSETTO:-0800
TZNAME:PST
DTSTART:20261101T090000
END:STANDARD
END:VTIMEZONE
BEGIN:VEVENT
DTSTART;TZID=America/Vancouver:20260131T073000
DTEND;TZID=America/Vancouver:20260203T220000
DTSTAMP:20260419T071609
CREATED:20251001T164721Z
LAST-MODIFIED:20260121T140603Z
UID:10001916-1769844600-1770156000@student.ilsceducation.com
SUMMARY:QMO (Quebec City\, Montreal\, Ottawa)
DESCRIPTION:*TNT Tours Activity*\nExplore history\, culture\, and nightlife across Canada’s capital and its two largest French-speaking cities! Snap photos at Ottawa’s Peace Tower\, stroll Old Quebec\, and enjoy Montreal’s vibrant streets. \n3 days | Round-trip coach | 2 nights hotel \nMore details click here!
URL:https://student.ilsceducation.com/event/qmo-quebec-city-montreal-ottawa/2026-01-31/
LOCATION:Toronto Campus\, 443 University Ave\, Toronto\, Ontario\, M5G 2H6
CATEGORIES:Greystone College Canada Activities,Greystone College Toronto Activities,ILSC Canada Activities,ILSC Toronto Activities
ATTACH;FMTTYPE=image/jpeg:https://student.ilsceducation.com/wp-content/uploads/quebec.jpg
END:VEVENT
BEGIN:VEVENT
DTSTART;TZID=America/Vancouver:20260203T143000
DTEND;TZID=America/Vancouver:20260203T153000
DTSTAMP:20260419T071609
CREATED:20250929T170050Z
LAST-MODIFIED:20260121T141534Z
UID:10001919-1770129000-1770132600@student.ilsceducation.com
SUMMARY:Game On: Join Our Sports Trivia Challenge!
DESCRIPTION:Are you the ultimate sports fan?\nTest your knowledge in a fun and friendly Sports Trivia session led by Dylan. \nCome play\, learn\, and have fun with friends!
URL:https://student.ilsceducation.com/event/game-on-join-our-sports-trivia-challenge/2026-02-03/
LOCATION:Toronto Campus\, 443 University Ave\, Toronto\, Ontario\, M5G 2H6
CATEGORIES:Greystone College Canada Activities,Greystone College Toronto Activities,ILSC Canada Activities,ILSC Toronto Activities
ATTACH;FMTTYPE=image/jpeg:https://student.ilsceducation.com/wp-content/uploads/sports-tools_53876-138077-12e3987e-7221-4f4e-b9ff-90cfb526f1b7.jpg
END:VEVENT
BEGIN:VEVENT
DTSTART;TZID=America/Vancouver:20260203T153000
DTEND;TZID=America/Vancouver:20260203T170000
DTSTAMP:20260419T071609
CREATED:20260127T172526Z
LAST-MODIFIED:20260127T172526Z
UID:10001946-1770132600-1770138000@student.ilsceducation.com
SUMMARY:Queen Elizabeth Park - Walking tour
DESCRIPTION:Enjoy a visit to Queen Elizabeth Park\, Vancouver’s highest point and one of the city’s most beautiful green spaces. We’ll take a walk through the park\, enjoy panoramic views of the city and mountains\, and explore the gardens and open areas. This is a perfect spot to relax\, take photos\, and enjoy some fresh air in a calm and scenic environment.
URL:https://student.ilsceducation.com/event/queen-elizabeth-park-walking-tour/
LOCATION:Vancouver Campus\, 1205 Melville St\, Vancouver\, British Columbia\, V6E 2S8\, Canada
CATEGORIES:Greystone College Canada Activities,Greystone College Vancouver Activities,ILSC Canada Activities,ILSC Vancouver Activities
ATTACH;FMTTYPE=image/jpeg:https://student.ilsceducation.com/wp-content/uploads/queen_elizabeth_garden2-56e84dab3df78c5ba057982f.jpg
END:VEVENT
END:VCALENDAR