BEGIN:VCALENDAR
VERSION:2.0
PRODID:-//ILSC Greystone Student Connect - ECPv6.9.1//NONSGML v1.0//EN
CALSCALE:GREGORIAN
METHOD:PUBLISH
X-WR-CALNAME:ILSC Greystone Student Connect
X-ORIGINAL-URL:https://student.ilsceducation.com
X-WR-CALDESC:Events for ILSC Greystone Student Connect
REFRESH-INTERVAL;VALUE=DURATION:PT1H
X-Robots-Tag:noindex
X-PUBLISHED-TTL:PT1H
BEGIN:VTIMEZONE
TZID:America/Vancouver
BEGIN:DAYLIGHT
TZOFFSETFROM:-0800
TZOFFSETTO:-0700
TZNAME:PDT
DTSTART:20250309T100000
END:DAYLIGHT
BEGIN:STANDARD
TZOFFSETFROM:-0700
TZOFFSETTO:-0800
TZNAME:PST
DTSTART:20251102T090000
END:STANDARD
END:VTIMEZONE
BEGIN:VEVENT
DTSTART;VALUE=DATE:20250727
DTEND;VALUE=DATE:20250728
DTSTAMP:20260420T145716
CREATED:20250515T171821Z
LAST-MODIFIED:20250818T150803Z
UID:10000672-1753610400-1753653600@student.ilsceducation.com
SUMMARY:Canada's Wonderland
DESCRIPTION:**ISX Activity**\nEveryone remembers the first time they fly down the tracks on a big\, heart racing roller coaster. For thrill seekers\, the pinnacle or joy is the Leviathan\, a blue monster coaster with a drop that feels like falling off a building. Canada`s Wonderland is Canada`s first and largest theme park featuring over 200 attractions\, 68 thrilling rides\, North America`s greatest variety of roller coasters and live shows. \nGet your tickets here! 
URL:https://student.ilsceducation.com/event/canadas-wonderland/2025-07-27/
CATEGORIES:Greystone College Canada Activities,Greystone College Toronto Activities,ILSC Canada Activities,ILSC Toronto Activities
ATTACH;FMTTYPE=image/jpeg:https://student.ilsceducation.com/wp-content/uploads/41625071949.jpg
END:VEVENT
BEGIN:VEVENT
DTSTART;VALUE=DATE:20250726
DTEND;VALUE=DATE:20250727
DTSTAMP:20260420T145716
CREATED:20250611T193112Z
LAST-MODIFIED:20250714T125641Z
UID:10000671-1753527600-1753572600@student.ilsceducation.com
SUMMARY:Niagara Falls Fireworks
DESCRIPTION:《ISX ACTIVITY 》\nDon’t miss this chance to see the amazing fireworks at Niagara Falls! Join us for an unforgettable evening of lights\, fun\, and great company. \nAll students are welcome — come enjoy the view! \nGet Yout Tickets Here! 
URL:https://student.ilsceducation.com/event/niagara-falls-fireworks/2025-07-26/
CATEGORIES:Greystone College Canada Activities,Greystone College Toronto Activities,ILSC Canada Activities,ILSC Toronto Activities
ATTACH;FMTTYPE=image/webp:https://student.ilsceducation.com/wp-content/uploads/fireworks.webp
END:VEVENT
BEGIN:VEVENT
DTSTART;TZID=America/Vancouver:20250725T143000
DTEND;TZID=America/Vancouver:20250725T160000
DTSTAMP:20260420T145716
CREATED:20250611T195430Z
LAST-MODIFIED:20250918T195913Z
UID:10000655-1753453800-1753459200@student.ilsceducation.com
SUMMARY:University of Toronto
DESCRIPTION:University of Toronto\nJoin Fred to see the University of Toronto. The famous public research university in Toronto\,  located on the grounds that surround Queen’s Park. \nDon’t miss this chance!
URL:https://student.ilsceducation.com/event/university-of-toronto-2/2025-07-25/
LOCATION:Toronto Campus\, 443 University Ave\, Toronto\, Ontario\, M5G 2H6
CATEGORIES:Greystone College Canada Activities,Greystone College Toronto Activities,ILSC Canada Activities,ILSC Toronto Activities
ATTACH;FMTTYPE=image/webp:https://student.ilsceducation.com/wp-content/uploads/download.webp
END:VEVENT
BEGIN:VEVENT
DTSTART;TZID=America/Vancouver:20250724T143000
DTEND;TZID=America/Vancouver:20250724T170000
DTSTAMP:20260420T145716
CREATED:20250611T172504Z
LAST-MODIFIED:20250912T162448Z
UID:10000648-1753367400-1753376400@student.ilsceducation.com
SUMMARY:UNO Tournament
DESCRIPTION:UNO \nGrab your friends and join Afshin for an UNO Tournament. Get your competitive gears running. You’ll be able to play\, make friends\, and sharpen your card games’ skills. \nTake a breather from arduous days of studying.
URL:https://student.ilsceducation.com/event/uno-tournament-2/2025-07-24/
LOCATION:Toronto Campus\, 443 University Ave\, Toronto\, Ontario\, M5G 2H6
CATEGORIES:Greystone College Canada Activities,Greystone College Toronto Activities,ILSC Canada Activities,ILSC Toronto Activities
ATTACH;FMTTYPE=image/jpeg:https://student.ilsceducation.com/wp-content/uploads/uno.jpeg
END:VEVENT
BEGIN:VEVENT
DTSTART;TZID=America/Vancouver:20250723T143000
DTEND;TZID=America/Vancouver:20250723T160000
DTSTAMP:20260420T145716
CREATED:20250515T171031Z
LAST-MODIFIED:20251114T143442Z
UID:10000654-1753281000-1753286400@student.ilsceducation.com
SUMMARY:Arts & Crafts
DESCRIPTION:Arts & Crafts with friends! ❀˖°\nOur beloved Colleen is hosting a new session of Arts & Crafts! Be sure to attend. You’ll be able to meet new friends\, and unleash your creative spirit. Have the time of your life\, and don’t forget to have fun.
URL:https://student.ilsceducation.com/event/arts-crafts/2025-07-23/
LOCATION:Toronto Campus\, 443 University Ave\, Toronto\, Ontario\, M5G 2H6
CATEGORIES:Greystone College Canada Activities,Greystone College Toronto Activities,ILSC Canada Activities,ILSC Toronto Activities
ATTACH;FMTTYPE=image/jpeg:https://student.ilsceducation.com/wp-content/uploads/arts-and-crafts-together.jpg
END:VEVENT
BEGIN:VEVENT
DTSTART;TZID=America/Vancouver:20250722T143000
DTEND;TZID=America/Vancouver:20250722T160000
DTSTAMP:20260420T145716
CREATED:20250611T181221Z
LAST-MODIFIED:20250915T145523Z
UID:10000639-1753194600-1753200000@student.ilsceducation.com
SUMMARY:Soccer at Christie Pits
DESCRIPTION:Meet You on the Field! \nJoin Tino for some fun and friendly soccer games after class at Christie Pits! All skill levels are welcome — just bring your energy and good vibes. ⚽️ See you there!
URL:https://student.ilsceducation.com/event/soccer-at-christie-pits/2025-07-22/
LOCATION:Toronto Campus\, 443 University Ave\, Toronto\, Ontario\, M5G 2H6
CATEGORIES:Greystone College Canada Activities,Greystone College Toronto Activities,ILSC Canada Activities,ILSC Toronto Activities
ATTACH;FMTTYPE=image/avif:https://student.ilsceducation.com/wp-content/uploads/comms_web_foot-ankle-injuries-student-athletes_1000x562.avif
END:VEVENT
BEGIN:VEVENT
DTSTART;TZID=America/Vancouver:20250721T143000
DTEND;TZID=America/Vancouver:20250721T160000
DTSTAMP:20260420T145716
CREATED:20250515T155515Z
LAST-MODIFIED:20260129T211835Z
UID:10000653-1753108200-1753113600@student.ilsceducation.com
SUMMARY:Job Interview Tips
DESCRIPTION:Join the Job Interview Club – Your Gateway to Career Confidence! \nLooking to ace your next job interview? Want to sharpen your communication skills\, practice real-life interview scenarios\, and receive expert feedback? The Job Interview Club with Bruce is here to help!
URL:https://student.ilsceducation.com/event/job-interview-tips/2025-07-21/
LOCATION:Toronto Campus\, 443 University Ave\, Toronto\, Ontario\, M5G 2H6
CATEGORIES:Greystone College Canada Activities,Greystone College Toronto Activities,ILSC Canada Activities,ILSC Toronto Activities
ATTACH;FMTTYPE=image/jpeg:https://student.ilsceducation.com/wp-content/uploads/AdobeStock_430498249-1-min-708x400-1.jpeg
END:VEVENT
BEGIN:VEVENT
DTSTART;VALUE=DATE:20250720
DTEND;VALUE=DATE:20250721
DTSTAMP:20260420T145716
CREATED:20250711T141123Z
LAST-MODIFIED:20250915T150702Z
UID:10000670-1752969600-1753055999@student.ilsceducation.com
SUMMARY:Toronto Blue Jays
DESCRIPTION:《ISX ACTIVITY 》\n\nIt’s another season of the Toronto Blue Jays and great MLB baseball! Join us at the Rogers Centre (better known to most Torontonians as the SKYDOME) to scream together – LET`S GO BLUE JAYS!! \n\nWe are looking forward to seeing you soon! \nGet Yout Tickets Here! 
URL:https://student.ilsceducation.com/event/toronto-blue-jays/2025-07-20/
CATEGORIES:Greystone College Canada Activities,Greystone College Toronto Activities,ILSC Canada Activities,ILSC Toronto Activities
ATTACH;FMTTYPE=image/jpeg:https://student.ilsceducation.com/wp-content/uploads/CP174434041-768x432-1.jpg
END:VEVENT
BEGIN:VEVENT
DTSTART;VALUE=DATE:20250719
DTEND;VALUE=DATE:20250720
DTSTAMP:20260420T145716
CREATED:20250711T140411Z
LAST-MODIFIED:20251105T215215Z
UID:10000669-1752883200-1752969599@student.ilsceducation.com
SUMMARY:New York City Trip
DESCRIPTION:**ISX Activity**\nTravel to the Big Apple on a luxury coach bus and see the sites of the most exciting city in America the bright lights of Broadway\, Central Park\, Times Square\, SoHo\, Greenwich Village\, Rockefeller Center\, Fifth Avenue\, Chinatown\, Little Italy and so much more! \nGet Your Tickets Here! 
URL:https://student.ilsceducation.com/event/new-york-city-trip/2025-07-19/
CATEGORIES:Greystone College Canada Activities,Greystone College Toronto Activities,ILSC Canada Activities,ILSC Toronto Activities
ATTACH;FMTTYPE=image/jpeg:https://student.ilsceducation.com/wp-content/uploads/101531370923.jpg
END:VEVENT
BEGIN:VEVENT
DTSTART;TZID=America/Vancouver:20250718T143000
DTEND;TZID=America/Vancouver:20250718T160000
DTSTAMP:20260420T145716
CREATED:20250611T194938Z
LAST-MODIFIED:20250818T152354Z
UID:10000652-1752849000-1752854400@student.ilsceducation.com
SUMMARY:Queen's Park
DESCRIPTION:Visit to Queen’s Park\nFred has planned a fun outing to the beautiful Queen’s Park! Bring some snacks to share\, hang out with friends\, meet new people\, and take in the relaxing scenery. \nCome along—you’re sure to enjoy a great afternoon outdoors!
URL:https://student.ilsceducation.com/event/queens-park-picnic-2/2025-07-18/
LOCATION:Toronto Campus\, 443 University Ave\, Toronto\, Ontario\, M5G 2H6
CATEGORIES:Greystone College Canada Activities,Greystone College Toronto Activities,ILSC Canada Activities,ILSC Toronto Activities
ATTACH;FMTTYPE=image/jpeg:https://student.ilsceducation.com/wp-content/uploads/1-2.jpg
END:VEVENT
BEGIN:VEVENT
DTSTART;TZID=America/Vancouver:20250717T143000
DTEND;TZID=America/Vancouver:20250717T170000
DTSTAMP:20260420T145716
CREATED:20250611T172504Z
LAST-MODIFIED:20250912T162448Z
UID:10000647-1752762600-1752771600@student.ilsceducation.com
SUMMARY:UNO Tournament
DESCRIPTION:UNO \nGrab your friends and join Afshin for an UNO Tournament. Get your competitive gears running. You’ll be able to play\, make friends\, and sharpen your card games’ skills. \nTake a breather from arduous days of studying.
URL:https://student.ilsceducation.com/event/uno-tournament-2/2025-07-17/
LOCATION:Toronto Campus\, 443 University Ave\, Toronto\, Ontario\, M5G 2H6
CATEGORIES:Greystone College Canada Activities,Greystone College Toronto Activities,ILSC Canada Activities,ILSC Toronto Activities
ATTACH;FMTTYPE=image/jpeg:https://student.ilsceducation.com/wp-content/uploads/uno.jpeg
END:VEVENT
BEGIN:VEVENT
DTSTART;TZID=America/Vancouver:20250717T143000
DTEND;TZID=America/Vancouver:20250717T160000
DTSTAMP:20260420T145716
CREATED:20250710T143606Z
LAST-MODIFIED:20251110T180450Z
UID:10000646-1752762600-1752768000@student.ilsceducation.com
SUMMARY:St.Lawrence Market
DESCRIPTION:Come along with Fred to the St. Lawrence Market!  \nEnjoy a nice walk in this quaint Farmer’s Market located along Front Street East and Jarvis Street in the St. Lawrence neighbourhood of downtown Toronto. The St. Lawrence Market is one of the last strongholds of independent food merchants who provide personalized service and quality merchandise that reflects the diversity of Toronto. \nDon’t miss this chance to visit it.
URL:https://student.ilsceducation.com/event/st-lawrence-market-2/2025-07-17/
LOCATION:Toronto Campus\, 443 University Ave\, Toronto\, Ontario\, M5G 2H6
CATEGORIES:Greystone College Canada Activities,Greystone College Toronto Activities,ILSC Canada Activities,ILSC Toronto Activities
ATTACH;FMTTYPE=image/jpeg:https://student.ilsceducation.com/wp-content/uploads/outside-shot-of-st-lawrence.jpg
END:VEVENT
BEGIN:VEVENT
DTSTART;TZID=America/Vancouver:20250716T143000
DTEND;TZID=America/Vancouver:20250716T160000
DTSTAMP:20260420T145716
CREATED:20250611T181221Z
LAST-MODIFIED:20250915T145523Z
UID:10000638-1752676200-1752681600@student.ilsceducation.com
SUMMARY:Soccer at Christie Pits
DESCRIPTION:Meet You on the Field! \nJoin Tino for some fun and friendly soccer games after class at Christie Pits! All skill levels are welcome — just bring your energy and good vibes. ⚽️ See you there!
URL:https://student.ilsceducation.com/event/soccer-at-christie-pits/2025-07-16/
LOCATION:Toronto Campus\, 443 University Ave\, Toronto\, Ontario\, M5G 2H6
CATEGORIES:Greystone College Canada Activities,Greystone College Toronto Activities,ILSC Canada Activities,ILSC Toronto Activities
ATTACH;FMTTYPE=image/avif:https://student.ilsceducation.com/wp-content/uploads/comms_web_foot-ankle-injuries-student-athletes_1000x562.avif
END:VEVENT
BEGIN:VEVENT
DTSTART;TZID=America/Vancouver:20250716T143000
DTEND;TZID=America/Vancouver:20250716T160000
DTSTAMP:20260420T145716
CREATED:20250515T134305Z
LAST-MODIFIED:20251120T214521Z
UID:10000635-1752676200-1752681600@student.ilsceducation.com
SUMMARY:Volunteer Workshop
DESCRIPTION:Join Colleen in the Volunteer Workshop! \nThis inspiring experience will show you what it means to be an active part of the community. Don’t miss the chance to meet new people and make a difference!
URL:https://student.ilsceducation.com/event/volunteer-workshop/2025-07-16/
LOCATION:Toronto Campus\, 443 University Ave\, Toronto\, Ontario\, M5G 2H6
CATEGORIES:Greystone College Canada Activities,Greystone College Toronto Activities,ILSC Canada Activities,ILSC Toronto Activities
ATTACH;FMTTYPE=image/png:https://student.ilsceducation.com/wp-content/uploads/volunteer-2055043_960_720.png
END:VEVENT
BEGIN:VEVENT
DTSTART;TZID=America/Vancouver:20250715T143000
DTEND;TZID=America/Vancouver:20250715T160000
DTSTAMP:20260420T145716
CREATED:20250806T190211Z
LAST-MODIFIED:20250918T193732Z
UID:10000740-1752589800-1752595200@student.ilsceducation.com
SUMMARY:Harbourfront Walk
DESCRIPTION:Harbourfront Walk with Tino\nTino will guide you along Lake Ontario\, where you’ll discover parks\, trails\, galleries\, theatres\, and a variety of ongoing events. \nDon’t miss a chance to see Toronto’s skyline!
URL:https://student.ilsceducation.com/event/harbourfront-walk-2/2025-07-15/
LOCATION:Toronto Campus\, 443 University Ave\, Toronto\, Ontario\, M5G 2H6
CATEGORIES:Greystone College Canada Activities,Greystone College Toronto Activities,ILSC Canada Activities,ILSC Toronto Activities
ATTACH;FMTTYPE=image/jpeg:https://student.ilsceducation.com/wp-content/uploads/Ahoy_3347331689-1-scaled.jpg
END:VEVENT
BEGIN:VEVENT
DTSTART;VALUE=DATE:20250713
DTEND;VALUE=DATE:20250714
DTSTAMP:20260420T145716
CREATED:20250515T173249Z
LAST-MODIFIED:20260121T190313Z
UID:10000590-1752393600-1752436800@student.ilsceducation.com
SUMMARY:Ripley's Aquarium
DESCRIPTION:**ISX Activity**\nNow Open\, the brand-new Ripley`s Aquarium of Canada is an extraordinary destination for millions of Torontonians and visitors. A world-class attraction to the heart of downtown Toronto\, next to the CN Tower. \n\nGet Tickets Here!  \n 
URL:https://student.ilsceducation.com/event/ripleys-aquarium/2025-07-13/
CATEGORIES:Greystone College Canada Activities,Greystone College Toronto Activities,ILSC Canada Activities,ILSC Toronto Activities
ATTACH;FMTTYPE=image/jpeg:https://student.ilsceducation.com/wp-content/uploads/167_3_6902_jpeg_b863b691-046a-4ce7-b793-1034782abea0.jpg
END:VEVENT
BEGIN:VEVENT
DTSTART;VALUE=DATE:20250712
DTEND;VALUE=DATE:20250713
DTSTAMP:20260420T145716
CREATED:20250515T152352Z
LAST-MODIFIED:20250611T201256Z
UID:10000589-1752307200-1752350400@student.ilsceducation.com
SUMMARY:Algonquin Park
DESCRIPTION:《ISX ACTIVITY》\nBeautiful vistas are around every corner on your trip through Algonquin Park. It’s Ontario’s most famous and gorgeous provincial park with plants and animals found nowhere else.  Paddle yourself through deep blue waters\, take in the fresh air\, and enjoy the Canadian nature you’ve always seen.  It’s a relaxing and peaceful adventure that will fill you with joy! \nGet your tickets here! 
URL:https://student.ilsceducation.com/event/algonquin-park/2025-07-12/
CATEGORIES:Greystone College Canada Activities,Greystone College Toronto Activities,ILSC Canada Activities,ILSC Toronto Activities
ATTACH;FMTTYPE=image/jpeg:https://student.ilsceducation.com/wp-content/uploads/81650061065.jpg
END:VEVENT
BEGIN:VEVENT
DTSTART;TZID=America/Vancouver:20250711T143000
DTEND;TZID=America/Vancouver:20250711T160000
DTSTAMP:20260420T145716
CREATED:20250611T201154Z
LAST-MODIFIED:20250710T162032Z
UID:10000588-1752244200-1752249600@student.ilsceducation.com
SUMMARY:Visit to High Park
DESCRIPTION:Explore High Park with Us! \nJoin Fred for a fun and relaxing visit to High Park\, one of Toronto’s most beautiful green spaces. Enjoy nature\, take a walk\, or just hang out with friends! \nAll students are welcome!
URL:https://student.ilsceducation.com/event/visit-to-high-park/2025-07-11/
LOCATION:Toronto Campus\, 443 University Ave\, Toronto\, Ontario\, M5G 2H6
CATEGORIES:Greystone College Canada Activities,Greystone College Toronto Activities,ILSC Canada Activities,ILSC Toronto Activities
ATTACH;FMTTYPE=image/webp:https://student.ilsceducation.com/wp-content/uploads/High-Park_GettyImages-171589236-scaled.webp
END:VEVENT
BEGIN:VEVENT
DTSTART;TZID=America/Vancouver:20250710T143000
DTEND;TZID=America/Vancouver:20250710T170000
DTSTAMP:20260420T145716
CREATED:20250611T172504Z
LAST-MODIFIED:20250912T162448Z
UID:10000575-1752157800-1752166800@student.ilsceducation.com
SUMMARY:UNO Tournament
DESCRIPTION:UNO \nGrab your friends and join Afshin for an UNO Tournament. Get your competitive gears running. You’ll be able to play\, make friends\, and sharpen your card games’ skills. \nTake a breather from arduous days of studying.
URL:https://student.ilsceducation.com/event/uno-tournament-2/2025-07-10/
LOCATION:Toronto Campus\, 443 University Ave\, Toronto\, Ontario\, M5G 2H6
CATEGORIES:Greystone College Canada Activities,Greystone College Toronto Activities,ILSC Canada Activities,ILSC Toronto Activities
ATTACH;FMTTYPE=image/jpeg:https://student.ilsceducation.com/wp-content/uploads/uno.jpeg
END:VEVENT
BEGIN:VEVENT
DTSTART;TZID=America/Vancouver:20250709T143000
DTEND;TZID=America/Vancouver:20250709T160000
DTSTAMP:20260420T145716
CREATED:20250611T200310Z
LAST-MODIFIED:20250929T171439Z
UID:10000587-1752071400-1752076800@student.ilsceducation.com
SUMMARY:Toronto Reference Library
DESCRIPTION:Visit the Toronto Reference Library! \nJoin Fred for a trip to the Toronto Reference Library — one of the city’s most iconic and inspiring study spaces. Explore\, study\, or just take in the amazing architecture! \nAll students are welcome!
URL:https://student.ilsceducation.com/event/toronto-reference-library/2025-07-09/
LOCATION:Toronto Campus\, 443 University Ave\, Toronto\, Ontario\, M5G 2H6
CATEGORIES:Greystone College Canada Activities,Greystone College Toronto Activities,ILSC Canada Activities,ILSC Toronto Activities
ATTACH;FMTTYPE=image/bmp:https://student.ilsceducation.com/wp-content/uploads/atrium2.bmp
END:VEVENT
BEGIN:VEVENT
DTSTART;TZID=America/Vancouver:20250708T143000
DTEND;TZID=America/Vancouver:20250708T160000
DTSTAMP:20260420T145716
CREATED:20250611T181221Z
LAST-MODIFIED:20250915T145523Z
UID:10000586-1751985000-1751990400@student.ilsceducation.com
SUMMARY:Soccer at Christie Pits
DESCRIPTION:Meet You on the Field! \nJoin Tino for some fun and friendly soccer games after class at Christie Pits! All skill levels are welcome — just bring your energy and good vibes. ⚽️ See you there!
URL:https://student.ilsceducation.com/event/soccer-at-christie-pits/2025-07-08/
LOCATION:Toronto Campus\, 443 University Ave\, Toronto\, Ontario\, M5G 2H6
CATEGORIES:Greystone College Canada Activities,Greystone College Toronto Activities,ILSC Canada Activities,ILSC Toronto Activities
ATTACH;FMTTYPE=image/avif:https://student.ilsceducation.com/wp-content/uploads/comms_web_foot-ankle-injuries-student-athletes_1000x562.avif
END:VEVENT
BEGIN:VEVENT
DTSTART;TZID=America/Vancouver:20250707T143000
DTEND;TZID=America/Vancouver:20250707T163000
DTSTAMP:20260420T145716
CREATED:20250611T195430Z
LAST-MODIFIED:20250918T195913Z
UID:10000585-1751898600-1751905800@student.ilsceducation.com
SUMMARY:University of Toronto
DESCRIPTION:University of Toronto\nJoin Fred to see the University of Toronto. The famous public research university in Toronto\,  located on the grounds that surround Queen’s Park. \nDon’t miss this chance!
URL:https://student.ilsceducation.com/event/university-of-toronto-2/2025-07-07/
LOCATION:Toronto Campus\, 443 University Ave\, Toronto\, Ontario\, M5G 2H6
CATEGORIES:Greystone College Canada Activities,Greystone College Toronto Activities,ILSC Canada Activities,ILSC Toronto Activities
ATTACH;FMTTYPE=image/webp:https://student.ilsceducation.com/wp-content/uploads/download.webp
END:VEVENT
BEGIN:VEVENT
DTSTART;VALUE=DATE:20250706
DTEND;VALUE=DATE:20250707
DTSTAMP:20260420T145716
CREATED:20250515T174008Z
LAST-MODIFIED:20260121T184558Z
UID:10000409-1751760000-1751846399@student.ilsceducation.com
SUMMARY:CN Tower
DESCRIPTION:**ISX Activity**\nVisit the iconic CN Tower!  Rocket 58 seconds in one of SIX GLASS-FRONTED ELEVATORS to the LookOut Level located at 346m / 1\,136 feet with breathtaking views. \nFrom the LookOut level you will experience an eye-opening\, mind-blowing new perspective on the most spectacular views in Toronto with floor-to-ceiling panoramic Window Walls and an all new Glass Floor\, installed directly above the original\, one level below. \nGet Your Ticket Here!  \n 
URL:https://student.ilsceducation.com/event/cn-tower/2025-07-06/
CATEGORIES:Greystone College Canada Activities,Greystone College Toronto Activities,ILSC Canada Activities,ILSC Toronto Activities
ATTACH;FMTTYPE=image/jpeg:https://student.ilsceducation.com/wp-content/uploads/Toronto-Skyline.jpg
END:VEVENT
BEGIN:VEVENT
DTSTART;VALUE=DATE:20250705
DTEND;VALUE=DATE:20250706
DTSTAMP:20260420T145716
CREATED:20250515T140554Z
LAST-MODIFIED:20260121T154837Z
UID:10000391-1751673600-1751759999@student.ilsceducation.com
SUMMARY:French Canada
DESCRIPTION:**ISX Activity**\nSee the best of French Canada on ISX’s guided tours through three amazing cities: Ottawa\, Montreal\, and Quebec City.  Get to know a different\, distinct Canadian culture\, the people\, and experience the most famous sites and scenes of Ontario and Quebec. \nGet your tickets here! \n 
URL:https://student.ilsceducation.com/event/french-canada/2025-07-05/
CATEGORIES:Greystone College Canada Activities,Greystone College Toronto Activities,ILSC Canada Activities,ILSC Toronto Activities
ATTACH;FMTTYPE=image/webp:https://student.ilsceducation.com/wp-content/uploads/1_0.webp
END:VEVENT
BEGIN:VEVENT
DTSTART;TZID=America/Vancouver:20250704T143000
DTEND;TZID=America/Vancouver:20250704T163000
DTSTAMP:20260420T145716
CREATED:20250611T194938Z
LAST-MODIFIED:20250818T152354Z
UID:10000584-1751639400-1751646600@student.ilsceducation.com
SUMMARY:Queen's Park
DESCRIPTION:Visit to Queen’s Park\nFred has planned a fun outing to the beautiful Queen’s Park! Bring some snacks to share\, hang out with friends\, meet new people\, and take in the relaxing scenery. \nCome along—you’re sure to enjoy a great afternoon outdoors!
URL:https://student.ilsceducation.com/event/queens-park-picnic-2/2025-07-04/
LOCATION:Toronto Campus\, 443 University Ave\, Toronto\, Ontario\, M5G 2H6
CATEGORIES:Greystone College Canada Activities,Greystone College Toronto Activities,ILSC Canada Activities,ILSC Toronto Activities
ATTACH;FMTTYPE=image/jpeg:https://student.ilsceducation.com/wp-content/uploads/1-2.jpg
END:VEVENT
BEGIN:VEVENT
DTSTART;TZID=America/Vancouver:20250703T143000
DTEND;TZID=America/Vancouver:20250703T170000
DTSTAMP:20260420T145716
CREATED:20250611T172504Z
LAST-MODIFIED:20250912T162448Z
UID:10000574-1751553000-1751562000@student.ilsceducation.com
SUMMARY:UNO Tournament
DESCRIPTION:UNO \nGrab your friends and join Afshin for an UNO Tournament. Get your competitive gears running. You’ll be able to play\, make friends\, and sharpen your card games’ skills. \nTake a breather from arduous days of studying.
URL:https://student.ilsceducation.com/event/uno-tournament-2/2025-07-03/
LOCATION:Toronto Campus\, 443 University Ave\, Toronto\, Ontario\, M5G 2H6
CATEGORIES:Greystone College Canada Activities,Greystone College Toronto Activities,ILSC Canada Activities,ILSC Toronto Activities
ATTACH;FMTTYPE=image/jpeg:https://student.ilsceducation.com/wp-content/uploads/uno.jpeg
END:VEVENT
BEGIN:VEVENT
DTSTART;TZID=America/Vancouver:20250702T143000
DTEND;TZID=America/Vancouver:20250702T160000
DTSTAMP:20260420T145716
CREATED:20250611T181221Z
LAST-MODIFIED:20250915T145523Z
UID:10000583-1751466600-1751472000@student.ilsceducation.com
SUMMARY:Soccer at Christie Pits
DESCRIPTION:Meet You on the Field! \nJoin Tino for some fun and friendly soccer games after class at Christie Pits! All skill levels are welcome — just bring your energy and good vibes. ⚽️ See you there!
URL:https://student.ilsceducation.com/event/soccer-at-christie-pits/2025-07-02/
LOCATION:Toronto Campus\, 443 University Ave\, Toronto\, Ontario\, M5G 2H6
CATEGORIES:Greystone College Canada Activities,Greystone College Toronto Activities,ILSC Canada Activities,ILSC Toronto Activities
ATTACH;FMTTYPE=image/avif:https://student.ilsceducation.com/wp-content/uploads/comms_web_foot-ankle-injuries-student-athletes_1000x562.avif
END:VEVENT
BEGIN:VEVENT
DTSTART;VALUE=DATE:20250701
DTEND;VALUE=DATE:20250702
DTSTAMP:20260420T145716
CREATED:20250611T193857Z
LAST-MODIFIED:20250611T193857Z
UID:10000581-1751328000-1751414399@student.ilsceducation.com
SUMMARY:Canada Day - No Classes
DESCRIPTION:In celebration of Canada Day\, there will be no classes . \nWe hope everyone enjoys the holiday\, spends time with loved ones\, and celebrates safely. Classes will resume as usual the following day. Happy Canada Day to all!
URL:https://student.ilsceducation.com/event/canada-day-no-classes-2/
CATEGORIES:Greystone College Canada Activities,Greystone College Toronto Activities,ILSC Canada Activities,ILSC Toronto Activities
ATTACH;FMTTYPE=image/webp:https://student.ilsceducation.com/wp-content/uploads/cpt12948829.webp
END:VEVENT
BEGIN:VEVENT
DTSTART;TZID=America/Vancouver:20250630T143000
DTEND;TZID=America/Vancouver:20250630T163000
DTSTAMP:20260420T145716
CREATED:20250710T143606Z
LAST-MODIFIED:20251110T180450Z
UID:10000645-1751293800-1751301000@student.ilsceducation.com
SUMMARY:St.Lawrence Market
DESCRIPTION:Come along with Fred to the St. Lawrence Market!  \nEnjoy a nice walk in this quaint Farmer’s Market located along Front Street East and Jarvis Street in the St. Lawrence neighbourhood of downtown Toronto. The St. Lawrence Market is one of the last strongholds of independent food merchants who provide personalized service and quality merchandise that reflects the diversity of Toronto. \nDon’t miss this chance to visit it.
URL:https://student.ilsceducation.com/event/st-lawrence-market-2/2025-06-30/
LOCATION:Toronto Campus\, 443 University Ave\, Toronto\, Ontario\, M5G 2H6
CATEGORIES:Greystone College Canada Activities,Greystone College Toronto Activities,ILSC Canada Activities,ILSC Toronto Activities
ATTACH;FMTTYPE=image/jpeg:https://student.ilsceducation.com/wp-content/uploads/outside-shot-of-st-lawrence.jpg
END:VEVENT
BEGIN:VEVENT
DTSTART;VALUE=DATE:20250629
DTEND;VALUE=DATE:20250630
DTSTAMP:20260420T145716
CREATED:20250611T193112Z
LAST-MODIFIED:20250714T125641Z
UID:10000580-1751155200-1751241599@student.ilsceducation.com
SUMMARY:Niagara Falls Fireworks
DESCRIPTION:《ISX ACTIVITY 》\nDon’t miss this chance to see the amazing fireworks at Niagara Falls! Join us for an unforgettable evening of lights\, fun\, and great company. \nAll students are welcome — come enjoy the view! \nGet Yout Tickets Here! 
URL:https://student.ilsceducation.com/event/niagara-falls-fireworks/2025-06-29/
CATEGORIES:Greystone College Canada Activities,Greystone College Toronto Activities,ILSC Canada Activities,ILSC Toronto Activities
ATTACH;FMTTYPE=image/webp:https://student.ilsceducation.com/wp-content/uploads/fireworks.webp
END:VEVENT
END:VCALENDAR