BEGIN:VCALENDAR
VERSION:2.0
PRODID:-//ILSC Greystone Student Connect - ECPv6.9.1//NONSGML v1.0//EN
CALSCALE:GREGORIAN
METHOD:PUBLISH
X-WR-CALNAME:ILSC Greystone Student Connect
X-ORIGINAL-URL:https://student.ilsceducation.com
X-WR-CALDESC:Events for ILSC Greystone Student Connect
REFRESH-INTERVAL;VALUE=DURATION:PT1H
X-Robots-Tag:noindex
X-PUBLISHED-TTL:PT1H
BEGIN:VTIMEZONE
TZID:America/Vancouver
BEGIN:DAYLIGHT
TZOFFSETFROM:-0800
TZOFFSETTO:-0700
TZNAME:PDT
DTSTART:20250309T100000
END:DAYLIGHT
BEGIN:STANDARD
TZOFFSETFROM:-0700
TZOFFSETTO:-0800
TZNAME:PST
DTSTART:20251102T090000
END:STANDARD
END:VTIMEZONE
BEGIN:VEVENT
DTSTART;VALUE=DATE:20250621
DTEND;VALUE=DATE:20250622
DTSTAMP:20260420T213504
CREATED:20250515T171821Z
LAST-MODIFIED:20250818T150803Z
UID:10000566-1750492800-1750536000@student.ilsceducation.com
SUMMARY:Canada's Wonderland
DESCRIPTION:**ISX Activity**\nEveryone remembers the first time they fly down the tracks on a big\, heart racing roller coaster. For thrill seekers\, the pinnacle or joy is the Leviathan\, a blue monster coaster with a drop that feels like falling off a building. Canada`s Wonderland is Canada`s first and largest theme park featuring over 200 attractions\, 68 thrilling rides\, North America`s greatest variety of roller coasters and live shows. \nGet your tickets here! 
URL:https://student.ilsceducation.com/event/canadas-wonderland/2025-06-21/
LOCATION:Ontario
CATEGORIES:Greystone College Canada Activities,Greystone College Toronto Activities,ILSC Canada Activities,ILSC Toronto Activities
ATTACH;FMTTYPE=image/jpeg:https://student.ilsceducation.com/wp-content/uploads/41625071949.jpg
END:VEVENT
BEGIN:VEVENT
DTSTART;TZID=America/Vancouver:20250620T143000
DTEND;TZID=America/Vancouver:20250620T163000
DTSTAMP:20260420T213504
CREATED:20250515T142925Z
LAST-MODIFIED:20260121T141434Z
UID:10000565-1750429800-1750437000@student.ilsceducation.com
SUMMARY:Resume Writing Tips
DESCRIPTION:Resume Writing Tips\nSearching for a job? An Internship? Co-Op? Or perhaps applying for a university? Regardless what for\, Bruce will help you craft the perfect resume. Showcase your skills and experience. \nBring along your friends\, and improve your resume. \n  \n  \n  \n 
URL:https://student.ilsceducation.com/event/resume-writing-tips/2025-06-20/
LOCATION:Toronto Campus\, 443 University Ave\, Toronto\, Ontario\, M5G 2H6
CATEGORIES:Greystone College Canada Activities,Greystone College Toronto Activities,ILSC Canada Activities,ILSC Toronto Activities
ATTACH;FMTTYPE=image/png:https://student.ilsceducation.com/wp-content/uploads/Resume-Writing-Dos-and-Donts.png
END:VEVENT
BEGIN:VEVENT
DTSTART;TZID=America/Vancouver:20250620T143000
DTEND;TZID=America/Vancouver:20250620T160000
DTSTAMP:20260420T213504
CREATED:20250806T190211Z
LAST-MODIFIED:20250918T193732Z
UID:10000739-1750429800-1750435200@student.ilsceducation.com
SUMMARY:Harbourfront Walk
DESCRIPTION:Harbourfront Walk with Tino\nTino will guide you along Lake Ontario\, where you’ll discover parks\, trails\, galleries\, theatres\, and a variety of ongoing events. \nDon’t miss a chance to see Toronto’s skyline!
URL:https://student.ilsceducation.com/event/harbourfront-walk-2/2025-06-20/
LOCATION:Toronto Campus\, 443 University Ave\, Toronto\, Ontario\, M5G 2H6
CATEGORIES:Greystone College Canada Activities,Greystone College Toronto Activities,ILSC Canada Activities,ILSC Toronto Activities
ATTACH;FMTTYPE=image/jpeg:https://student.ilsceducation.com/wp-content/uploads/Ahoy_3347331689-1-scaled.jpg
END:VEVENT
BEGIN:VEVENT
DTSTART;TZID=America/Vancouver:20250619T143000
DTEND;TZID=America/Vancouver:20250619T170000
DTSTAMP:20260420T213504
CREATED:20250611T172504Z
LAST-MODIFIED:20250912T162448Z
UID:10000572-1750343400-1750352400@student.ilsceducation.com
SUMMARY:UNO Tournament
DESCRIPTION:UNO \nGrab your friends and join Afshin for an UNO Tournament. Get your competitive gears running. You’ll be able to play\, make friends\, and sharpen your card games’ skills. \nTake a breather from arduous days of studying.
URL:https://student.ilsceducation.com/event/uno-tournament-2/2025-06-19/
LOCATION:Toronto Campus\, 443 University Ave\, Toronto\, Ontario\, M5G 2H6
CATEGORIES:Greystone College Canada Activities,Greystone College Toronto Activities,ILSC Canada Activities,ILSC Toronto Activities
ATTACH;FMTTYPE=image/jpeg:https://student.ilsceducation.com/wp-content/uploads/uno.jpeg
END:VEVENT
BEGIN:VEVENT
DTSTART;TZID=America/Vancouver:20250618T143000
DTEND;TZID=America/Vancouver:20250618T160000
DTSTAMP:20260420T213504
CREATED:20250515T134305Z
LAST-MODIFIED:20251120T214521Z
UID:10000560-1750257000-1750262400@student.ilsceducation.com
SUMMARY:Volunteer Workshop
DESCRIPTION:Join Colleen in the Volunteer Workshop! \nThis inspiring experience will show you what it means to be an active part of the community. Don’t miss the chance to meet new people and make a difference!
URL:https://student.ilsceducation.com/event/volunteer-workshop/2025-06-18/
LOCATION:Toronto Campus\, 443 University Ave\, Toronto\, Ontario\, M5G 2H6
CATEGORIES:Greystone College Canada Activities,Greystone College Toronto Activities,ILSC Canada Activities,ILSC Toronto Activities
ATTACH;FMTTYPE=image/png:https://student.ilsceducation.com/wp-content/uploads/volunteer-2055043_960_720.png
END:VEVENT
BEGIN:VEVENT
DTSTART;VALUE=DATE:20250615
DTEND;VALUE=DATE:20250616
DTSTAMP:20260420T213504
CREATED:20250515T174330Z
LAST-MODIFIED:20250915T142859Z
UID:10000410-1749945600-1750031999@student.ilsceducation.com
SUMMARY:Blue Mountain & Wasaga Beach
DESCRIPTION:《ISX ACTIVITY 》\nDiscover the best of summer at Blue Mountain & Wasaga Beach! \nAdventure awaits at Blue Mountain—ride the Ridge Runner\, zipline\, and explore the village vibes.️ Then\, unwind at Wasaga Beach\, the world’s longest freshwater beach. Swim\, relax\, or play in the sand! \nOne trip\, double the fun. Don’t miss it! \nGet Yout Tickets Here! 
URL:https://student.ilsceducation.com/event/blue-mountain/2025-06-15/
LOCATION:Ontario
CATEGORIES:Greystone College Canada Activities,Greystone College Toronto Activities,ILSC Canada Activities,ILSC Toronto Activities
ATTACH;FMTTYPE=image/jpeg:https://student.ilsceducation.com/wp-content/uploads/2019-06-11-bm-summerlandscape-021-jpg.jpg
END:VEVENT
BEGIN:VEVENT
DTSTART;TZID=America/Vancouver:20250613T143000
DTEND;TZID=America/Vancouver:20250613T163000
DTSTAMP:20260420T213504
CREATED:20250515T180005Z
LAST-MODIFIED:20250515T180005Z
UID:10000414-1749825000-1749832200@student.ilsceducation.com
SUMMARY:ABC's of Baseball
DESCRIPTION:Learn all you can about Baseball! \nTag along to Dylan’s small class about baseball. Everything you may be curious about\, you can ask. Don’t forget to bring your inquisitiveness and spirit of learning! You will not want to miss this opportunity.
URL:https://student.ilsceducation.com/event/abcs-of-baseball/
LOCATION:Toronto Campus\, 443 University Ave\, Toronto\, Ontario\, M5G 2H6
CATEGORIES:Greystone College Canada Activities,Greystone College Toronto Activities,ILSC Canada Activities,ILSC Toronto Activities
ATTACH;FMTTYPE=image/jpeg:https://student.ilsceducation.com/wp-content/uploads/Barry-Bonds-connects-June-2001-Brad-Mangin-1.jpg
END:VEVENT
BEGIN:VEVENT
DTSTART;TZID=America/Vancouver:20250612T143000
DTEND;TZID=America/Vancouver:20250612T163000
DTSTAMP:20260420T213504
CREATED:20250515T175644Z
LAST-MODIFIED:20250611T175708Z
UID:10000413-1749738600-1749745800@student.ilsceducation.com
SUMMARY:Yorkville Tour
DESCRIPTION:Explore Toronto with Fred\nIf architecture\, history\, and evolution of cityscapes piques your interest\, we have a few suggestions for embarking on your own walking tour of the Bloor-Yorkville area. Fashionable Yorkville is a top destination for affluent shoppers at its high-end boutiques\, galleries and design studios.
URL:https://student.ilsceducation.com/event/yorkville-tour/2025-06-12/
LOCATION:Toronto Campus\, 443 University Ave\, Toronto\, Ontario\, M5G 2H6
CATEGORIES:Greystone College Canada Activities,Greystone College Toronto Activities,ILSC Canada Activities,ILSC Toronto Activities
ATTACH;FMTTYPE=image/jpeg:https://student.ilsceducation.com/wp-content/uploads/yorkville-toronto.jpg
END:VEVENT
BEGIN:VEVENT
DTSTART;TZID=America/Vancouver:20250611T143000
DTEND;TZID=America/Vancouver:20250611T163000
DTSTAMP:20260420T213504
CREATED:20250515T175316Z
LAST-MODIFIED:20250515T175316Z
UID:10000412-1749652200-1749659400@student.ilsceducation.com
SUMMARY:Sing Along
DESCRIPTION:Unleash Your Inner Rockstar! \nSing this afternoon with Dave and friends. Get ready to sing your hearts out! Enjoy an afternoon of fun\, laughter\, and epic performances. No experience needed\, just a good time!
URL:https://student.ilsceducation.com/event/sing-along/
LOCATION:Toronto Campus\, 443 University Ave\, Toronto\, Ontario\, M5G 2H6
CATEGORIES:Greystone College Canada Activities,Greystone College Toronto Activities,ILSC Canada Activities,ILSC Toronto Activities
ATTACH;FMTTYPE=image/jpeg:https://student.ilsceducation.com/wp-content/uploads/host-karaoke-show-with-future-dj-pro-1080x675-1.jpg
END:VEVENT
BEGIN:VEVENT
DTSTART;TZID=America/Vancouver:20250610T143000
DTEND;TZID=America/Vancouver:20250610T163000
DTSTAMP:20260420T213504
CREATED:20250515T145000Z
LAST-MODIFIED:20250515T145000Z
UID:10000396-1749565800-1749573000@student.ilsceducation.com
SUMMARY:UNO Tournament
DESCRIPTION:UNO \nGrab your friends and join Afshin for an UNO Tournament. Get your competitive gears running. You’ll be able to play\, make friends\, and sharpen your card games’ skills. \nTake a breather from arduous days of studying.
URL:https://student.ilsceducation.com/event/uno-tournament/2025-06-10/
LOCATION:Toronto Campus\, 443 University Ave\, Toronto\, Ontario\, M5G 2H6
CATEGORIES:Greystone College Canada Activities,Greystone College Toronto Activities,ILSC Canada Activities,ILSC Toronto Activities
ATTACH;FMTTYPE=image/jpeg:https://student.ilsceducation.com/wp-content/uploads/uno.jpeg
END:VEVENT
BEGIN:VEVENT
DTSTART;TZID=America/Vancouver:20250609T143000
DTEND;TZID=America/Vancouver:20250609T163000
DTSTAMP:20260420T213504
CREATED:20250515T174700Z
LAST-MODIFIED:20250915T155227Z
UID:10000411-1749479400-1749486600@student.ilsceducation.com
SUMMARY:Board Games
DESCRIPTION:Afternoon Playing Games \nReady to roll the dice\, crush your friends (nicely)\, and laugh way too hard? Join Bruce’s Board Game Get-Together – the ultimate weekly escape from boring evenings! \nHosted by the legendary Bruce
URL:https://student.ilsceducation.com/event/board-games/2025-06-09/
LOCATION:Toronto Campus\, 443 University Ave\, Toronto\, Ontario\, M5G 2H6
CATEGORIES:Greystone College Canada Activities,Greystone College Toronto Activities,ILSC Canada Activities,ILSC Toronto Activities
ATTACH;FMTTYPE=image/jpeg:https://student.ilsceducation.com/wp-content/uploads/board-games-scaled-1.jpg
END:VEVENT
BEGIN:VEVENT
DTSTART;VALUE=DATE:20250608
DTEND;VALUE=DATE:20250609
DTSTAMP:20260420T213504
CREATED:20250515T173249Z
LAST-MODIFIED:20260121T190313Z
UID:10000408-1749340800-1749427199@student.ilsceducation.com
SUMMARY:Ripley's Aquarium
DESCRIPTION:**ISX Activity**\nNow Open\, the brand-new Ripley`s Aquarium of Canada is an extraordinary destination for millions of Torontonians and visitors. A world-class attraction to the heart of downtown Toronto\, next to the CN Tower. \n\nGet Tickets Here!  \n 
URL:https://student.ilsceducation.com/event/ripleys-aquarium/2025-06-08/
LOCATION:Ontario
CATEGORIES:Greystone College Canada Activities,Greystone College Toronto Activities,ILSC Canada Activities,ILSC Toronto Activities
ATTACH;FMTTYPE=image/jpeg:https://student.ilsceducation.com/wp-content/uploads/167_3_6902_jpeg_b863b691-046a-4ce7-b793-1034782abea0.jpg
END:VEVENT
BEGIN:VEVENT
DTSTART;VALUE=DATE:20250607
DTEND;VALUE=DATE:20250608
DTSTAMP:20260420T213504
CREATED:20250515T171821Z
LAST-MODIFIED:20250818T150803Z
UID:10000406-1749254400-1749340799@student.ilsceducation.com
SUMMARY:Canada's Wonderland
DESCRIPTION:**ISX Activity**\nEveryone remembers the first time they fly down the tracks on a big\, heart racing roller coaster. For thrill seekers\, the pinnacle or joy is the Leviathan\, a blue monster coaster with a drop that feels like falling off a building. Canada`s Wonderland is Canada`s first and largest theme park featuring over 200 attractions\, 68 thrilling rides\, North America`s greatest variety of roller coasters and live shows. \nGet your tickets here! 
URL:https://student.ilsceducation.com/event/canadas-wonderland/2025-06-07/
LOCATION:Ontario
CATEGORIES:Greystone College Canada Activities,Greystone College Toronto Activities,ILSC Canada Activities,ILSC Toronto Activities
ATTACH;FMTTYPE=image/jpeg:https://student.ilsceducation.com/wp-content/uploads/41625071949.jpg
END:VEVENT
BEGIN:VEVENT
DTSTART;TZID=America/Vancouver:20250606T143000
DTEND;TZID=America/Vancouver:20250606T163000
DTSTAMP:20260420T213504
CREATED:20250515T171346Z
LAST-MODIFIED:20260121T182322Z
UID:10000405-1749220200-1749227400@student.ilsceducation.com
SUMMARY:Conversation Club
DESCRIPTION:Meet new friends!\nLooking to boost your speaking skills\, meet awesome people\, and have fun doing it? Come hang out at Dave’s Conversation Club – the chillest place to practice real English\, swap stories\, and laugh a lot!
URL:https://student.ilsceducation.com/event/conversation-club/2025-06-06/
LOCATION:Toronto Campus\, 443 University Ave\, Toronto\, Ontario\, M5G 2H6
CATEGORIES:Greystone College Canada Activities,Greystone College Toronto Activities,ILSC Canada Activities,ILSC Toronto Activities
ATTACH;FMTTYPE=image/webp:https://student.ilsceducation.com/wp-content/uploads/Community-Forums-Phase-2_Header.webp
END:VEVENT
BEGIN:VEVENT
DTSTART;TZID=America/Vancouver:20250605T143000
DTEND;TZID=America/Vancouver:20250605T163000
DTSTAMP:20260420T213504
CREATED:20250515T171031Z
LAST-MODIFIED:20251114T143442Z
UID:10000404-1749133800-1749141000@student.ilsceducation.com
SUMMARY:Arts & Crafts
DESCRIPTION:Arts & Crafts with friends! ❀˖°\nOur beloved Colleen is hosting a new session of Arts & Crafts! Be sure to attend. You’ll be able to meet new friends\, and unleash your creative spirit. Have the time of your life\, and don’t forget to have fun.
URL:https://student.ilsceducation.com/event/arts-crafts/2025-06-05/
LOCATION:Toronto Campus\, 443 University Ave\, Toronto\, Ontario\, M5G 2H6
CATEGORIES:Greystone College Canada Activities,Greystone College Toronto Activities,ILSC Canada Activities,ILSC Toronto Activities
ATTACH;FMTTYPE=image/jpeg:https://student.ilsceducation.com/wp-content/uploads/arts-and-crafts-together.jpg
END:VEVENT
BEGIN:VEVENT
DTSTART;TZID=America/Vancouver:20250604T143000
DTEND;TZID=America/Vancouver:20250604T163000
DTSTAMP:20260420T213504
CREATED:20250515T170430Z
LAST-MODIFIED:20260121T185715Z
UID:10000403-1749047400-1749054600@student.ilsceducation.com
SUMMARY:St.Lawrence Market
DESCRIPTION:Come along with Fred to the St. Lawrence Market! \nEnjoy a nice walk in this quaint Farmer’s Market located along Front Street East and Jarvis Street in the St. Lawrence neighbourhood of downtown Toronto. The St. Lawrence Market is one of the last strongholds of independent food merchants who provide personalized service and quality merchandise that reflects the diversity of Toronto. \nDon’t miss this chance to visit it.
URL:https://student.ilsceducation.com/event/st-lawrence-market/2025-06-04/
LOCATION:Toronto Campus\, 443 University Ave\, Toronto\, Ontario\, M5G 2H6
CATEGORIES:Greystone College Canada Activities,Greystone College Toronto Activities,ILSC Canada Activities,ILSC Toronto Activities
ATTACH;FMTTYPE=image/jpeg:https://student.ilsceducation.com/wp-content/uploads/outside-shot-of-st-lawrence.jpg
END:VEVENT
BEGIN:VEVENT
DTSTART;TZID=America/Vancouver:20250603T143000
DTEND;TZID=America/Vancouver:20250603T163000
DTSTAMP:20260420T213504
CREATED:20250515T145000Z
LAST-MODIFIED:20250515T145000Z
UID:10000395-1748961000-1748968200@student.ilsceducation.com
SUMMARY:UNO Tournament
DESCRIPTION:UNO \nGrab your friends and join Afshin for an UNO Tournament. Get your competitive gears running. You’ll be able to play\, make friends\, and sharpen your card games’ skills. \nTake a breather from arduous days of studying.
URL:https://student.ilsceducation.com/event/uno-tournament/2025-06-03/
LOCATION:Toronto Campus\, 443 University Ave\, Toronto\, Ontario\, M5G 2H6
CATEGORIES:Greystone College Canada Activities,Greystone College Toronto Activities,ILSC Canada Activities,ILSC Toronto Activities
ATTACH;FMTTYPE=image/jpeg:https://student.ilsceducation.com/wp-content/uploads/uno.jpeg
END:VEVENT
BEGIN:VEVENT
DTSTART;TZID=America/Vancouver:20250602T143000
DTEND;TZID=America/Vancouver:20250602T170000
DTSTAMP:20260420T213504
CREATED:20250515T155515Z
LAST-MODIFIED:20260129T211835Z
UID:10000402-1748874600-1748883600@student.ilsceducation.com
SUMMARY:Job Interview Tips
DESCRIPTION:Join the Job Interview Club – Your Gateway to Career Confidence! \nLooking to ace your next job interview? Want to sharpen your communication skills\, practice real-life interview scenarios\, and receive expert feedback? The Job Interview Club with Bruce is here to help!
URL:https://student.ilsceducation.com/event/job-interview-tips/2025-06-02/
LOCATION:Toronto Campus\, 443 University Ave\, Toronto\, Ontario\, M5G 2H6
CATEGORIES:Greystone College Canada Activities,Greystone College Toronto Activities,ILSC Canada Activities,ILSC Toronto Activities
ATTACH;FMTTYPE=image/jpeg:https://student.ilsceducation.com/wp-content/uploads/AdobeStock_430498249-1-min-708x400-1.jpeg
END:VEVENT
BEGIN:VEVENT
DTSTART;TZID=America/Vancouver:20250601T083000
DTEND;TZID=America/Vancouver:20250601T220000
DTSTAMP:20260420T213504
CREATED:20250515T154614Z
LAST-MODIFIED:20250915T155356Z
UID:10000401-1748766600-1748815200@student.ilsceducation.com
SUMMARY:Niagara Falls Winery
DESCRIPTION:**ISX Activity**\nRegarded by many as one of the most beautiful waterfalls in the world\, our tour to Niagara Falls takes you into the heart of the city with its many sites\, attractions\, and natural beauty.  You will also get lots of free time to explore the city\, visit one of the casinos and walk the always intriguing Clifton Hill. \nExperience a historic Canadian town\, Niagara-on-the-Lake and enjoy wine-tasting (19+) at an award-winning winery. \nGet your tickets here!
URL:https://student.ilsceducation.com/event/niagara-falls-winery/2025-06-01/
LOCATION:Ontario
CATEGORIES:Greystone College Canada Activities,Greystone College Toronto Activities,ILSC Canada Activities,ILSC Toronto Activities
ATTACH;FMTTYPE=image/jpeg:https://student.ilsceducation.com/wp-content/uploads/Flat-Rock-Cellars-1024x577-1.jpg
END:VEVENT
BEGIN:VEVENT
DTSTART;VALUE=DATE:20250531
DTEND;VALUE=DATE:20250601
DTSTAMP:20260420T213504
CREATED:20250515T152352Z
LAST-MODIFIED:20250611T201256Z
UID:10000400-1748649600-1748735999@student.ilsceducation.com
SUMMARY:Algonquin Park
DESCRIPTION:《ISX ACTIVITY》\nBeautiful vistas are around every corner on your trip through Algonquin Park. It’s Ontario’s most famous and gorgeous provincial park with plants and animals found nowhere else.  Paddle yourself through deep blue waters\, take in the fresh air\, and enjoy the Canadian nature you’ve always seen.  It’s a relaxing and peaceful adventure that will fill you with joy! \nGet your tickets here! 
URL:https://student.ilsceducation.com/event/algonquin-park/2025-05-31/
LOCATION:Ontario
CATEGORIES:Greystone College Canada Activities,Greystone College Toronto Activities,ILSC Canada Activities,ILSC Toronto Activities
ATTACH;FMTTYPE=image/jpeg:https://student.ilsceducation.com/wp-content/uploads/81650061065.jpg
END:VEVENT
BEGIN:VEVENT
DTSTART;TZID=America/Vancouver:20250530T143000
DTEND;TZID=America/Vancouver:20250530T163000
DTSTAMP:20260420T213504
CREATED:20250515T151717Z
LAST-MODIFIED:20250515T151717Z
UID:10000399-1748615400-1748622600@student.ilsceducation.com
SUMMARY:Queen's Park Picnic
DESCRIPTION:【Picnic at Queen’s Park ♡】\nFred has prepared a special outing! A beautiful picnic at Queen’s Park. Bring along some snacks to share with friends. Meet new people\, have fun\, and enjoy the charming scenery of the park. \nCome along\, and you’ll surely enjoy your afternoon.
URL:https://student.ilsceducation.com/event/queens-park-picnic/
LOCATION:Toronto Campus\, 443 University Ave\, Toronto\, Ontario\, M5G 2H6
CATEGORIES:Greystone College Canada Activities,Greystone College Toronto Activities,ILSC Canada Activities,ILSC Toronto Activities
ATTACH;FMTTYPE=image/jpeg:https://student.ilsceducation.com/wp-content/uploads/1-2.jpg
END:VEVENT
BEGIN:VEVENT
DTSTART;TZID=America/Vancouver:20250529T143000
DTEND;TZID=America/Vancouver:20250529T163000
DTSTAMP:20260420T213504
CREATED:20250515T150742Z
LAST-MODIFIED:20250515T150742Z
UID:10000398-1748529000-1748536200@student.ilsceducation.com
SUMMARY:Kensington Market
DESCRIPTION:【Explore Kensignton Market】\nGrab your friends and bring them along with Tino for a walk around Kensignton Market. This beauitful bohemian neighbourhood is filled with indie shops\, vintage boutiques and arts spaces. You’ll find everything\, from  grocers & bakeries to cheese shops. \nDon’t miss this chance to visit one of Toronto’s most famous neighbourhoods!
URL:https://student.ilsceducation.com/event/kensington-market/
LOCATION:Toronto Campus\, 443 University Ave\, Toronto\, Ontario\, M5G 2H6
CATEGORIES:Greystone College Canada Activities,Greystone College Toronto Activities,ILSC Canada Activities,ILSC Toronto Activities
ATTACH;FMTTYPE=image/jpeg:https://student.ilsceducation.com/wp-content/uploads/iStock-635998826-1482380884-600x360-1.jpg
END:VEVENT
BEGIN:VEVENT
DTSTART;TZID=America/Vancouver:20250528T143000
DTEND;TZID=America/Vancouver:20250528T163000
DTSTAMP:20260420T213504
CREATED:20250515T145404Z
LAST-MODIFIED:20250710T164659Z
UID:10000397-1748442600-1748449800@student.ilsceducation.com
SUMMARY:University of Toronto
DESCRIPTION:『University of Toronto』\nJoin Lief to see the University of Toront0. The famous public research university in Toronto\,  located on the grounds that surround Queen’s Park. \nDon’t miss this chance!
URL:https://student.ilsceducation.com/event/university-of-toronto/
LOCATION:Toronto Campus\, 443 University Ave\, Toronto\, Ontario\, M5G 2H6
CATEGORIES:Greystone College Canada Activities,Greystone College Toronto Activities,ILSC Canada Activities,ILSC Toronto Activities
ATTACH;FMTTYPE=image/webp:https://student.ilsceducation.com/wp-content/uploads/download.webp
END:VEVENT
BEGIN:VEVENT
DTSTART;TZID=America/Vancouver:20250527T143000
DTEND;TZID=America/Vancouver:20250527T170000
DTSTAMP:20260420T213504
CREATED:20250515T145000Z
LAST-MODIFIED:20250515T145000Z
UID:10000394-1748356200-1748365200@student.ilsceducation.com
SUMMARY:UNO Tournament
DESCRIPTION:UNO \nGrab your friends and join Afshin for an UNO Tournament. Get your competitive gears running. You’ll be able to play\, make friends\, and sharpen your card games’ skills. \nTake a breather from arduous days of studying.
URL:https://student.ilsceducation.com/event/uno-tournament/2025-05-27/
LOCATION:Toronto Campus\, 443 University Ave\, Toronto\, Ontario\, M5G 2H6
CATEGORIES:Greystone College Canada Activities,Greystone College Toronto Activities,ILSC Canada Activities,ILSC Toronto Activities
ATTACH;FMTTYPE=image/jpeg:https://student.ilsceducation.com/wp-content/uploads/uno.jpeg
END:VEVENT
BEGIN:VEVENT
DTSTART;TZID=America/Vancouver:20250526T143000
DTEND;TZID=America/Vancouver:20250526T163000
DTSTAMP:20260420T213504
CREATED:20250515T142925Z
LAST-MODIFIED:20260121T141434Z
UID:10000393-1748269800-1748277000@student.ilsceducation.com
SUMMARY:Resume Writing Tips
DESCRIPTION:Resume Writing Tips\nSearching for a job? An Internship? Co-Op? Or perhaps applying for a university? Regardless what for\, Bruce will help you craft the perfect resume. Showcase your skills and experience. \nBring along your friends\, and improve your resume. \n  \n  \n  \n 
URL:https://student.ilsceducation.com/event/resume-writing-tips/2025-05-26/
LOCATION:Toronto Campus\, 443 University Ave\, Toronto\, Ontario\, M5G 2H6
CATEGORIES:Greystone College Canada Activities,Greystone College Toronto Activities,ILSC Canada Activities,ILSC Toronto Activities
ATTACH;FMTTYPE=image/png:https://student.ilsceducation.com/wp-content/uploads/Resume-Writing-Dos-and-Donts.png
END:VEVENT
BEGIN:VEVENT
DTSTART;TZID=America/Vancouver:20250523T143000
DTEND;TZID=America/Vancouver:20250523T160000
DTSTAMP:20260420T213504
CREATED:20250710T161741Z
LAST-MODIFIED:20250710T161741Z
UID:10000661-1748010600-1748016000@student.ilsceducation.com
SUMMARY:Chinatown Tour
DESCRIPTION:Chinatown Tour with Tino\nReady for a new experience? Come along with Tino! Located between Spadina Avenue and Dundas Street West\, you’ll find Chinatown\, an open-air Asian market. Here you will find a variety of Chinese\, Vietnamese\, Thai and Japanese restaurants that range from dim sum and pho to modern fusion. You will not want to miss it!
URL:https://student.ilsceducation.com/event/chinatown-tour-2/
LOCATION:Toronto Campus\, 443 University Ave\, Toronto\, Ontario\, M5G 2H6
CATEGORIES:Greystone College Canada Activities,Greystone College Toronto Activities,ILSC Canada Activities,ILSC Toronto Activities
ATTACH;FMTTYPE=image/jpeg:https://student.ilsceducation.com/wp-content/uploads/chinatown-1.jpg
END:VEVENT
BEGIN:VEVENT
DTSTART;TZID=America/Vancouver:20250522T143000
DTEND;TZID=America/Vancouver:20250522T160000
DTSTAMP:20260420T213504
CREATED:20250806T190211Z
LAST-MODIFIED:20250918T193732Z
UID:10000738-1747924200-1747929600@student.ilsceducation.com
SUMMARY:Harbourfront Walk
DESCRIPTION:Harbourfront Walk with Tino\nTino will guide you along Lake Ontario\, where you’ll discover parks\, trails\, galleries\, theatres\, and a variety of ongoing events. \nDon’t miss a chance to see Toronto’s skyline!
URL:https://student.ilsceducation.com/event/harbourfront-walk-2/2025-05-22/
LOCATION:Toronto Campus\, 443 University Ave\, Toronto\, Ontario\, M5G 2H6
CATEGORIES:Greystone College Canada Activities,Greystone College Toronto Activities,ILSC Canada Activities,ILSC Toronto Activities
ATTACH;FMTTYPE=image/jpeg:https://student.ilsceducation.com/wp-content/uploads/Ahoy_3347331689-1-scaled.jpg
END:VEVENT
BEGIN:VEVENT
DTSTART;TZID=America/Vancouver:20250521T143000
DTEND;TZID=America/Vancouver:20250521T163000
DTSTAMP:20260420T213504
CREATED:20250515T134305Z
LAST-MODIFIED:20251120T214521Z
UID:10000388-1747837800-1747845000@student.ilsceducation.com
SUMMARY:Volunteer Workshop
DESCRIPTION:Join Colleen in the Volunteer Workshop! \nThis inspiring experience will show you what it means to be an active part of the community. Don’t miss the chance to meet new people and make a difference!
URL:https://student.ilsceducation.com/event/volunteer-workshop/2025-05-21/
LOCATION:Toronto Campus\, 443 University Ave\, Toronto\, Ontario\, M5G 2H6
CATEGORIES:Greystone College Canada Activities,Greystone College Toronto Activities,ILSC Canada Activities,ILSC Toronto Activities
ATTACH;FMTTYPE=image/png:https://student.ilsceducation.com/wp-content/uploads/volunteer-2055043_960_720.png
END:VEVENT
BEGIN:VEVENT
DTSTART;TZID=America/Vancouver:20250520T160000
DTEND;TZID=America/Vancouver:20250520T203000
DTSTAMP:20260420T213504
CREATED:20250515T131234Z
LAST-MODIFIED:20250515T132758Z
UID:10000387-1747756800-1747773000@student.ilsceducation.com
SUMMARY:Royal Ontario Museum
DESCRIPTION:FREE Night at the Royal Ontario Museum (ROM) ✨ \nHey students! Looking for a fun and totally free way to spend an evening in Toronto? Join us for a night at the ROM — explore fascinating exhibits\, world cultures\, and prehistoric creatures!! \nFree entry from 4 PM
URL:https://student.ilsceducation.com/event/royal-ontario-museum/
LOCATION:Ontario
CATEGORIES:Greystone College Canada Activities,Greystone College Toronto Activities,ILSC Canada Activities,ILSC Toronto Activities
ATTACH;FMTTYPE=image/jpeg:https://student.ilsceducation.com/wp-content/uploads/Royal_Ontario_Museum_in_Fall_2021.jpg
END:VEVENT
BEGIN:VEVENT
DTSTART;TZID=America/Vancouver:20250519T083000
DTEND;TZID=America/Vancouver:20250519T180000
DTSTAMP:20260420T213504
CREATED:20250515T130743Z
LAST-MODIFIED:20250515T132230Z
UID:10000386-1747643400-1747677600@student.ilsceducation.com
SUMMARY:Victoria Day
DESCRIPTION:Long weekend alert!  Greystone and ILSC Toronto will be closed on May 19. Enjoy your day off and make the most of the holiday!
URL:https://student.ilsceducation.com/event/victoria-day/
LOCATION:Toronto Campus\, 443 University Ave\, Toronto\, Ontario\, M5G 2H6
CATEGORIES:Greystone College Canada Activities,Greystone College Toronto Activities,ILSC Canada Activities,ILSC Toronto Activities
ATTACH;FMTTYPE=image/jpeg:https://student.ilsceducation.com/wp-content/uploads/Victoria-Day-2021.jpg
END:VEVENT
END:VCALENDAR