BEGIN:VCALENDAR
VERSION:2.0
PRODID:-//ILSC Greystone Student Connect - ECPv6.9.1//NONSGML v1.0//EN
CALSCALE:GREGORIAN
METHOD:PUBLISH
X-WR-CALNAME:ILSC Greystone Student Connect
X-ORIGINAL-URL:https://student.ilsceducation.com
X-WR-CALDESC:Events for ILSC Greystone Student Connect
REFRESH-INTERVAL;VALUE=DURATION:PT1H
X-Robots-Tag:noindex
X-PUBLISHED-TTL:PT1H
BEGIN:VTIMEZONE
TZID:America/Vancouver
BEGIN:DAYLIGHT
TZOFFSETFROM:-0800
TZOFFSETTO:-0700
TZNAME:PDT
DTSTART:20250309T100000
END:DAYLIGHT
BEGIN:STANDARD
TZOFFSETFROM:-0700
TZOFFSETTO:-0800
TZNAME:PST
DTSTART:20251102T090000
END:STANDARD
END:VTIMEZONE
BEGIN:VEVENT
DTSTART;TZID=America/Vancouver:20250523T080000
DTEND;TZID=America/Vancouver:20250523T170000
DTSTAMP:20260421T153804
CREATED:20250526T133421Z
LAST-MODIFIED:20250922T164534Z
UID:10000429-1747987200-1748019600@student.ilsceducation.com
SUMMARY:Journée Ping-Pong à l’école
DESCRIPTION:Prêt·e pour une petite compétition amicale? Attrape une raquette et rejoins-nous pour une journée de ping-pong pleine de fun ! Que tu sois pro ou débutant·e\, tout le monde est le bienvenu! \nReady for some friendly competition? Grab a paddle and join us for a fun day of ping pong! Whether you’re a pro or a beginner\, everyone’s welcome. \n 
URL:https://student.ilsceducation.com/event/ping-pong-day-montreal/2025-05-23/
LOCATION:Montreal Campus\, 550 Sherbrooke St W\, Montreal\, Quebec\, H3A 1B9\, Canada
CATEGORIES:Greystone College Canada Activities,Greystone College Montreal Activities,ILSC Canada Activities,ILSC Montreal Activities
ATTACH;FMTTYPE=image/jpeg:https://student.ilsceducation.com/wp-content/uploads/Screenshot_26-5-2025_95536_www.canva_.com_.jpeg
END:VEVENT
BEGIN:VEVENT
DTSTART;TZID=America/Vancouver:20250523T120000
DTEND;TZID=America/Vancouver:20250525T170000
DTSTAMP:20260421T153804
CREATED:20250526T205808Z
LAST-MODIFIED:20250530T154309Z
UID:10000447-1748001600-1748192400@student.ilsceducation.com
SUMMARY:Visit: Montreal Comic Arts Festival at Plateau-Mont-Royal
DESCRIPTION:Love comics\, art\, and stories? Explore this amazing outdoor festival featuring local and international comic artists! \nMore information on: MCAF • Montreal Comic Arts Festival \nTu aimes les bandes dessinées ? Ce festival en plein air rassemble des artistes locaux et internationaux pour célébrer la BD sous toutes ses formes! \nPlus d’informations sur: FBDM • Festival BD de Montréal
URL:https://student.ilsceducation.com/event/visit-montreal-comic-arts-festival-at-plateau-mont-royal/
LOCATION:British Columbia
CATEGORIES:ILSC Montreal Activities
ATTACH;FMTTYPE=image/jpeg:https://student.ilsceducation.com/wp-content/uploads/Screenshot_30-5-2025_112831_www.canva_.com_.jpeg
END:VEVENT
BEGIN:VEVENT
DTSTART;TZID=America/Vancouver:20250523T131000
DTEND;TZID=America/Vancouver:20250523T135500
DTSTAMP:20260421T153804
CREATED:20250514T192846Z
LAST-MODIFIED:20250514T192846Z
UID:10000375-1748005800-1748008500@student.ilsceducation.com
SUMMARY:Job Club
DESCRIPTION:Our free Job Club is here to guide you through every step of the job search process\, ensuring you have the skills and knowledge to succeed in the Canadian job market. Our comprehensive workshops cover all the essentials\, from identifying the right career path to acing your job interviews. \nSign up here https://forms.office.com/r/dgZP8GaeQz?origin=lprLink \n 
URL:https://student.ilsceducation.com/event/job-club/2025-05-23/
LOCATION:Vancouver Campus\, 1205 Melville St\, Vancouver\, British Columbia\, V6E 2S8\, Canada
CATEGORIES:Greystone College Canada Activities,Greystone College Vancouver Activities,ILSC Canada Activities,ILSC Vancouver Activities
ATTACH;FMTTYPE=image/jpeg:https://student.ilsceducation.com/wp-content/uploads/GettyImages-578161113-56b09cb25f9b58b7d0245fa0.jpg
END:VEVENT
BEGIN:VEVENT
DTSTART;TZID=America/Vancouver:20250523T143000
DTEND;TZID=America/Vancouver:20250523T160000
DTSTAMP:20260421T153804
CREATED:20250710T161741Z
LAST-MODIFIED:20250710T161741Z
UID:10000661-1748010600-1748016000@student.ilsceducation.com
SUMMARY:Chinatown Tour
DESCRIPTION:Chinatown Tour with Tino\nReady for a new experience? Come along with Tino! Located between Spadina Avenue and Dundas Street West\, you’ll find Chinatown\, an open-air Asian market. Here you will find a variety of Chinese\, Vietnamese\, Thai and Japanese restaurants that range from dim sum and pho to modern fusion. You will not want to miss it!
URL:https://student.ilsceducation.com/event/chinatown-tour-2/
LOCATION:Toronto Campus\, 443 University Ave\, Toronto\, Ontario\, M5G 2H6
CATEGORIES:Greystone College Canada Activities,Greystone College Toronto Activities,ILSC Canada Activities,ILSC Toronto Activities
ATTACH;FMTTYPE=image/jpeg:https://student.ilsceducation.com/wp-content/uploads/chinatown-1.jpg
END:VEVENT
END:VCALENDAR