BEGIN:VCALENDAR
VERSION:2.0
PRODID:-//ILSC Greystone Student Connect - ECPv6.9.1//NONSGML v1.0//EN
CALSCALE:GREGORIAN
METHOD:PUBLISH
X-WR-CALNAME:ILSC Greystone Student Connect
X-ORIGINAL-URL:https://student.ilsceducation.com
X-WR-CALDESC:Events for ILSC Greystone Student Connect
REFRESH-INTERVAL;VALUE=DURATION:PT1H
X-Robots-Tag:noindex
X-PUBLISHED-TTL:PT1H
BEGIN:VTIMEZONE
TZID:America/Vancouver
BEGIN:DAYLIGHT
TZOFFSETFROM:-0800
TZOFFSETTO:-0700
TZNAME:PDT
DTSTART:20250309T100000
END:DAYLIGHT
BEGIN:STANDARD
TZOFFSETFROM:-0700
TZOFFSETTO:-0800
TZNAME:PST
DTSTART:20251102T090000
END:STANDARD
END:VTIMEZONE
BEGIN:VEVENT
DTSTART;TZID=America/Vancouver:20250526T190000
DTEND;TZID=America/Vancouver:20250615T190000
DTSTAMP:20260421T044943
CREATED:20250526T211530Z
LAST-MODIFIED:20250526T211530Z
UID:10000448-1748286000-1750014000@student.ilsceducation.com
SUMMARY:St-Ambroise Montreal Fringe Festival
DESCRIPTION:Get ready for weird\, wild\, and wonderful shows! This festival is full of live performances\, music\, and creativity all around. \nMore information on: FringeMTL \nDes spectacles fous\, originaux et plein d’énergie t’attendent ! Théâtre\, humour\, musique et bien plus encore. \nPlus d’information sur: FringeMTL
URL:https://student.ilsceducation.com/event/st-ambroise-montreal-fringe-festival/
LOCATION:British Columbia
CATEGORIES:ILSC Montreal Activities
ATTACH;FMTTYPE=image/jpeg:https://student.ilsceducation.com/wp-content/uploads/Screenshot_26-5-2025_171126_www.canva_.com_.jpeg
END:VEVENT
BEGIN:VEVENT
DTSTART;TZID=America/Vancouver:20250527T080000
DTEND;TZID=America/Vancouver:20250527T170000
DTSTAMP:20260421T044943
CREATED:20250526T165036Z
LAST-MODIFIED:20250922T165911Z
UID:10000436-1748332800-1748365200@student.ilsceducation.com
SUMMARY:Café jeux de société à l'école
DESCRIPTION:Fais une pause\, joue à tes jeux de société préférés et partage un bon moment avec d’autres étudiant·e·s. Détente garantie! \nTake a break from studying and play your favorite board games with classmates. It’s the perfect way to relax and meet new friends! \n 
URL:https://student.ilsceducation.com/event/board-games-montreal/2025-05-27/
LOCATION:Montreal Campus\, 550 Sherbrooke St W\, Montreal\, Quebec\, H3A 1B9\, Canada
CATEGORIES:ILSC Montreal Activities
ATTACH;FMTTYPE=image/jpeg:https://student.ilsceducation.com/wp-content/uploads/4.jpg
END:VEVENT
BEGIN:VEVENT
DTSTART;TZID=America/Vancouver:20250527T143000
DTEND;TZID=America/Vancouver:20250527T170000
DTSTAMP:20260421T044943
CREATED:20250515T145000Z
LAST-MODIFIED:20250515T145000Z
UID:10000394-1748356200-1748365200@student.ilsceducation.com
SUMMARY:UNO Tournament
DESCRIPTION:UNO \nGrab your friends and join Afshin for an UNO Tournament. Get your competitive gears running. You’ll be able to play\, make friends\, and sharpen your card games’ skills. \nTake a breather from arduous days of studying.
URL:https://student.ilsceducation.com/event/uno-tournament/2025-05-27/
LOCATION:Toronto Campus\, 443 University Ave\, Toronto\, Ontario\, M5G 2H6
CATEGORIES:Greystone College Canada Activities,Greystone College Toronto Activities,ILSC Canada Activities,ILSC Toronto Activities
ATTACH;FMTTYPE=image/jpeg:https://student.ilsceducation.com/wp-content/uploads/uno.jpeg
END:VEVENT
BEGIN:VEVENT
DTSTART;TZID=America/Vancouver:20250527T153000
DTEND;TZID=America/Vancouver:20250527T170000
DTSTAMP:20260421T044943
CREATED:20250514T224409Z
LAST-MODIFIED:20250514T225341Z
UID:10000379-1748359800-1748365200@student.ilsceducation.com
SUMMARY:Paint And Sip
DESCRIPTION:Relax\, sip\, and let your creativity flow! Join us for a fun Paint & Sip session where you’ll have the chance to express yourself through art in a friendly and casual setting. No experience needed – this is all about enjoying the process and having a good time. \nWe’ll provide all the painting materials and a variety of non-alcoholic drinks like tea\, juice\, and soda. Come solo or bring a friend – it’s a great way to unwind and connect with others! \nAt 1205 Melville Campus 3:30pm
URL:https://student.ilsceducation.com/event/paint-and-sip/
LOCATION:Vancouver Campus\, 1205 Melville St\, Vancouver\, British Columbia\, V6E 2S8\, Canada
CATEGORIES:Greystone College Canada Activities,Greystone College Vancouver Activities,ILSC Canada Activities,ILSC Vancouver Activities
ATTACH;FMTTYPE=image/jpeg:https://student.ilsceducation.com/wp-content/uploads/about-painting-and-wine-classes.jpg
END:VEVENT
END:VCALENDAR