BEGIN:VCALENDAR
VERSION:2.0
PRODID:-//ILSC Greystone Student Connect - ECPv6.9.1//NONSGML v1.0//EN
CALSCALE:GREGORIAN
METHOD:PUBLISH
X-ORIGINAL-URL:https://student.ilsceducation.com
X-WR-CALDESC:Events for ILSC Greystone Student Connect
REFRESH-INTERVAL;VALUE=DURATION:PT1H
X-Robots-Tag:noindex
X-PUBLISHED-TTL:PT1H
BEGIN:VTIMEZONE
TZID:America/Vancouver
BEGIN:DAYLIGHT
TZOFFSETFROM:-0800
TZOFFSETTO:-0700
TZNAME:PDT
DTSTART:20250309T100000
END:DAYLIGHT
BEGIN:STANDARD
TZOFFSETFROM:-0700
TZOFFSETTO:-0800
TZNAME:PST
DTSTART:20251102T090000
END:STANDARD
END:VTIMEZONE
BEGIN:VEVENT
DTSTART;TZID=America/Vancouver:20250605T080000
DTEND;TZID=America/Vancouver:20250708T170000
DTSTAMP:20260421T141000
CREATED:20250530T172616Z
LAST-MODIFIED:20250530T172616Z
UID:10000460-1749110400-1751994000@student.ilsceducation.com
SUMMARY:YATAI MTL
DESCRIPTION:Japanese street food\, art\, fashion\, and vibes! Come enjoy this Tokyo-style experience in the heart of Montreal. \nMore information on: YATAI \nPlonge dans l’univers japonais avec de la street food\, de l’art\, de la mode et une ambiance Tokyo en plein cœur de Montréal ! \nPlus d’information sur: YATAI
URL:https://student.ilsceducation.com/event/yatai-mtl/
LOCATION:British Columbia
CATEGORIES:ILSC Montreal Activities
ATTACH;FMTTYPE=image/jpeg:https://student.ilsceducation.com/wp-content/uploads/Screenshot_30-5-2025_12545_www.canva_.com_.jpeg
END:VEVENT
BEGIN:VEVENT
DTSTART;TZID=America/Vancouver:20250704T130000
DTEND;TZID=America/Vancouver:20250704T140000
DTSTAMP:20260421T141000
CREATED:20250617T205712Z
LAST-MODIFIED:20250617T205712Z
UID:10000602-1751634000-1751637600@student.ilsceducation.com
SUMMARY:Job Club
DESCRIPTION:Step-by-step sessions for creating a targeted job application. These sessions would be more focused on helping students to choose careers\, evaluate job postings\, creating resume\, cover letter and interview preparation. Make sure to join all sessions to cover entire job search process.  \nPlace : Available at both options of in-person and online\nIn-person – Room 19 at 1205 Melville St \nRegister here\nhttps://forms.office.com/pages/responsepage.aspx?id=1orxjyM08EuJ05VjH42pJBZkLuA4XHhFlehbsmAhLt5UQ05VWktESFRSS0JQWExUSUhDOTJDUTJVTC4u&origin=lprLink&route=shorturl
URL:https://student.ilsceducation.com/event/job-club-2/2025-07-04/
LOCATION:Vancouver Campus\, 1205 Melville St\, Vancouver\, British Columbia\, V6E 2S8\, Canada
CATEGORIES:Greystone College Canada Activities,Greystone College Vancouver Activities,ILSC Canada Activities,ILSC Vancouver Activities
ATTACH;FMTTYPE=image/webp:https://student.ilsceducation.com/wp-content/uploads/3840x2744-scaled.webp
END:VEVENT
BEGIN:VEVENT
DTSTART;TZID=America/Vancouver:20250704T143000
DTEND;TZID=America/Vancouver:20250704T163000
DTSTAMP:20260421T141000
CREATED:20250611T194938Z
LAST-MODIFIED:20250818T152354Z
UID:10000584-1751639400-1751646600@student.ilsceducation.com
SUMMARY:Queen's Park
DESCRIPTION:Visit to Queen’s Park\nFred has planned a fun outing to the beautiful Queen’s Park! Bring some snacks to share\, hang out with friends\, meet new people\, and take in the relaxing scenery. \nCome along—you’re sure to enjoy a great afternoon outdoors!
URL:https://student.ilsceducation.com/event/queens-park-picnic-2/2025-07-04/
LOCATION:Toronto Campus\, 443 University Ave\, Toronto\, Ontario\, M5G 2H6
CATEGORIES:Greystone College Canada Activities,Greystone College Toronto Activities,ILSC Canada Activities,ILSC Toronto Activities
ATTACH;FMTTYPE=image/jpeg:https://student.ilsceducation.com/wp-content/uploads/1-2.jpg
END:VEVENT
BEGIN:VEVENT
DTSTART;TZID=America/Vancouver:20250704T153000
DTEND;TZID=America/Vancouver:20250704T170000
DTSTAMP:20260421T141000
CREATED:20250613T161518Z
LAST-MODIFIED:20250613T162434Z
UID:10000597-1751643000-1751648400@student.ilsceducation.com
SUMMARY:DIY Friendship Bracelet
DESCRIPTION:Join us in making friendship bracelets! Using colourful threads and beads\, you’ll learn simple knotting techniques to create your unique bracelet. \nIt’s a chance to get creative\, have fun\, and make something meaningful to share with your friends. \n  \nACTIVITY POLICY If you sign up for an activity and do not attend without cancelling at least 12 hours in advance\, a $2 penalty fee will apply. This helps us manage space and materials and ensure everyone has a fair chance to participate.
URL:https://student.ilsceducation.com/event/diy-friendship-bracelet/
LOCATION:Vancouver Campus\, 1205 Melville St\, Vancouver\, British Columbia\, V6E 2S8\, Canada
CATEGORIES:Greystone College Canada Activities,Greystone College Vancouver Activities,ILSC Canada Activities,ILSC Vancouver Activities
ATTACH;FMTTYPE=image/avif:https://student.ilsceducation.com/wp-content/uploads/2-taylor-swift-eras-friendship-bracelets-gettyimages-1576265811-66ad406140d16.avif
END:VEVENT
END:VCALENDAR