BEGIN:VCALENDAR
VERSION:2.0
PRODID:-//ILSC Greystone Student Connect - ECPv6.9.1//NONSGML v1.0//EN
CALSCALE:GREGORIAN
METHOD:PUBLISH
X-ORIGINAL-URL:https://student.ilsceducation.com
X-WR-CALDESC:Events for ILSC Greystone Student Connect
REFRESH-INTERVAL;VALUE=DURATION:PT1H
X-Robots-Tag:noindex
X-PUBLISHED-TTL:PT1H
BEGIN:VTIMEZONE
TZID:America/Vancouver
BEGIN:DAYLIGHT
TZOFFSETFROM:-0800
TZOFFSETTO:-0700
TZNAME:PDT
DTSTART:20250309T100000
END:DAYLIGHT
BEGIN:STANDARD
TZOFFSETFROM:-0700
TZOFFSETTO:-0800
TZNAME:PST
DTSTART:20251102T090000
END:STANDARD
END:VTIMEZONE
BEGIN:VEVENT
DTSTART;VALUE=DATE:20250829
DTEND;VALUE=DATE:20250830
DTSTAMP:20260419T233758
CREATED:20250724T203825Z
LAST-MODIFIED:20250922T153815Z
UID:10000822-1756454400-1756486800@student.ilsceducation.com
SUMMARY:Soiree TNT Karaoke Night
DESCRIPTION:Soirée Karaoké avec Jhony de TNT Tours!\nRejoignez-nous après les cours pour une soirée pleine de chant\, de rires et de bonne ambiance avec Jhony ! Que vous montiez sur scène ou que vous veniez simplement profiter du spectacle\, c’est l’occasion parfaite de vous détendre et de passer un bon moment entre amis. \nNote : Activité réservée aux étudiants de 18 ans et plus. \nKaraoke Night with Jhony from TNT Tours!\nJoin us after class for a fun night of singing\, laughter\, and good vibes with Jhony at Karaoke Night! Whether you’re hitting the mic or just there to enjoy the show\, it’s the perfect way to relax and have fun with friends. \nNote: Activity for students +18 years old
URL:https://student.ilsceducation.com/event/soiree-tnt-karaoke-night/2025-08-29/
LOCATION:Montreal Campus\, 550 Sherbrooke St W\, Montreal\, Quebec\, H3A 1B9\, Canada
CATEGORIES:Greystone College Canada Activities,Greystone College Montreal Activities,ILSC Canada Activities,ILSC Montreal Activities
ATTACH;FMTTYPE=image/jpeg:https://student.ilsceducation.com/wp-content/uploads/karaoke-1.jpg
END:VEVENT
BEGIN:VEVENT
DTSTART;TZID=America/Vancouver:20250829T143000
DTEND;TZID=America/Vancouver:20250829T160000
DTSTAMP:20260419T233758
CREATED:20250710T151625Z
LAST-MODIFIED:20250818T150052Z
UID:10000800-1756477800-1756483200@student.ilsceducation.com
SUMMARY:Yorkville Tour
DESCRIPTION:Explore Toronto with Fred\nIf architecture\, history\, and evolution of cityscapes piques your interest\, we have a few suggestions for embarking on your own walking tour of the Bloor-Yorkville area. Fashionable Yorkville is a top destination for affluent shoppers at its high-end boutiques\, galleries and design studios.
URL:https://student.ilsceducation.com/event/yorkville-tour-2/2025-08-29/
LOCATION:Toronto Campus\, 443 University Ave\, Toronto\, Ontario\, M5G 2H6
CATEGORIES:Greystone College Canada Activities,Greystone College Toronto Activities,ILSC Canada Activities,ILSC Toronto Activities
ATTACH;FMTTYPE=image/jpeg:https://student.ilsceducation.com/wp-content/uploads/yorkville-toronto.jpg
END:VEVENT
BEGIN:VEVENT
DTSTART;TZID=America/Vancouver:20250829T143000
DTEND;TZID=America/Vancouver:20250829T160000
DTSTAMP:20260419T233758
CREATED:20251210T155521Z
LAST-MODIFIED:20251210T155521Z
UID:10001828-1756477800-1756483200@student.ilsceducation.com
SUMMARY:Yorkville Holiday Light Magic
DESCRIPTION:Explore Toronto with Fred!\nJoin us for a festive walk through the Bloor–Yorkville area!Enjoy beautiful holiday lights while Fred shares fun insights about the neighbourhood’s architecture\, history\, and evolution. \nA perfect chance to explore\, learn\, and enjoy Toronto’s holiday charm. \nSee you there!
URL:https://student.ilsceducation.com/event/yorkville-holiday-light-magic/2025-08-29/
LOCATION:Toronto Campus\, 443 University Ave\, Toronto\, Ontario\, M5G 2H6
CATEGORIES:Greystone College Canada Activities,Greystone College Toronto Activities,ILSC Canada Activities,ILSC Toronto Activities
ATTACH;FMTTYPE=image/jpeg:https://student.ilsceducation.com/wp-content/uploads/yorkville_lights_IMG_6115.jpg
END:VEVENT
END:VCALENDAR