BEGIN:VCALENDAR
VERSION:2.0
PRODID:-//ILSC Greystone Student Connect - ECPv6.9.1//NONSGML v1.0//EN
CALSCALE:GREGORIAN
METHOD:PUBLISH
X-WR-CALNAME:ILSC Greystone Student Connect
X-ORIGINAL-URL:https://student.ilsceducation.com
X-WR-CALDESC:Events for ILSC Greystone Student Connect
REFRESH-INTERVAL;VALUE=DURATION:PT1H
X-Robots-Tag:noindex
X-PUBLISHED-TTL:PT1H
BEGIN:VTIMEZONE
TZID:Australia/Brisbane
BEGIN:STANDARD
TZOFFSETFROM:+1000
TZOFFSETTO:+1000
TZNAME:AEST
DTSTART:20260101T000000
END:STANDARD
END:VTIMEZONE
BEGIN:VEVENT
DTSTART;VALUE=DATE:20260114
DTEND;VALUE=DATE:20260115
DTSTAMP:20260424T001443
CREATED:20260112T231106Z
LAST-MODIFIED:20260112T234023Z
UID:10001895-1768348800-1768435199@student.ilsceducation.com
SUMMARY:HELLO Fun with IELTS
DESCRIPTION:Practice IELTS skills without the stress!\nThis interactive session uses presentation and mini-activities to help you get familiar with common IELTS question types for speaking\, reading\, and listening — all in a supportive\, relaxed environment.\n______________________________________________________________ \nActivity details\nWho: All HELLO Students\nWhen: Wednesday\, 14 January 2026\nSCHEDULE 1: 11:45 am – 12:00 pm (Toronto UTC-5) \n\nJoin Fun with IELTS with teacher Wanderley\n\nUse the Time zone converter to find your local time.\n_______________________________________________________________ \nAny Questions?\nContact us at Academic.Hello@ilsceducation.com\nSee you there!
URL:https://student.ilsceducation.com/event/hello-fun-with-ielts/
CATEGORIES:ILSC HELLO Activities
ATTACH;FMTTYPE=image/webp:https://student.ilsceducation.com/wp-content/uploads/166438_00_2x.webp
END:VEVENT
BEGIN:VEVENT
DTSTART;VALUE=DATE:20260114
DTEND;VALUE=DATE:20260115
DTSTAMP:20260424T001443
CREATED:20260112T231001Z
LAST-MODIFIED:20260112T233442Z
UID:10001894-1768348800-1768435199@student.ilsceducation.com
SUMMARY:HELLO Cinema Lab
DESCRIPTION:Go beyond just watching!\nIn Cinema Lab\, you’ll learn how to analyse films and talk about them confidently using practical tools like character development\, plot structure\, and narrative voice — all while improving your English.\n___________________________________________________________________________________________________________________ \nEvent details\nWho: All HELLO Students\nWhen: Wednesday\, 14 January 2026\nSCHEDULE 2: 8:45 am – 9:45 am (Brisbane UTC+10) \n\nJoin Cinema Lab with teacher Juan\n\nUse the Time zone converter to find your local time.\n____________________________________________________________\nAny Questions? Contact us at Academic.Hello@ilsceducation.com\nSee you there!\nILSC HELLO
URL:https://student.ilsceducation.com/event/hello-cinema-lab/
CATEGORIES:ILSC HELLO Activities
ATTACH;FMTTYPE=image/jpeg:https://student.ilsceducation.com/wp-content/uploads/21857-movie-discussion-group-at-the-st-matthews-library.jpg
END:VEVENT
BEGIN:VEVENT
DTSTART;VALUE=DATE:20260121
DTEND;VALUE=DATE:20260122
DTSTAMP:20260424T001443
CREATED:20260115T231505Z
LAST-MODIFIED:20260115T231706Z
UID:10001900-1768953600-1769039999@student.ilsceducation.com
SUMMARY:HELLO - Explain it Simply
DESCRIPTION:Have a great idea but struggle to explain it?\nLearn practical strategies to explain ideas clearly in English\, improve your message structure\, and speak with confidence — perfect for class\, work\, and everyday conversations.\n_______________________________________________________________ \nActivity details\nWho: All HELLO Students\nWhen: Wednesday\, 21 January 2026\nSCHEDULE 1: 11:45 am – 12:45 pm (Toronto UTC-5) \n\nJoin Explain it Simply with teacher Matthew\n\nUse the Time zone converter to find your local time.\n_______________________________________________________________ \nAny Questions?\nContact us at Academic.Hello@ilsceducation.com\nSee you there!
URL:https://student.ilsceducation.com/event/hello-explain-it-simply/
CATEGORIES:ILSC HELLO Activities
ATTACH;FMTTYPE=image/png:https://student.ilsceducation.com/wp-content/uploads/1692714887314.png
END:VEVENT
BEGIN:VEVENT
DTSTART;VALUE=DATE:20260128
DTEND;VALUE=DATE:20260129
DTSTAMP:20260424T001443
CREATED:20260127T005025Z
LAST-MODIFIED:20260127T005955Z
UID:10001938-1769558400-1769644799@student.ilsceducation.com
SUMMARY:HELLO Fun with Dialects
DESCRIPTION:From accents to expressions!\nJoin this interactive class to listen\, compare\, and practise English as it’s spoken around the world — perfect for boosting your listening skills and cultural awareness.\n___________________________________________________________________________________________________________________ \nEvent details\nWho: All HELLO Students\nWhen: Wednesday\, 28 January 2026\nSCHEDULE 2: 8:45 am – 9:45 am (Brisbane UTC+10) \n\nJoin Fun with Dialects with teacher Luiza\n\nUse the Time zone converter to find your local time.\n____________________________________________________________\nAny Questions? Contact us at Academic.Hello@ilsceducation.com\nSee you there!\nILSC HELLO
URL:https://student.ilsceducation.com/event/hello-fun-with-dialects/
CATEGORIES:ILSC HELLO Activities
ATTACH;FMTTYPE=image/jpeg:https://student.ilsceducation.com/wp-content/uploads/Communication-Bubbles-English-Dialects-AdobeStock_114408589.jpeg
END:VEVENT
END:VCALENDAR