BEGIN:VCALENDAR
VERSION:2.0
PRODID:-//ILSC Greystone Student Connect - ECPv6.9.1//NONSGML v1.0//EN
CALSCALE:GREGORIAN
METHOD:PUBLISH
X-ORIGINAL-URL:https://student.ilsceducation.com
X-WR-CALDESC:Events for ILSC Greystone Student Connect
REFRESH-INTERVAL;VALUE=DURATION:PT1H
X-Robots-Tag:noindex
X-PUBLISHED-TTL:PT1H
BEGIN:VTIMEZONE
TZID:Australia/Brisbane
BEGIN:STANDARD
TZOFFSETFROM:+1000
TZOFFSETTO:+1000
TZNAME:AEST
DTSTART:20250101T000000
END:STANDARD
END:VTIMEZONE
BEGIN:VEVENT
DTSTART;VALUE=DATE:20250820
DTEND;VALUE=DATE:20250821
DTSTAMP:20260422T160310
CREATED:20250809T001939Z
LAST-MODIFIED:20250905T023754Z
UID:10000760-1755648000-1755734399@student.ilsceducation.com
SUMMARY:HELLO Presentation Skills
DESCRIPTION:Speak with Confidence!\nWant to make your presentations clear\, engaging\, and memorable?\nJoin our Presentation Skills session to learn practical tips for speaking in public\, structuring your ideas\, and keeping your audience interested. Perfect for class projects\, job interviews\, and real-life situations! \n\nActivity details\nWho:\nAll Students \nWhen: \nSchedule 1 \nDate: Wednesday\, 20th August 2025\nTime: 12:45 pm (Toronto UTC-4) \nSchedule 2 \nDate: Wednesday\, 20th August 2025\nTime: 8:45 am (Brisbane UTC+10) \nRegistration form link: Session 9 Registration Form \nHow:  \nLink to join Schedule 1: Presentation Skills – Schedule 1 \nLink to join Schedule 2: Presentation Skills – Schedule 2 \nAny Questions? \nContact us at Academic.Hello@ilsceducation.com
URL:https://student.ilsceducation.com/event/presentation-skills/
CATEGORIES:ILSC HELLO Activities
ATTACH;FMTTYPE=image/webp:https://student.ilsceducation.com/wp-content/uploads/0003-public-speaking-podium-ppt-template-1.webp
END:VEVENT
END:VCALENDAR