BEGIN:VCALENDAR
VERSION:2.0
PRODID:-//ILSC Greystone Student Connect - ECPv6.9.1//NONSGML v1.0//EN
CALSCALE:GREGORIAN
METHOD:PUBLISH
X-ORIGINAL-URL:https://student.ilsceducation.com
X-WR-CALDESC:Events for ILSC Greystone Student Connect
REFRESH-INTERVAL;VALUE=DURATION:PT1H
X-Robots-Tag:noindex
X-PUBLISHED-TTL:PT1H
BEGIN:VTIMEZONE
TZID:Australia/Brisbane
BEGIN:STANDARD
TZOFFSETFROM:+1000
TZOFFSETTO:+1000
TZNAME:AEST
DTSTART:20260101T000000
END:STANDARD
END:VTIMEZONE
BEGIN:VEVENT
DTSTART;VALUE=DATE:20260128
DTEND;VALUE=DATE:20260129
DTSTAMP:20260425T204027
CREATED:20260127T005025Z
LAST-MODIFIED:20260127T005955Z
UID:10001938-1769558400-1769644799@student.ilsceducation.com
SUMMARY:HELLO Fun with Dialects
DESCRIPTION:From accents to expressions!\nJoin this interactive class to listen\, compare\, and practise English as it’s spoken around the world — perfect for boosting your listening skills and cultural awareness.\n___________________________________________________________________________________________________________________ \nEvent details\nWho: All HELLO Students\nWhen: Wednesday\, 28 January 2026\nSCHEDULE 2: 8:45 am – 9:45 am (Brisbane UTC+10) \n\nJoin Fun with Dialects with teacher Luiza\n\nUse the Time zone converter to find your local time.\n____________________________________________________________\nAny Questions? Contact us at Academic.Hello@ilsceducation.com\nSee you there!\nILSC HELLO
URL:https://student.ilsceducation.com/event/hello-fun-with-dialects/
CATEGORIES:ILSC HELLO Activities
ATTACH;FMTTYPE=image/jpeg:https://student.ilsceducation.com/wp-content/uploads/Communication-Bubbles-English-Dialects-AdobeStock_114408589.jpeg
END:VEVENT
END:VCALENDAR