BEGIN:VCALENDAR
VERSION:2.0
PRODID:-//ILSC Greystone Student Connect - ECPv6.9.1//NONSGML v1.0//EN
CALSCALE:GREGORIAN
METHOD:PUBLISH
X-ORIGINAL-URL:https://student.ilsceducation.com
X-WR-CALDESC:Events for ILSC Greystone Student Connect
REFRESH-INTERVAL;VALUE=DURATION:PT1H
X-Robots-Tag:noindex
X-PUBLISHED-TTL:PT1H
BEGIN:VTIMEZONE
TZID:Australia/Brisbane
BEGIN:STANDARD
TZOFFSETFROM:+1000
TZOFFSETTO:+1000
TZNAME:AEST
DTSTART:20260101T000000
END:STANDARD
END:VTIMEZONE
BEGIN:VEVENT
DTSTART;VALUE=DATE:20260304
DTEND;VALUE=DATE:20260305
DTSTAMP:20260423T131826
CREATED:20260113T000525Z
LAST-MODIFIED:20260218T162453Z
UID:10001897-1772582400-1772668799@student.ilsceducation.com
SUMMARY:HELLO English Through Cooking
DESCRIPTION:Cook. Learn. Speak!\nThis practical session helps you learn the English you need in the kitchen\, including ingredients\, actions\, and recipe steps — perfect for everyday life and real conversations.\n___________________________________________________________________________________________________________________ \nEvent details\nWho: All HELLO Students\nWhen: Wednesday\, 4 March 2026\nSCHEDULE 2: 8:45 am – 9:45 am (Brisbane UTC+10) \n\nJoin English Through Cooking with teacher Luiza\n\nUse the Time zone converter to find your local time.\n____________________________________________________________\nAny Questions? Contact us at Academic.Hello@ilsceducation.com\nSee you there!\nILSC HELLO
URL:https://student.ilsceducation.com/event/hello-english-through-cooking/
CATEGORIES:ILSC HELLO Activities
ATTACH;FMTTYPE=image/jpeg:https://student.ilsceducation.com/wp-content/uploads/cropped.jpg
END:VEVENT
BEGIN:VEVENT
DTSTART;VALUE=DATE:20260304
DTEND;VALUE=DATE:20260305
DTSTAMP:20260423T131826
CREATED:20260209T035641Z
LAST-MODIFIED:20260218T162155Z
UID:10001967-1772582400-1772668799@student.ilsceducation.com
SUMMARY:Workshop: How Music Moves Us
DESCRIPTION:Listen\, feel\, and express yourself in English.\n  \nHow Music Moves Us explores the powerful connection between music\, emotions\, and communication. In this interactive session\, students discuss how different songs\, rhythms\, and lyrics make us feel\, while building listening\, speaking\, and vocabulary skills in a relaxed and engaging way.\n______________________________________________________________ \nActivity details\nWho: All HELLO Students\nWhen: Wednesday\, 4 March 2026\nSCHEDULE 1: 11:45 am – 12:40 pm (Toronto UTC-5) \n\nJoin How Music Moves Us Workshop with teacher David\n\nUse the Time zone converter to find your local time.\n_______________________________________________________________ \nAny Questions?\nContact us at Academic.Hello@ilsceducation.com\nSee you there!
URL:https://student.ilsceducation.com/event/how-music-moves-us/
CATEGORIES:ILSC HELLO Activities
ATTACH;FMTTYPE=image/jpeg:https://student.ilsceducation.com/wp-content/uploads/Music-1110x739-1.jpg
ORGANIZER;CN="ILSC Hello Activity Coordinator":MAILTO:activities.hello@ilsceducation.com
END:VEVENT
END:VCALENDAR