BEGIN:VCALENDAR
VERSION:2.0
PRODID:-//ILSC Greystone Student Connect - ECPv6.9.1//NONSGML v1.0//EN
CALSCALE:GREGORIAN
METHOD:PUBLISH
X-ORIGINAL-URL:https://student.ilsceducation.com
X-WR-CALDESC:Events for ILSC Greystone Student Connect
REFRESH-INTERVAL;VALUE=DURATION:PT1H
X-Robots-Tag:noindex
X-PUBLISHED-TTL:PT1H
BEGIN:VTIMEZONE
TZID:America/Toronto
BEGIN:DAYLIGHT
TZOFFSETFROM:-0500
TZOFFSETTO:-0400
TZNAME:EDT
DTSTART:20260308T070000
END:DAYLIGHT
BEGIN:STANDARD
TZOFFSETFROM:-0400
TZOFFSETTO:-0500
TZNAME:EST
DTSTART:20261101T060000
END:STANDARD
TZID:Australia/Brisbane
BEGIN:STANDARD
TZOFFSETFROM:+1000
TZOFFSETTO:+1000
TZNAME:AEST
DTSTART:20260101T000000
END:STANDARD
END:VTIMEZONE
BEGIN:VEVENT
DTSTART;VALUE=DATE:20260513
DTEND;VALUE=DATE:20260514
DTSTAMP:20260423T135840
CREATED:20251207T154020Z
LAST-MODIFIED:20260414T202306Z
UID:10001817-1778630400-1778716799@student.ilsceducation.com
SUMMARY:HELLO English Through Netflix
DESCRIPTION:Improve your English while watching your favourite shows!\nJoin us for a fun\, interactive session where we learn vocabulary\, expressions\, and pronunciation using short Netflix clips.\nWatch\, discuss\, and practise speaking in a relaxed\, social atmosphere.\nPerfect for all levels!\n________________________________________________________________________________________________________________________ \nEvent details\nWho: All HELLO Students\nWhen: Wednesday\, 13 May 2026\nSCHEDULE 1: 12:45 pm – 1:45 pm (Toronto UTC-4) \n\nJoin HELLO English Through Netflix with teacher Yashi\n\nUse the Time zone converter to find your local time.\n____________________________________________________________\nAny Questions? Contact us at Academic.Hello@ilsceducation.com\nSee you there!\nILSC HELLO
URL:https://student.ilsceducation.com/event/hello-english-through-netflix/
CATEGORIES:ILSC HELLO Activities
ATTACH;FMTTYPE=image/webp:https://student.ilsceducation.com/wp-content/uploads/netflix-2.webp
END:VEVENT
BEGIN:VEVENT
DTSTART;VALUE=DATE:20260513
DTEND;VALUE=DATE:20260514
DTSTAMP:20260423T135840
CREATED:20260414T203757Z
LAST-MODIFIED:20260414T204546Z
UID:10002160-1778630400-1778716799@student.ilsceducation.com
SUMMARY:HELLO International Etiquette & Cultural Differences
DESCRIPTION:English to Communicate with Confidence Across Cultures!\nBuild your confidence in English while learning how to communicate across cultures. In this session\, you will practise real-life situations and explore cultural etiquette\, helping you interact more naturally and respectfully when traveling or meeting people from different backgrounds.\nThrough role-plays and interactive activities\, you will practise speaking\, expand useful vocabulary\, and adapt your communication style in a fun and supportive environment. Suitable for all levels!\n___________________________________________________________________________________________________________________ \nEvent details\nWho: All HELLO Students\nWhen: Wednesday\, 13 May 2026\nSCHEDULE 2: 8:45 am – 9:45 am (Brisbane UTC+10) \n\nJoin English International Etiquette & Cultural Differences with teacher Claire\n\nUse the Time zone converter to find your local time.\n____________________________________________________________\nAny Questions? Contact us at Academic.Hello@ilsceducation.com\nSee you there!\nILSC HELLO
URL:https://student.ilsceducation.com/event/hello-international-etiquette-cultural-differences/
CATEGORIES:ILSC HELLO Activities
ATTACH;FMTTYPE=image/jpeg:https://student.ilsceducation.com/wp-content/uploads/common-business-customs-in-vietnam.jpg
END:VEVENT
BEGIN:VEVENT
DTSTART;VALUE=DATE:20260514
DTEND;VALUE=DATE:20260515
DTSTAMP:20260423T135840
CREATED:20251006T214703Z
LAST-MODIFIED:20260420T141125Z
UID:10001348-1778716800-1778803199@student.ilsceducation.com
SUMMARY:HELLO Job Club Series - Job Interviews
DESCRIPTION:Got a job interview coming up?\nJoin us to learn how to make a great impression and answer common interview questions with confidence!\nYou’ll learn:\n\nWhat to say (and what not to say!) in an interview\nHow to introduce yourself professionally\nTips for answering difficult questions\nCommon interview vocabulary and expressions\n\nPractise real interview questions and get feedback to help you sound natural and confident!\nEvent details\nWho: All HELLO Students\nWhen: Thursday\, 14 May 2026\nHow: Choose the schedule that best suits you and click on the link to join:\nSCHEDULE 1: 12:45 pm – 1:45 pm (Toronto UTC-4) \n\nLink to join Schedule 1\n\nSCHEDULE 2: 8:45 am – 9:45 am (Brisbane UTC+10) \n\nLink to join Schedule 2\n\nPlease use the Time zone converter to find your local time.\n____________________________________________________________ \nAny Questions? Contact us at Academic.Hello@ilsceducation.com\nSee you there!\nILSC HELLO
URL:https://student.ilsceducation.com/event/hello-job-club-series-job-interviews/
CATEGORIES:ILSC HELLO Activities
ATTACH;FMTTYPE=image/jpeg:https://student.ilsceducation.com/wp-content/uploads/Letz-Create-Interview-Tips-1080x675-1.jpg
END:VEVENT
BEGIN:VEVENT
DTSTART;VALUE=DATE:20260515
DTEND;VALUE=DATE:20260516
DTSTAMP:20260423T135840
CREATED:20260414T211249Z
LAST-MODIFIED:20260420T141852Z
UID:10002198-1778803200-1778889599@student.ilsceducation.com
SUMMARY:HELLO Easy Starts - Workshop
DESCRIPTION:Build strong foundations in English with confidence\nOur Easy Starts Beginner Language Clinics are designed especially for complete beginners. In these interactive workshops\, students practise essential English skills in a supportive\, low-pressure environment.\n\n✅ Basic vocabulary and everyday expressions\n✅ Simple grammar made easy\n✅ Speaking and listening practice\n✅ Clear explanations\, lots of encouragement\nPerfect for students taking their first steps in English and wanting extra practice beyond the classroom.\nFriendly. Supportive. Effective.\nStart your English journey the easy way!\n\n__________________________________________________________________________________\nWho: B1/B2 level HELLO students \nWhen: \nWeek 1 – Friday\, 24 April 2026 \nWeek 2 – Friday\, 01 May 2026 \nWeek 3 – Friday\, 8 May \nWeek 4 – Friday\, 15 May \nHow: Click on the links below to JOIN the meeting in your current Timetable: \nSCHEDULE 1: \n12:30 PM – 1:00 PM (Toronto UTC-4) \n\n Join Schedule 1 Workshop here\n\nSCHEDULE 2: \n9:30 AM – 10:00 AM (Brisbane UTC+10) \n\n Join the Schedule 2 Workshop here\n\nUse the Time zone converter to find your local time.\n__________________________________________________________________________________________ \nAny questions?\nContact us at Academic.Hello@ilsceducation.com\nLooking forward to seeing you there!\nILSC HELLO
URL:https://student.ilsceducation.com/event/hello-easy-starts-workshop-2/2026-05-15/
CATEGORIES:ILSC HELLO Activities
ATTACH;FMTTYPE=image/webp:https://student.ilsceducation.com/wp-content/uploads/7454886-scaled.jpg.webp
END:VEVENT
END:VCALENDAR