BEGIN:VCALENDAR
VERSION:2.0
PRODID:-//ILSC Greystone Student Connect - ECPv6.9.1//NONSGML v1.0//EN
CALSCALE:GREGORIAN
METHOD:PUBLISH
X-ORIGINAL-URL:https://student.ilsceducation.com
X-WR-CALDESC:Events for ILSC Greystone Student Connect
REFRESH-INTERVAL;VALUE=DURATION:PT1H
X-Robots-Tag:noindex
X-PUBLISHED-TTL:PT1H
BEGIN:VTIMEZONE
TZID:Europe/Dublin
BEGIN:DAYLIGHT
TZOFFSETFROM:+0000
TZOFFSETTO:+0100
TZNAME:IST
DTSTART:20260329T010000
END:DAYLIGHT
BEGIN:STANDARD
TZOFFSETFROM:+0100
TZOFFSETTO:+0000
TZNAME:GMT
DTSTART:20261025T010000
END:STANDARD
END:VTIMEZONE
BEGIN:VEVENT
DTSTART;TZID=Europe/Dublin:20260423T130000
DTEND;TZID=Europe/Dublin:20260423T133000
DTSTAMP:20260420T135902
CREATED:20260420T161154Z
LAST-MODIFIED:20260420T164131Z
UID:10002202-1776949200-1776951000@student.ilsceducation.com
SUMMARY:VOLUNTEERING SESSION with Iryna
DESCRIPTION:Learn how volunteering helps your CV and English skills.
URL:https://student.ilsceducation.com/event/volunteering-session-with-iryna/2026-04-23/1/
LOCATION:Dublin Campus\, 4 Swift's Alley\, The Liberties\,\, Dublin\, 8\, Ireland
CATEGORIES:ILSC Dublin Activities
ATTACH;FMTTYPE=image/jpeg:https://student.ilsceducation.com/wp-content/uploads/1000_F_392671656_3BQhqxAx26xFApHmJwx2p3FZ0X9HyVLr.jpg
END:VEVENT
BEGIN:VEVENT
DTSTART;TZID=Europe/Dublin:20260423T170000
DTEND;TZID=Europe/Dublin:20260423T173000
DTSTAMP:20260420T135902
CREATED:20260420T161154Z
LAST-MODIFIED:20260420T164131Z
UID:10002203-1776963600-1776965400@student.ilsceducation.com
SUMMARY:VOLUNTEERING SESSION with Iryna
DESCRIPTION:Learn how volunteering helps your CV and English skills.
URL:https://student.ilsceducation.com/event/volunteering-session-with-iryna/2026-04-23/2/
LOCATION:Dublin Campus\, 4 Swift's Alley\, The Liberties\,\, Dublin\, 8\, Ireland
CATEGORIES:ILSC Dublin Activities
ATTACH;FMTTYPE=image/jpeg:https://student.ilsceducation.com/wp-content/uploads/1000_F_392671656_3BQhqxAx26xFApHmJwx2p3FZ0X9HyVLr.jpg
END:VEVENT
BEGIN:VEVENT
DTSTART;TZID=Europe/Dublin:20260512T130000
DTEND;TZID=Europe/Dublin:20260512T133000
DTSTAMP:20260420T135902
CREATED:20260420T161154Z
LAST-MODIFIED:20260420T164131Z
UID:10002206-1778590800-1778592600@student.ilsceducation.com
SUMMARY:VOLUNTEERING SESSION with Iryna
DESCRIPTION:Learn how volunteering helps your CV and English skills.
URL:https://student.ilsceducation.com/event/volunteering-session-with-iryna/2026-05-12/1/
LOCATION:Dublin Campus\, 4 Swift's Alley\, The Liberties\,\, Dublin\, 8\, Ireland
CATEGORIES:ILSC Dublin Activities
ATTACH;FMTTYPE=image/jpeg:https://student.ilsceducation.com/wp-content/uploads/1000_F_392671656_3BQhqxAx26xFApHmJwx2p3FZ0X9HyVLr.jpg
END:VEVENT
BEGIN:VEVENT
DTSTART;TZID=Europe/Dublin:20260512T170000
DTEND;TZID=Europe/Dublin:20260512T173000
DTSTAMP:20260420T135902
CREATED:20260420T161154Z
LAST-MODIFIED:20260420T164131Z
UID:10002207-1778605200-1778607000@student.ilsceducation.com
SUMMARY:VOLUNTEERING SESSION with Iryna
DESCRIPTION:Learn how volunteering helps your CV and English skills.
URL:https://student.ilsceducation.com/event/volunteering-session-with-iryna/2026-05-12/2/
LOCATION:Dublin Campus\, 4 Swift's Alley\, The Liberties\,\, Dublin\, 8\, Ireland
CATEGORIES:ILSC Dublin Activities
ATTACH;FMTTYPE=image/jpeg:https://student.ilsceducation.com/wp-content/uploads/1000_F_392671656_3BQhqxAx26xFApHmJwx2p3FZ0X9HyVLr.jpg
END:VEVENT
END:VCALENDAR