BEGIN:VCALENDAR
VERSION:2.0
PRODID:-//ILSC Greystone Student Connect - ECPv6.9.1//NONSGML v1.0//EN
CALSCALE:GREGORIAN
METHOD:PUBLISH
X-ORIGINAL-URL:https://student.ilsceducation.com
X-WR-CALDESC:Events for ILSC Greystone Student Connect
REFRESH-INTERVAL;VALUE=DURATION:PT1H
X-Robots-Tag:noindex
X-PUBLISHED-TTL:PT1H
BEGIN:VTIMEZONE
TZID:Europe/Dublin
BEGIN:DAYLIGHT
TZOFFSETFROM:+0000
TZOFFSETTO:+0100
TZNAME:IST
DTSTART:20260329T010000
END:DAYLIGHT
BEGIN:STANDARD
TZOFFSETFROM:+0100
TZOFFSETTO:+0000
TZNAME:GMT
DTSTART:20261025T010000
END:STANDARD
END:VTIMEZONE
BEGIN:VEVENT
DTSTART;TZID=Europe/Dublin:20260409T090000
DTEND;TZID=Europe/Dublin:20260409T170000
DTSTAMP:20260422T222028
CREATED:20260327T135611Z
LAST-MODIFIED:20260327T135611Z
UID:10002134-1775725200-1775754000@student.ilsceducation.com
SUMMARY:Easter Scavenger Hunt
DESCRIPTION:Join us for a fun and interactive Easter Scavenger Hunt! Work in teams to follow clues\, solve challenges\, and explore your surroundings while practising your English. \nThis activity encourages communication\, teamwork\, and problem-solving in a lively and festive atmosphere. You’ll use English naturally as you read clues\, give directions\, and complete tasks together.
URL:https://student.ilsceducation.com/event/easter-scavenger-hunt/
LOCATION:Dún Laoghaire\, Dublin\, Ireland
CATEGORIES:ILSC Dublin Activities
ATTACH;FMTTYPE=image/webp:https://student.ilsceducation.com/wp-content/uploads/easter-egg-hunt.webp
END:VEVENT
END:VCALENDAR