BEGIN:VCALENDAR
VERSION:2.0
PRODID:-//ILSC Greystone Student Connect - ECPv6.9.1//NONSGML v1.0//EN
CALSCALE:GREGORIAN
METHOD:PUBLISH
X-WR-CALNAME:ILSC Greystone Student Connect
X-ORIGINAL-URL:https://student.ilsceducation.com
X-WR-CALDESC:Events for ILSC Greystone Student Connect
REFRESH-INTERVAL;VALUE=DURATION:PT1H
X-Robots-Tag:noindex
X-PUBLISHED-TTL:PT1H
BEGIN:VTIMEZONE
TZID:Europe/Dublin
BEGIN:DAYLIGHT
TZOFFSETFROM:+0000
TZOFFSETTO:+0100
TZNAME:IST
DTSTART:20260329T010000
END:DAYLIGHT
BEGIN:STANDARD
TZOFFSETFROM:+0100
TZOFFSETTO:+0000
TZNAME:GMT
DTSTART:20261025T010000
END:STANDARD
END:VTIMEZONE
BEGIN:VEVENT
DTSTART;TZID=Europe/Dublin:20260411T110000
DTEND;TZID=Europe/Dublin:20260411T130000
DTSTAMP:20260419T073526
CREATED:20260327T171838Z
LAST-MODIFIED:20260327T171952Z
UID:10002135-1775905200-1775912400@student.ilsceducation.com
SUMMARY:STEPS THAT OPEN DOORS
DESCRIPTION:Join us for a 5K charity walk in Phoenix Park and make a difference while enjoying the outdoors! This activity combines fitness\, community\, and a meaningful cause\, giving you the chance to support charity while staying active. \nDonations are welcome and help support a great cause. \nMEETING 11:00 AM @ the main  entrance (Chesterfield Av and Conyngham Rd) \n  \n  \n 
URL:https://student.ilsceducation.com/event/steps-that-open-doors/
LOCATION:Phoneix Park\, Chesterfield Av and Conyngham Rd.\, Dublin\, Dublin\, Ireland
CATEGORIES:ILSC Dublin Activities
ATTACH;FMTTYPE=image/jpeg:https://student.ilsceducation.com/wp-content/uploads/Walking.jpg
END:VEVENT
END:VCALENDAR